Workbook

Sheet PANEL DE CONTROL DISTRITAL
A1: INSTITUTO NACIONAL ELECTORAL SISTEMA DE GESTIÓN DE LA CALIDAD ESTADO DE MÉXICO
M2: Fecha de corte: dd/mm/aaaa | Q2: Version: 0
A4: TABLERO DE CONTROL DISTRITAL DE PROCESOS SUSTANTIVOS DEL SISTEMA DE GESTIÓN DE LA CALIDAD
A5: CAMPAÑA ANUAL INTENSA 2024 CAMPAÑA ESPECIAL DE ACTUALIZACIÓN PARA EL PROCESO ELECTORAL EXTRAORDINARIO (CEAPEE) 2024-2025
A6: Número | B6: PROCESOS SUSTANTIVOS E INDICADORES | I6: % AVANCE REGISTRADO | K6: % AVANCE REGISTRADO | M6: % AVANCE REGISTRADO | O6: % AVANCE REGISTRADO | Q6: % AVANCE REGISTRADO | S6: % AVANCE REGISTRADO | U6: % AVANCE REGISTRADO | W6: % AVANCE REGISTRADO | Y6: % AVANCE REGISTRADO | AA6: % AVANCE REGISTRADO | AC6: % AVANCE REGISTRADO | AE6: % AVANCE REGISTRADO | AG6: % AVANCE REGISTRADO | AI6: % AVANCE REGISTRADO | AK6: % AVANCE REGISTRADO | AM6: % AVANCE REGISTRADO | AO6: % AVANCE REGISTRADO | AQ6: % AVANCE REGISTRADO | AS6: % AVANCE REGISTRADO | AU6: % AVANCE REGISTRADO | AW6: % AVANCE REGISTRADO | AY6: % AVANCE REGISTRADO | BA6: % AVANCE REGISTRADO | BC6: % AVANCE REGISTRADO | BE6: % AVANCE REGISTRADO | BG6: % AVANCE REGISTRADO | BI6: % AVANCE REGISTRADO | BK6: % AVANCE REGISTRADO | BM6: % AVANCE REGISTRADO | BO6: % AVANCE REGISTRADO | BQ6: % AVANCE REGISTRADO | BS6: % AVANCE REGISTRADO | BU6: % AVANCE REGISTRADO | BW6: % AVANCE REGISTRADO | BY6: % AVANCE REGISTRADO | CA6: % AVANCE REGISTRADO | CC6: % AVANCE REGISTRADO | CE6: % AVANCE REGISTRADO | CG6: % AVANCE REGISTRADO | CI6: % AVANCE REGISTRADO | CK6: % AVANCE REGISTRADO
B7: DESCRIPCIÓN | E7: MEDICIÓN
B8: Proceso | C8: Dueño de Proceso | D8: Indicador | E8: Cálculo | F8: Periodo | G8: Estimado | H8: Nominativo | I8: Distrito 01 | K8: Distrito 02 | M8: Distrito 03 | O8: Distrito 04 | Q8: Distrito 05 | S8: Distrito 06 | U8: Distrito 07 | W8: Distrito 08 | Y8: Distrito 09 | AA8: Distrito 10 | AC8: Distrito 11 | AE8: Distrito 12 | AG8: Distrito 13 | AI8: Distrito 14 | AK8: Distrito 15 | AM8: Distrito 16 | AO8: Distrito 17 | AQ8: Distrito 18 | AS8: Distrito 19 | AU8: Distrito 20 | AW8: Distrito 21 | AY8: Distrito 22 | BA8: Distrito 23 | BC8: Distrito 24 | BE8: Distrito 25 | BG8: Distrito 26 | BI8: Distrito 27 | BK8: Distrito 28 | BM8: Distrito 29 | BO8: Distrito 30 | BQ8: Distrito 31 | BS8: Distrito 32 | BU8: Distrito 33 | BW8: Distrito 34 | BY8: Distrito 35 | CA8: Distrito 36 | CC8: Distrito 37 | CE8: Distrito 38 | CG8: Distrito 39 | CI8: Distrito 40 | CK8: Estatal
A9: 1 | B9: ENTREVISTA | C9: Auxiliar de Atención Ciudadana | D9: Fichas requisitadas correctamente= | E9: (Fichas requisitadas correctamente / Fichas revisadas en la muestra del 10%) x 100 | F9: Semanal (remesa) | G9: 0.9 | H9: Fichas requistadas correctamente | I9: =AVERAGE('150151'!BC10:BC11,'150152'!BC10:BC11,'150153'!BC10:BC11) -> 1 | K9: =AVERAGE('150251'!BC10:BC11,'150253'!BC10:BC11) -> 0.99564797 | M9: =AVERAGE('150351'!BC10:BC11,'150352'!BC10:BC11,'150353'!BC10:BC11) -> 1 | O9: =AVERAGE('150451'!BC10:BC11) -> 0.98875074 | Q9: =AVERAGE('150551'!BC10:BC11) -> 1 | S9: =AVERAGE('150651'!BC10:BC11,'150652'!BC10:BC11) -> 0.98425736 | U9: =AVERAGE('150751'!BC10:BC11) -> 1 | W9: =AVERAGE('150851'!BC10:BC11) -> 1 | Y9: =AVERAGE('150951'!BC10:BC11,'150952'!BC10:BC11,'150953'!BC10:BC11,'150954'!BC10:BC11) -> 1 | AA9: =AVERAGE('151051'!BC10:BC11) -> 1 | AC9: =AVERAGE('151151'!BC10:BC11) -> 1 | AE9: =AVERAGE('151251'!BC10:BC11,'151252'!BC10:BC11,'151253'!BC10:BC11) -> 1 | AG9: =AVERAGE('151351'!BC10:BC11) -> 0.9917231 | AI9: =AVERAGE('151452'!BC10:BC11,'151453'!BC10:BC11) -> 1 | AK9: =AVERAGE('151551'!BC10:BC11) -> 1 | AM9: =AVERAGE('151651'!BC10:BC11,'151652'!BC10:BC11) -> 1 | AO9: =AVERAGE('151751'!BC10:BC11) -> 1 | AQ9: =AVERAGE('151851'!BC10:BC11,'151852'!BC10:BC11,'151853'!BC10:BC11) -> 0.99884759 | AS9: =AVERAGE('151951'!BC10:BC11,'151952'!BC10:BC11) -> 1 | AU9: =AVERAGE('152052'!BC10:BC11,'152053'!BC10:BC11,'152054'!BC10:BC11) -> 1 | AW9: =AVERAGE('152151'!BC10:BC11,'152152'!BB10:BB11) -> 1 | AY9: =AVERAGE('152251'!BC10:BC11,'152252'!BC10:BC11) -> 0.98247804 | BA9: =AVERAGE('152351'!BC10:BC11,'152352'!BC10:BC11,'152353'!BC10:BC11) -> 1 | BC9: =AVERAGE('152451'!BC10:BC11) -> 1 | BE9: =AVERAGE('152451'!BC10:BC11) -> 1 | BG9: =AVERAGE('152651'!BC10:BC11) -> 1 | BI9: =AVERAGE('152751'!BC10:BC11,'152752'!BC10:BC11,'152753'!BC10:BC11) -> 0.99328666 | BK9: =AVERAGE('152851'!BC10:BC11,'152853'!BC11:BC12) -> 1 | BM9: =AVERAGE('152951'!BC10:BC11) -> 1 | BO9: =AVERAGE('153051'!BC10:BC11,'153052'!BC10:BC11) -> 1 | BQ9: =AVERAGE('153151'!AI10:AI11) -> 1 | BS9: =AVERAGE('153251'!AI10:AI11) -> 1 | BU9: =AVERAGE('153351'!AI10:AI11) -> 1 | BW9: =AVERAGE('153451'!AI10:AI11) -> 1 | BY9: =AVERAGE('153551'!AI10:AI11,'153552'!AI10:AI11,'153553'!AI10:AI11) -> 1 | CA9: =AVERAGE('153651'!AI10:AI11,'153652'!AI10:AI11,'153653'!AI10:AI11,'153654'!AI10:AI11) -> 1 | CC9: =AVERAGE('153753'!AI10:AI11,'153752'!AI10:AI11) -> 0.98063047 | CE9: =AVERAGE('153851'!AI10:AI11,'153852'!AI10:AI11) -> 1 | CG9: =AVERAGE('153951'!AI10:AI11) -> 1 | CI9: =AVERAGE('154051'!AI10:AI11,'154052'!AI10:AI11,'154053'!AJ10:AJ11) -> 1 | CK9: =AVERAGE(I9,K9,M9,O9,Q9,S9,U9,W9,Y9,AA9,AC9,AE9,AG9,AI9,AK9,AM9,AO9,AQ9,AS9,AU9,AW9,AY9,BA9,BC9,BE9,BG9,BI9,BK9,BM9,BO9,BQ9,BS9,BU9,BW9,BY9,CA9,CC9,CE9,CG9,CI9) -> 0.99789055
H10: Fichas revisadas en la muestra del 10%
A12: 2 | B12: TRÁMITE | C12: Operador de Equipo Tecnológico | D12: Trámites exitosos efectivos= | E12: (Número de trámites exitosos / Número de trámites aplicados) x 100 | F12: Semanal (remesa) | G12: 0.9 | H12: Número de trámites exitosos | I12: =AVERAGE('150151'!BC13:BC14,'150152'!BC13:BC14,'150153'!BC13:BC14) -> 0.99819838 | K12: =AVERAGE('150251'!BC13:BC14,'150253'!BC13:BC14) -> 0.99740189 | M12: =AVERAGE('150351'!BC13:BC14,'150352'!BC13:BC14,'150353'!BC13:BC14) -> 0.99817886 | O12: =AVERAGE('150451'!BC13:BC14) -> 0.99833302 | Q12: =AVERAGE('150551'!BC13:BC14) -> 0.99450738 | S12: =AVERAGE('150651'!BC13:BC14,'150652'!BC13:BC14) -> 1.0022714 | U12: =AVERAGE('150751'!BC13:BC14) -> 0.97113131 | W12: =AVERAGE('150851'!BC13:BC14) -> 0.99765258 | Y12: =AVERAGE('150951'!BC13:BC14,'150952'!BC13:BC14,'150953'!BC13:BC14,'150954'!BC13:BC14) -> 0.99534168 | AA12: =AVERAGE('151051'!BC13:BC14) -> 0.99543686 | AC12: =AVERAGE('151151'!BC13:BC14) -> 0.99682559 | AE12: =AVERAGE('151251'!BC13:BC14,'151252'!BC13:BC14) -> 0.99626708 | AG12: =AVERAGE('151351'!BC13:BC14) -> 0.99389463 | AI12: =AVERAGE('151452'!BC13:BC14,'151453'!BC13:BC14) -> 0.99756996 | AK12: =AVERAGE('151551'!BC13:BC14) -> 0.99686671 | AM12: =AVERAGE('151651'!BC13:BC14,'151652'!BC13:BC14) -> 0.99764028 | AO12: =AVERAGE('151751'!BC13:BC14) -> 0.99539922 | AQ12: =AVERAGE('151851'!BC13:BC14,'151852'!BC13:BC14,'151853'!BC13:BC14) -> 0.99639461 | AS12: =AVERAGE('151951'!BC13:BC14,'151952'!BC13:BC14) -> 0.99306995 | AU12: =AVERAGE('152052'!BC13:BC14,'152053'!BC13:BC14,'152054'!BC13:BC14) -> 0.99325213 | AW12: =AVERAGE('152151'!BC13:BC14,'152152'!BB13:BB14) -> 0.99647343 | AY12: =AVERAGE('152251'!BC13:BC14,'152252'!BC13:BC14) -> 0.99636868 | BA12: =AVERAGE('152351'!BC13:BC14,'152352'!BC13:BC14,'152353'!BC13:BC14) -> 0.99324121 | BC12: =AVERAGE('152451'!BC13:BC14) -> 1 | BE12: =AVERAGE('152451'!BC13:BC14) -> 1 | BG12: =AVERAGE('152651'!BC13:BC14) -> 0.99854824 | BI12: =AVERAGE('152751'!BC13:BC14,'152752'!BC13:BC14,'152753'!BC13:BC14) -> 0.99814271 | BK12: =AVERAGE('152851'!BC13:BC14,'152853'!BC14:BC15) -> 0.99770392 | BM12: =AVERAGE('152951'!BC13:BC14) -> 0.99040607 | BO12: =AVERAGE('153051'!BC13:BC14,'153052'!BC13:BC14) -> 0.99179516 | BQ12: =AVERAGE('153151'!AI13:AI14) -> 0.99582696 | BS12: =AVERAGE('153251'!AI13:AI14) -> 0.99578432 | BU12: =AVERAGE('153351'!AI13:AI14) -> 0.99705717 | BW12: =AVERAGE('153451'!AI13:AI14) -> 0.99769132 | BY12: =AVERAGE('153551'!AI13:AI14,'153552'!AI13:AI14,'153553'!AI13:AI14) -> 0.99589857 | CA12: =AVERAGE('153651'!AI13:AI14,'153652'!AI13:AI14,'153653'!AI13:AI14,'153654'!AI13:AI14) -> 0.99297914 | CC12: =AVERAGE('153753'!AI13:AI14,'153752'!AI13:AI14) -> 0.98407089 | CE12: =AVERAGE('153851'!AI13:AI14,'153852'!AI13:AI14) -> 0.9958394 | CG12: =AVERAGE('153951'!AI13:AI14) -> 0.9967744 | CI12: =AVERAGE('154051'!AI13:AI14,'154052'!AI13:AI14,'154053'!AJ13:AJ14) -> 0.99822216 | CK12: =AVERAGE(I12,K12,M12,O12,Q12,S12,U12,W12,Y12,AA12,AC12,AE12,AG12,AI12,AK12,AM12,AO12,AQ12,AS12,AU12,AW12,AY12,BA12,BC12,BE12,BG12,BI12,BK12,BM12,BO12,BQ12,BS12,BU12,BW12,BY12,CA12,CC12,CE12,CG12,CI12) -> 0.99546143
H13: Número de trámites aplicados
A15: 3 | B15: TRANSFERENCIA DE LA INFORMACIÓN | C15: Responsable de Módulo | D15: Reenvíos exitosos = | E15: (Ejecución de los scripts de reenvío de notificaciones/Solicitud de reenvíos de scripts requeridos) x100 | F15: Semanal (remesa) | G15: 1 | H15: Ejecución de los scripts de reenvío de notificaciones | I15: =AVERAGE('150151'!BC16:BC17,'150152'!BC16:BC17,'150153'!BC16:BC17) -> 1 | K15: =AVERAGE('150251'!BC16:BC17,'150253'!BC16:BC17) -> 1 | M15: =AVERAGE('150351'!BC16:BC17,'150352'!BC16:BC17,'150353'!BC16:BC17) -> 1 | O15: =AVERAGE('150451'!BC16:BC17) -> 1 | Q15: =AVERAGE('150551'!BC16:BC17) -> 1 | S15: =AVERAGE('150651'!BC16:BC17,'150652'!BC16:BC17) -> 1 | U15: =AVERAGE('150751'!BC16:BC17) -> 1 | W15: =AVERAGE('150851'!BC16:BC17) -> 1 | Y15: =AVERAGE('150951'!BC16:BC17,'150952'!BC16:BC17,'150953'!BC16:BC17,'150954'!BC16:BC17) -> 1 | AA15: =AVERAGE('151051'!BC16:BC17) -> 1 | AC15: =AVERAGE('151151'!BC16:BC17) -> 1 | AE15: =AVERAGE('151251'!BC16:BC17,'151252'!BC16:BC17) -> 1 | AG15: =AVERAGE('151351'!BC16:BC17) -> 1 | AI15: =AVERAGE('151452'!BC16:BC17,'151453'!BC16:BC17) -> 1 | AK15: =AVERAGE('151551'!BC16:BC17) -> 1 | AM15: =AVERAGE('151651'!BC16:BC17,'151652'!BC16:BC17) -> 1 | AO15: =AVERAGE('151751'!BC16:BC17) -> 1 | AQ15: =AVERAGE('151851'!BC16:BC17,'151852'!BC16:BC17,'151853'!BC16:BC17) -> 1 | AS15: =AVERAGE('151951'!BC16:BC17,'151952'!BC16:BC17) -> 1 | AU15: =AVERAGE('152052'!BC16:BC17,'152053'!BC16:BC17,'152054'!BC16:BC17) -> 1 | AW15: =AVERAGE('152151'!BC16:BC17,'152152'!BB16:BB17) -> 1 | AY15: =AVERAGE('152251'!BC16:BC17,'152252'!BC16:BC17) -> 1 | BA15: =AVERAGE('152351'!BC16:BC17,'152352'!BC16:BC17,'152353'!BC16:BC17) -> 1 | BC15: =AVERAGE('152451'!BC16:BC17) -> 1 | BE15: =AVERAGE('152451'!BC16:BC17) -> 1 | BG15: =AVERAGE('152651'!BC16:BC17) -> 1 | BI15: =AVERAGE('152751'!BC16:BC17,'152752'!BC16:BC17,'152753'!BC16:BC17) -> 1 | BK15: =AVERAGE('152851'!BC16:BC17,'152853'!BC17:BC18) -> 1 | BM15: =AVERAGE('152951'!BC16:BC17) -> 1 | BO15: =AVERAGE('153051'!BC16:BC17,'153052'!BC16:BC17) -> 1 | BQ15: =AVERAGE('153151'!AI16:AI17) -> 1 | BS15: =AVERAGE('153251'!AI16:AI17) -> 1 | BU15: =AVERAGE('153351'!AI16:AI17) -> 1 | BW15: =AVERAGE('153451'!AI16:AI17) -> 1 | BY15: =AVERAGE('153551'!AI16:AI17,'153552'!AI16:AI17,'153553'!AI16:AI17) -> 1 | CA15: =AVERAGE('153651'!AI16:AI17,'153652'!AI16:AI17,'153653'!AI16:AI17,'153654'!AI16:AI17) -> 1 | CC15: =AVERAGE('153753'!AI16:AI17,'153752'!AI16:AI17) -> 1 | CE15: =AVERAGE('153851'!AI16:AI17,'153852'!AI16:AI17) -> 1 | CG15: =AVERAGE('153951'!AI16:AI17) -> 1 | CI15: =AVERAGE('154051'!AI16:AI17,'154052'!AI16:AI17,'154053'!AJ16:AJ17) -> 1 | CK15: =AVERAGE(I15,K15,M15,O15,Q15,S15,U15,W15,Y15,AA15,AC15,AE15,AG15,AI15,AK15,AM15,AO15,AQ15,AS15,AU15,AW15,AY15,BA15,BC15,BE15,BG15,BI15,BK15,BM15,BO15,BQ15,BS15,BU15,BW15,BY15,CA15,CC15,CE15,CG15,CI15) -> 1
H16: Solicitud de reevíos de scripts requeridos
A18: 4 | B18: CONCILIACIÓN DE CREDENCIALES PARA VOTAR | C18: Responsable de Módulo | D18: Credenciales disponibles para entrega = | E18: [(Credenciales recibidas - credenciales inconsistentes) / Credenciales recibidas] x 100 | F18: Semanal (remesa) | G18: 0.9 | H18: Credenciales Recibidas - Credenciales inconsistentes | I18: =AVERAGE('150151'!BC19:BC20,'150152'!BC19:BC20,'150153'!BC19:BC20) -> 1 | K18: =AVERAGE('150251'!BC19:BC20,'150253'!BC19:BC20) -> 1 | M18: =AVERAGE('150351'!BC19:BC20,'150352'!BC19:BC20,'150353'!BC19:BC20) -> 1 | O18: =AVERAGE('150451'!BC19:BC20) -> 1 | Q18: =AVERAGE('150551'!BC19:BC20) -> 1 | S18: =AVERAGE('150651'!BC19:BC20,'150652'!BC19:BC20) -> 1 | U18: =AVERAGE('150751'!BC19:BC20) -> 1 | W18: =AVERAGE('150851'!BC19:BC20) -> 1 | Y18: =AVERAGE('150951'!BC19:BC20,'150952'!BC19:BC20,'150953'!BC19:BC20,'150954'!BC19:BC20) -> 1 | AA18: =AVERAGE('151051'!BC19:BC20) -> 1 | AC18: =AVERAGE('151151'!BC19:BC20) -> 1 | AE18: =AVERAGE('151251'!BC19:BC20,'151252'!BC19:BC20) -> 1.0001157 | AG18: =AVERAGE('151351'!BC19:BC20) -> 1 | AI18: =AVERAGE('151452'!BC19:BC20,'151453'!BC19:BC20) -> 1 | AK18: =AVERAGE('151551'!BC19:BC20) -> 1 | AM18: =AVERAGE('151651'!BC19:BC20,'151652'!BC19:BC20) -> 1 | AO18: =AVERAGE('151751'!BC19:BC20) -> 1 | AQ18: =AVERAGE('151851'!BC19:BC20,'151852'!BC19:BC20,'151853'!BC19:BC20) -> 1 | AS18: =AVERAGE('151951'!BC19:BC20,'151952'!BC19:BC20) -> 1 | AU18: =AVERAGE('152052'!BC19:BC20,'152053'!BC19:BC20,'152054'!BC19:BC20) -> 1 | AW18: =AVERAGE('152151'!BC19:BC20,'152152'!BB19:BB20) -> 1 | AY18: =AVERAGE('152251'!BC19:BC20,'152252'!BC19:BC20) -> 1 | BA18: =AVERAGE('152351'!BC19:BC20,'152352'!BC19:BC20,'152353'!BC19:BC20) -> 1 | BC18: =AVERAGE('152451'!BC19:BC20) -> 1 | BE18: =AVERAGE('152451'!BC19:BC20) -> 1 | BG18: =AVERAGE('152651'!BC19:BC20) -> 1 | BI18: =AVERAGE('152751'!BC19:BC20,'152752'!BC19:BC20,'152753'!BC19:BC20) -> 1 | BK18: =AVERAGE('152851'!BC19:BC20,'152853'!BC20:BC21) -> 1 | BM18: =AVERAGE('152951'!BC19:BC20) -> 1 | BO18: =AVERAGE('153051'!BC19:BC20,'153052'!BC19:BC20) -> 1 | BQ18: =AVERAGE('153151'!AI19:AI20) -> 1 | BS18: =AVERAGE('153251'!AI19:AI20) -> 1 | BU18: =AVERAGE('153351'!AI19:AI20) -> 1 | BW18: =AVERAGE('153451'!AI19:AI20) -> 1 | BY18: =AVERAGE('153551'!AI19:AI20,'153552'!AI19:AI20,'153553'!AI19:AI20) -> 1 | CA18: =AVERAGE('153651'!AI19:AI20,'153652'!AI19:AI20,'153653'!AI19:AI20,'153654'!AI19:AI20) -> 1 | CC18: =AVERAGE('153753'!AI19:AI20,'153752'!AI19:AI20) -> 1 | CE18: =AVERAGE('153851'!AI19:AI20,'153852'!AI19:AI20) -> 1 | CG18: =AVERAGE('153951'!AI19:AI20) -> 1 | CI18: =AVERAGE('154051'!AI19:AI20,'154052'!AI19:AI20,'154053'!AJ19:AJ20) -> 1 | CK18: =AVERAGE(I18,K18,M18,O18,Q18,S18,U18,W18,Y18,AA18,AC18,AE18,AG18,AI18,AK18,AM18,AO18,AQ18,AS18,AU18,AW18,AY18,BA18,BC18,BE18,BG18,BI18,BK18,BM18,BO18,BQ18,BS18,BU18,BW18,BY18,CA18,CC18,CE18,CG18,CI18) -> 1.0000029
H19: Credenciales recibidas
A21: 5 | B21: CONCILIACIÓN DE CREDENCIALES PARA VOTAR | C21: Responsable de Módulo | D21: Arqueo de Credenciales = | E21: (Credenciales disponibles (físicas)/ Credenciales disponibles registradas en SIIRFE) x 100 | F21: Semanal (remesa) | G21: 1 | H21: Credenciales disponibles (físicas) | I21: =AVERAGE('150151'!BC22:BC23,'150152'!BC22:BC23,'150153'!BC22:BC23) -> 1 | K21: =AVERAGE('150251'!BC22:BC23,'150253'!BC22:BC23) -> 1 | M21: =AVERAGE('150351'!BC22:BC23,'150352'!BC22:BC23,'150353'!BC22:BC23) -> 1 | O21: =AVERAGE('150451'!BC22:BC23) -> 1 | Q21: =AVERAGE('150551'!BC22:BC23) -> 1 | S21: =AVERAGE('150651'!BC22:BC23,'150652'!BC22:BC23) -> 1 | U21: =AVERAGE('150751'!BC22:BC23) -> 1 | W21: =AVERAGE('150851'!BC22:BC23) -> 1 | Y21: =AVERAGE('150951'!BC22:BC23,'150952'!BC22:BC23,'150953'!BC22:BC23,'150954'!BC22:BC23) -> 1 | AA21: =AVERAGE('151051'!BC22:BC23) -> 1 | AC21: =AVERAGE('151151'!BC22:BC23) -> 1 | AE21: =AVERAGE('151251'!BC22:BC23,'151252'!BC22:BC23) -> 1 | AG21: =AVERAGE('151351'!BC22:BC23) -> 1 | AI21: =AVERAGE('151452'!BC22:BC23,'151453'!BC22:BC23) -> 1 | AK21: =AVERAGE('151551'!BC22:BC23) -> 1 | AM21: =AVERAGE('151651'!BC22:BC23,'151652'!BC22:BC23) -> 1 | AO21: =AVERAGE('151751'!BC22:BC23) -> 1 | AQ21: =AVERAGE('151851'!BC22:BC23,'151852'!BC22:BC23,'151853'!BC22:BC23) -> 1 | AS21: =AVERAGE('151951'!BC22:BC23,'151952'!BC22:BC23) -> 1 | AU21: =AVERAGE('152052'!BC22:BC23,'152053'!BC22:BC23,'152054'!BC22:BC23) -> 1 | AW21: =AVERAGE('152151'!BC22:BC23,'152152'!BB22:BB23) -> 1 | AY21: =AVERAGE('152251'!BC22:BC23,'152252'!BC22:BC23) -> 1 | BA21: =AVERAGE('152351'!BC22:BC23,'152352'!BC22:BC23,'152353'!BC22:BC23) -> 1 | BC21: =AVERAGE('152451'!BC22:BC23) -> 1 | BE21: =AVERAGE('152451'!BC22:BC23) -> 1 | BG21: =AVERAGE('152651'!BC22:BC23) -> 1 | BI21: =AVERAGE('152751'!BC22:BC23,'152752'!BC22:BC23,'152753'!BC22:BC23) -> 1 | BK21: =AVERAGE('152851'!BC22:BC23,'152853'!BC23:BC24) -> 1 | BM21: =AVERAGE('152951'!BC22:BC23) -> 1 | BO21: =AVERAGE('153051'!BC22:BC23,'153052'!BC22:BC23) -> 1 | BQ21: =AVERAGE('153151'!AI22:AI23) -> 1 | BS21: =AVERAGE('153251'!AI22:AI23) -> 1 | BU21: =AVERAGE('153351'!AI22:AI23) -> 1 | BW21: =AVERAGE('153451'!AI22:AI23) -> 1 | BY21: =AVERAGE('153551'!AI22:AI23,'153552'!AI22:AI23,'153553'!AI22:AI23) -> 1 | CA21: =AVERAGE('153651'!AI22:AI23,'153652'!AI22:AI23,'153653'!AI22:AI23,'153654'!AI22:AI23) -> 1 | CC21: =AVERAGE('153753'!AI22:AI23,'153752'!AI22:AI23) -> 1 | CE21: =AVERAGE('153851'!AI22:AI23,'153852'!AI22:AI23) -> 1 | CG21: =AVERAGE('153951'!AI22:AI23) -> 1 | CI21: =AVERAGE('154051'!AI22:AI23,'154052'!AI22:AI23,'154053'!AJ22:AJ23) -> 1 | CK21: =AVERAGE(I21,K21,M21,O21,Q21,S21,U21,W21,Y21,AA21,AC21,AE21,AG21,AI21,AK21,AM21,AO21,AQ21,AS21,AU21,AW21,AY21,BA21,BC21,BE21,BG21,BI21,BK21,BM21,BO21,BQ21,BS21,BU21,BW21,BY21,CA21,CC21,CE21,CG21,CI21) -> 1
H22: Credenciales disponibles registradas en SIIRFE
A24: 6 | B24: ENTREGA DE LA CREDENCIAL PARA VOTAR | C24: Operador de Equipo Tecnológico | D24: Efectividad de entrega de CPV en MAC = | E24: (Total de credenciales entregadas / Total de ciudadanas y ciudadanos que acuden al MAC a recoger su credencial) x 100 | F24: Semanal (remesa) | G24: 0.9 | H24: Total de credenciales entregadas | I24: =AVERAGE('150151'!BC25:BC26,'150152'!BC25:BC26,'150153'!BC25:BC26) -> 1 | K24: =AVERAGE('150251'!BC25:BC26,'150253'!BC25:BC26) -> 0.99894449 | M24: =AVERAGE('150351'!BC25:BC26,'150352'!BC25:BC26,'150353'!BC25:BC26) -> 0.99960788 | O24: =AVERAGE('150451'!BC25:BC26) -> 0.99987854 | Q24: =AVERAGE('150551'!BC25:BC26) -> 0.99942994 | S24: =AVERAGE('150651'!BC25:BC26,'150652'!BC25:BC26) -> 0.99979391 | U24: =AVERAGE('150751'!BC25:BC26) -> 0.99987938 | W24: =AVERAGE('150851'!BC25:BC26) -> 0.99881983 | Y24: =AVERAGE('150951'!BC25:BC26,'150952'!BC25:BC26,'150953'!BC25:BC26,'150954'!BC25:BC26) -> 0.99967543 | AA24: =AVERAGE('151051'!BC25:BC26) -> 1 | AC24: =AVERAGE('151151'!BC25:BC26) -> 0.99988171 | AE24: =AVERAGE('151251'!BC25:BC26,'151252'!BC25:BC26) -> 1 | AG24: =AVERAGE('151351'!BC25:BC26) -> 0.99909632 | AI24: =AVERAGE('151452'!BC25:BC26,'151453'!BC25:BC26) -> 1 | AK24: =AVERAGE('151551'!BC25:BC26) -> 1 | AM24: =AVERAGE('151651'!BC25:BC26,'151652'!BC25:BC26) -> 1.0000893 | AO24: =AVERAGE('151751'!BC25:BC26) -> 1 | AQ24: =AVERAGE('151851'!BC25:BC26,'151852'!BC25:BC26,'151853'!BC25:BC26) -> 0.99976317 | AS24: =AVERAGE('151951'!BC25:BC26,'151952'!BC25:BC26) -> 1 | AU24: =AVERAGE('152052'!BC25:BC26,'152053'!BC25:BC26,'152054'!BC25:BC26) -> 1.0000159 | AW24: =AVERAGE('152151'!BC25:BC26,'152152'!BB25:BB26) -> 0.9997747 | AY24: =AVERAGE('152251'!BC25:BC26,'152252'!BC25:BC26) -> 0.99830208 | BA24: =AVERAGE('152351'!BC25:BC26,'152352'!BC25:BC26,'152353'!BC25:BC26) -> 0.99756162 | BC24: =AVERAGE('152451'!BC25:BC26) -> 1 | BE24: =AVERAGE('152451'!BC25:BC26) -> 1 | BG24: =AVERAGE('152651'!BC25:BC26) -> 1 | BI24: =AVERAGE('152751'!BC25:BC26,'152752'!BC25:BC26,'152753'!BC25:BC26) -> 0.99909648 | BK24: =AVERAGE('152851'!BC25:BC26,'152853'!BC26:BC27) -> 0.99977548 | BM24: =AVERAGE('152951'!BC25:BC26) -> 0.99991065 | BO24: =AVERAGE('153051'!BC25:BC26,'153052'!BC25:BC26) -> 0.99948183 | BQ24: =AVERAGE('153151'!AI25:AI26) -> 1 | BS24: =AVERAGE('153251'!AI25:AI26) -> 1 | BU24: =AVERAGE('153351'!AI25:AI26) -> 1 | BW24: =AVERAGE('153451'!AI25:AI26) -> 0.99912675 | BY24: =AVERAGE('153551'!AI25:AI26,'153552'!AI25:AI26,'153553'!AI25:AI26) -> 1 | CA24: =AVERAGE('153651'!AI25:AI26,'153652'!AI25:AI26,'153653'!AI25:AI26,'153654'!AI25:AI26) -> 1 | CC24: =AVERAGE('153753'!AI25:AI26,'153752'!AI25:AI26) -> 0.99919354 | CE24: =AVERAGE('153851'!AI25:AI26,'153852'!AI25:AI26) -> 1 | CG24: =AVERAGE('153951'!AI25:AI26) -> 1 | CI24: =AVERAGE('154051'!AI25:AI26,'154052'!AI25:AI26,'154053'!AJ25:AJ26) -> 0.99955589 | CK24: =AVERAGE(I24,K24,M24,O24,Q24,S24,U24,W24,Y24,AA24,AC24,AE24,AG24,AI24,AK24,AM24,AO24,AQ24,AS24,AU24,AW24,AY24,BA24,BC24,BE24,BG24,BI24,BK24,BM24,BO24,BQ24,BS24,BU24,BW24,BY24,CA24,CC24,CE24,CG24,CI24) -> 0.99966637
H25: Total de ciudadanas y ciudadanos que acuden al MAC a recoger su credencial

Sheet 150151
A1: ='PANEL DE CONTROL DISTRITAL'!A1:Q1 -> INSTITUTO NACIONAL ELECTORAL SISTEMA DE GESTIÓN DE LA CALIDAD ESTADO DE MÉXICO
D2: Distrito | E2: 1 | F2: Módulo | H2: 150151
A4: TABLERO DE CONTROL DE PROCESOS SUSTANTIVOS DEL SISTEMA DE GESTIÓN DE LA CALIDAD
A6: ='PANEL DE CONTROL DISTRITAL'!A6 -> Número | B6: ='PANEL DE CONTROL DISTRITAL'!B6 -> PROCESOS SUSTANTIVOS E INDICADORES | I6: SEMANA OPERATIVA | BC6: % AVANCE REGISTRADO
B7: ='PANEL DE CONTROL DISTRITAL'!B7 -> DESCRIPCIÓN | E7: ='PANEL DE CONTROL DISTRITAL'!E7 -> MEDICIÓN | I7: ='PANEL DE CONTROL DISTRITAL'!A5 -> CAMPAÑA ANUAL INTENSA 2024 CAMPAÑA ESPECIAL DE ACTUALIZACIÓN PARA EL PROCESO ELECTORAL EXTRAORDINARIO (CEAPEE) 2024-2025
B9: ='PANEL DE CONTROL DISTRITAL'!B8 -> Proceso | C9: ='PANEL DE CONTROL DISTRITAL'!C8 -> Dueño de Proceso | D9: ='PANEL DE CONTROL DISTRITAL'!D8 -> Indicador | E9: ='PANEL DE CONTROL DISTRITAL'!E8 -> Cálculo | F9: ='PANEL DE CONTROL DISTRITAL'!F8 -> Periodo | G9: ='PANEL DE CONTROL DISTRITAL'!G8 -> Estimado | H9: ='PANEL DE CONTROL DISTRITAL'!H8 -> Nominativo | I9: 2024-41 | J9: 2024-42 | K9: 2024-43 | L9: 2024-44 | M9: 2024-45 | N9: 2024-46 | O9: 2024-47 | P9: 2024-48 | Q9: 2024-49 | R9: 2024-50 | S9: 2024-51 | T9: 2024-52 | U9: 2024-53 | V9: 2024-54 | W9: 2024-55 | X9: 2024-56 | Y9: 2024-57 | Z9: 2024-58 | AA9: 2024-59 | AB9: 2025-01 | AC9: 2025-02 | AD9: 2025-03 | AE9: 2025-04 | AF9: 2025-05 | AG9: 2025-06 | AH9: 2025-07 | AI9: 2025-08 | AJ9: 2025-09 | AK9: 2025-10 | AL9: 2025-11 | AM9: 2025-12 | AN9: 2025-13 | AO9: 2025-14 | AP9: 2025-15 | AQ9: 2025-16 | AR9: 2025-17 | AS9: 2025-18 | AT9: 2025-19 | AU9: 2025-20 | AV9: 2025-21 | AW9: 2025-22 | AX9: 2025-23 | AY9: 2025-24 | AZ9: 2025-25 | BA9: 2025-26 | BB9: 2025-27
A10: ='PANEL DE CONTROL DISTRITAL'!A9 -> 1 | B10: ='PANEL DE CONTROL DISTRITAL'!B9 -> ENTREVISTA | C10: ='PANEL DE CONTROL DISTRITAL'!C9 -> Auxiliar de Atención Ciudadana | D10: ='PANEL DE CONTROL DISTRITAL'!D9 -> Fichas requisitadas correctamente= | E10: ='PANEL DE CONTROL DISTRITAL'!E9 -> (Fichas requisitadas correctamente / Fichas revisadas en la muestra del 10%) x 100 | F10: ='PANEL DE CONTROL DISTRITAL'!F9 -> Semanal (remesa) | G10: ='PANEL DE CONTROL DISTRITAL'!G9 -> 0.9 | H10: ='PANEL DE CONTROL DISTRITAL'!H9 -> Fichas requistadas correctamente | I10: 0 | J10: 40 | K10: 40 | L10: 31 | M10: 45 | N10: 35 | O10: 47 | P10: 48 | Q10: 49 | R10: 34 | S10: 48 | T10: 49 | U10: 43 | V10: 55 | W10: 53 | X10: 55 | Y10: 53 | Z10: 39 | AA10: 14 | AB10: 0 | AC10: 0 | AD10: 0 | BC10: =IFERROR(SUM(I10:BB10)/SUM(I11:BB11),0) -> 1
H11: ='PANEL DE CONTROL DISTRITAL'!H10 -> Fichas revisadas en la muestra del 10% | I11: 0 | J11: 40 | K11: 40 | L11: 31 | M11: 45 | N11: 35 | O11: 47 | P11: 48 | Q11: 49 | R11: 34 | S11: 48 | T11: 49 | U11: 43 | V11: 55 | W11: 53 | X11: 55 | Y11: 53 | Z11: 39 | AA11: 14 | AB11: 0 | AC11: 0 | AD11: 0
A13: ='PANEL DE CONTROL DISTRITAL'!A12 -> 2 | B13: ='PANEL DE CONTROL DISTRITAL'!B12 -> TRÁMITE | C13: ='PANEL DE CONTROL DISTRITAL'!C12 -> Operador de Equipo Tecnológico | D13: ='PANEL DE CONTROL DISTRITAL'!D12 -> Trámites exitosos efectivos= | E13: ='PANEL DE CONTROL DISTRITAL'!E12 -> (Número de trámites exitosos / Número de trámites aplicados) x 100 | F13: ='PANEL DE CONTROL DISTRITAL'!F12 -> Semanal (remesa) | G13: ='PANEL DE CONTROL DISTRITAL'!G12 -> 0.9 | H13: ='PANEL DE CONTROL DISTRITAL'!H12 -> Número de trámites exitosos | I13: 0 | J13: 398 | K13: 393 | L13: 302 | M13: 442 | N13: 347 | O13: 463 | P13: 479 | Q13: 482 | R13: 337 | S13: 478 | T13: 483 | U13: 426 | V13: 541 | W13: 524 | X13: 549 | Y13: 522 | Z13: 385 | AA13: 139 | AB13: 0 | AC13: 0 | AD13: 0 | BC13: =IFERROR(SUM(I13:BB13)/SUM(I14:BB14),0) -> 0.99818276
H14: ='PANEL DE CONTROL DISTRITAL'!H13 -> Número de trámites aplicados | I14: 0 | J14: 399 | K14: 393 | L14: 302 | M14: 442 | N14: 347 | O14: 463 | P14: 479 | Q14: 483 | R14: 339 | S14: 479 | T14: 483 | U14: 427 | V14: 542 | W14: 526 | X14: 549 | Y14: 523 | Z14: 389 | AA14: 139 | AB14: 0 | AC14: 0 | AD14: 0
A16: ='PANEL DE CONTROL DISTRITAL'!A15 -> 3 | B16: ='PANEL DE CONTROL DISTRITAL'!B15 -> TRANSFERENCIA DE LA INFORMACIÓN | C16: ='PANEL DE CONTROL DISTRITAL'!C15 -> Responsable de Módulo | D16: ='PANEL DE CONTROL DISTRITAL'!D15 -> Reenvíos exitosos = | E16: ='PANEL DE CONTROL DISTRITAL'!E15 -> (Ejecución de los scripts de reenvío de notificaciones/Solicitud de reenvíos de scripts requeridos) x100 | F16: ='PANEL DE CONTROL DISTRITAL'!F15 -> Semanal (remesa) | G16: ='PANEL DE CONTROL DISTRITAL'!G15 -> 1 | H16: ='PANEL DE CONTROL DISTRITAL'!H15 -> Ejecución de los scripts de reenvío de notificaciones | I16: 0 | J16: 0 | K16: 0 | L16: 0 | M16: 0 | N16: 0 | O16: 0 | P16: 0 | Q16: 0 | R16: 0 | S16: 0 | T16: 0 | U16: 0 | V16: 0 | W16: 0 | X16: 0 | Y16: 0 | Z16: 0 | AA16: 0 | AB16: 0 | AC16: 0 | AD16: 0 | BC16: =IFERROR(SUM(I16:BB16)/SUM(I17:BB17),1) -> 1
H17: ='PANEL DE CONTROL DISTRITAL'!H16 -> Solicitud de reevíos de scripts requeridos | I17: 0 | J17: 0 | K17: 0 | L17: 0 | M17: 0 | N17: 0 | O17: 0 | P17: 0 | Q17: 0 | R17: 0 | S17: 0 | T17: 0 | U17: 0 | V17: 0 | W17: 0 | X17: 0 | Y17: 0 | Z17: 0 | AA17: 0 | AB17: 0 | AC17: 0 | AD17: 0
A19: ='PANEL DE CONTROL DISTRITAL'!A18 -> 4 | B19: ='PANEL DE CONTROL DISTRITAL'!B18 -> CONCILIACIÓN DE CREDENCIALES PARA VOTAR | C19: ='PANEL DE CONTROL DISTRITAL'!C18 -> Responsable de Módulo | D19: ='PANEL DE CONTROL DISTRITAL'!D18 -> Credenciales disponibles para entrega = | E19: ='PANEL DE CONTROL DISTRITAL'!E18 -> [(Credenciales recibidas - credenciales inconsistentes) / Credenciales recibidas] x 100 | F19: ='PANEL DE CONTROL DISTRITAL'!F18 -> Semanal (remesa) | G19: ='PANEL DE CONTROL DISTRITAL'!G18 -> 0.9 | H19: ='PANEL DE CONTROL DISTRITAL'!H18 -> Credenciales Recibidas - Credenciales inconsistentes | I19: 0 | J19: 478 | K19: 389 | L19: 201 | M19: 543 | N19: 348 | O19: 439 | P19: 398 | Q19: 531 | R19: 483 | S19: 358 | T19: 448 | U19: 432 | V19: 525 | W19: 432 | X19: 644 | Y19: 443 | Z19: 253 | AA19: 269 | AB19: 0 | AC19: 0 | AD19: 0 | BC19: =IFERROR(SUM(I19:BB19)/SUM(I20:BB20),0) -> 1
H20: ='PANEL DE CONTROL DISTRITAL'!H19 -> Credenciales recibidas | I20: 0 | J20: 478 | K20: 389 | L20: 201 | M20: 543 | N20: 348 | O20: 439 | P20: 398 | Q20: 531 | R20: 483 | S20: 358 | T20: 448 | U20: 432 | V20: 525 | W20: 432 | X20: 644 | Y20: 443 | Z20: 253 | AA20: 269 | AB20: 0 | AC20: 0 | AD20: 0
A22: ='PANEL DE CONTROL DISTRITAL'!A21 -> 5 | B22: ='PANEL DE CONTROL DISTRITAL'!B21 -> CONCILIACIÓN DE CREDENCIALES PARA VOTAR | C22: ='PANEL DE CONTROL DISTRITAL'!C21 -> Responsable de Módulo | D22: ='PANEL DE CONTROL DISTRITAL'!D21 -> Arqueo de Credenciales = | E22: ='PANEL DE CONTROL DISTRITAL'!E21 -> (Credenciales disponibles (físicas)/ Credenciales disponibles registradas en SIIRFE) x 100 | F22: ='PANEL DE CONTROL DISTRITAL'!F21 -> Semanal (remesa) | G22: ='PANEL DE CONTROL DISTRITAL'!G21 -> 1 | H22: ='PANEL DE CONTROL DISTRITAL'!H21 -> Credenciales disponibles (físicas) | I22: 0 | J22: 670 | K22: 603 | L22: 424 | M22: 640 | N22: 585 | O22: 633 | P22: 595 | Q22: 662 | R22: 763 | S22: 572 | T22: 633 | U22: 624 | V22: 718 | W22: 638 | X22: 758 | Y22: 636 | Z22: 428 | AA22: 511 | AB22: 0 | AC22: 0 | AD22: 0 | BC22: =IFERROR(SUM(I22:BB22)/SUM(I23:BB23),0) -> 1
H23: ='PANEL DE CONTROL DISTRITAL'!H22 -> Credenciales disponibles registradas en SIIRFE | I23: 0 | J23: 670 | K23: 603 | L23: 424 | M23: 640 | N23: 585 | O23: 633 | P23: 595 | Q23: 662 | R23: 763 | S23: 572 | T23: 633 | U23: 624 | V23: 718 | W23: 638 | X23: 758 | Y23: 636 | Z23: 428 | AA23: 511 | AB23: 0 | AC23: 0 | AD23: 0
A25: ='PANEL DE CONTROL DISTRITAL'!A24 -> 6 | B25: ='PANEL DE CONTROL DISTRITAL'!B24 -> ENTREGA DE LA CREDENCIAL PARA VOTAR | C25: ='PANEL DE CONTROL DISTRITAL'!C24 -> Operador de Equipo Tecnológico | D25: ='PANEL DE CONTROL DISTRITAL'!D24 -> Efectividad de entrega de CPV en MAC = | E25: ='PANEL DE CONTROL DISTRITAL'!E24 -> (Total de credenciales entregadas / Total de ciudadanas y ciudadanos que acuden al MAC a recoger su credencial) x 100 | F25: ='PANEL DE CONTROL DISTRITAL'!F24 -> Semanal (remesa) | G25: ='PANEL DE CONTROL DISTRITAL'!G24 -> 0.9 | H25: ='PANEL DE CONTROL DISTRITAL'!H24 -> Total de credenciales entregadas | I25: 0 | J25: 478 | K25: 455 | L25: 380 | M25: 327 | N25: 393 | O25: 391 | P25: 434 | Q25: 464 | R25: 382 | S25: 549 | T25: 387 | U25: 441 | V25: 426 | W25: 512 | X25: 524 | Y25: 565 | Z25: 461 | AA25: 184 | AB25: 0 | AC25: 0 | AD25: 0 | BC25: =IFERROR(SUM(I25:BB25)/SUM(I26:BB26),0) -> 1
H26: ='PANEL DE CONTROL DISTRITAL'!H25 -> Total de ciudadanas y ciudadanos que acuden al MAC a recoger su credencial | I26: 0 | J26: 478 | K26: 455 | L26: 380 | M26: 327 | N26: 393 | O26: 391 | P26: 434 | Q26: 464 | R26: 382 | S26: 549 | T26: 387 | U26: 441 | V26: 426 | W26: 512 | X26: 524 | Y26: 565 | Z26: 461 | AA26: 184 | AB26: 0 | AC26: 0 | AD26: 0
B27: *Registre el valor nominal solicitado en la celda, el resultado proporcional esta automatizado.
I29: Semaforización
J30: Valor que requiere atención y justificación en el apartado de observaciones
J31: Valor suficiente
J32: Valor esperado
B34: CUADRO DE OBSERVACIONES
B35: Descripción | H35: No conformidad

Sheet 150152
A1: ='PANEL DE CONTROL DISTRITAL'!A1:Q1 -> INSTITUTO NACIONAL ELECTORAL SISTEMA DE GESTIÓN DE LA CALIDAD ESTADO DE MÉXICO
D2: Distrito | E2: 1 | F2: Módulo | H2: 150152
A4: TABLERO DE CONTROL DE PROCESOS SUSTANTIVOS DEL SISTEMA DE GESTIÓN DE LA CALIDAD
A6: ='PANEL DE CONTROL DISTRITAL'!A6 -> Número | B6: ='PANEL DE CONTROL DISTRITAL'!B6 -> PROCESOS SUSTANTIVOS E INDICADORES | I6: SEMANA OPERATIVA | BC6: % AVANCE REGISTRADO
B7: ='PANEL DE CONTROL DISTRITAL'!B7 -> DESCRIPCIÓN | E7: ='PANEL DE CONTROL DISTRITAL'!E7 -> MEDICIÓN | I7: ='PANEL DE CONTROL DISTRITAL'!A5 -> CAMPAÑA ANUAL INTENSA 2024 CAMPAÑA ESPECIAL DE ACTUALIZACIÓN PARA EL PROCESO ELECTORAL EXTRAORDINARIO (CEAPEE) 2024-2025
B9: ='PANEL DE CONTROL DISTRITAL'!B8 -> Proceso | C9: ='PANEL DE CONTROL DISTRITAL'!C8 -> Dueño de Proceso | D9: ='PANEL DE CONTROL DISTRITAL'!D8 -> Indicador | E9: ='PANEL DE CONTROL DISTRITAL'!E8 -> Cálculo | F9: ='PANEL DE CONTROL DISTRITAL'!F8 -> Periodo | G9: ='PANEL DE CONTROL DISTRITAL'!G8 -> Estimado | H9: ='PANEL DE CONTROL DISTRITAL'!H8 -> Nominativo | I9: ='150151'!I9 -> 2024-41 | J9: ='150151'!J9 -> 2024-42 | K9: ='150151'!K9 -> 2024-43 | L9: ='150151'!L9 -> 2024-44 | M9: ='150151'!M9 -> 2024-45 | N9: ='150151'!N9 -> 2024-46 | O9: ='150151'!O9 -> 2024-47 | P9: ='150151'!P9 -> 2024-48 | ... X9: ='150151'!X9 -> 2024-56 | Y9: 2024-57 | Z9: 2024-58 | AA9: 2024-59 | AB9: 2025-01 | AC9: 2025-02 | AD9: 2025-03 | AE9: 2025-04 | AF9: 2025-05 | AG9: 2025-06 | AH9: 2025-07 | AI9: 2025-08 | AJ9: 2025-09 | AK9: 2025-10 | AL9: 2025-11 | AM9: 2025-12 | AN9: 2025-13 | AO9: 2025-14 | AP9: 2025-15 | AQ9: 2025-16 | AR9: 2025-17 | AS9: 2025-18 | AT9: 2025-19 | AU9: 2025-20 | AV9: 2025-21 | AW9: 2025-22 | AX9: 2025-23 | AY9: 2025-24 | AZ9: 2025-25 | BA9: 2025-26 | BB9: 2025-27
A10: ='PANEL DE CONTROL DISTRITAL'!A9 -> 1 | B10: ='PANEL DE CONTROL DISTRITAL'!B9 -> ENTREVISTA | C10: ='PANEL DE CONTROL DISTRITAL'!C9 -> Auxiliar de Atención Ciudadana | D10: ='PANEL DE CONTROL DISTRITAL'!D9 -> Fichas requisitadas correctamente= | E10: ='PANEL DE CONTROL DISTRITAL'!E9 -> (Fichas requisitadas correctamente / Fichas revisadas en la muestra del 10%) x 100 | F10: ='PANEL DE CONTROL DISTRITAL'!F9 -> Semanal (remesa) | G10: ='PANEL DE CONTROL DISTRITAL'!G9 -> 0.9 | H10: ='PANEL DE CONTROL DISTRITAL'!H9 -> Fichas requistadas correctamente | I10: 0 | J10: 32 | K10: 22 | L10: 11 | M10: 24 | N10: 13 | O10: 22 | P10: 29 | Q10: 21 | R10: 32 | S10: 17 | T10: 39 | U10: 25 | V10: 29 | W10: 27 | X10: 19 | Y10: 17 | Z10: 7 | AA10: 3 | AB10: 0 | AC10: 0 | AD10: 0 | BC10: =IFERROR(SUM(I10:BB10)/SUM(I11:BB11),0) -> 1
H11: ='PANEL DE CONTROL DISTRITAL'!H10 -> Fichas revisadas en la muestra del 10% | I11: 0 | J11: 32 | K11: 22 | L11: 11 | M11: 24 | N11: 13 | O11: 22 | P11: 29 | Q11: 21 | R11: 32 | S11: 17 | T11: 39 | U11: 25 | V11: 29 | W11: 27 | X11: 19 | Y11: 17 | Z11: 7 | AA11: 3 | AB11: 0 | AC11: 0 | AD11: 0
A13: ='PANEL DE CONTROL DISTRITAL'!A12 -> 2 | B13: ='PANEL DE CONTROL DISTRITAL'!B12 -> TRÁMITE | C13: ='PANEL DE CONTROL DISTRITAL'!C12 -> Operador de Equipo Tecnológico | D13: ='PANEL DE CONTROL DISTRITAL'!D12 -> Trámites exitosos efectivos= | E13: ='PANEL DE CONTROL DISTRITAL'!E12 -> (Número de trámites exitosos / Número de trámites aplicados) x 100 | F13: ='PANEL DE CONTROL DISTRITAL'!F12 -> Semanal (remesa) | G13: ='PANEL DE CONTROL DISTRITAL'!G12 -> 0.9 | H13: ='PANEL DE CONTROL DISTRITAL'!H12 -> Número de trámites exitosos | I13: 0 | J13: 318 | K13: 211 | L13: 107 | M13: 236 | N13: 130 | O13: 216 | P13: 286 | Q13: 201 | R13: 314 | S13: 164 | T13: 387 | U13: 248 | V13: 289 | W13: 261 | X13: 188 | Y13: 164 | Z13: 61 | AA13: 23 | AB13: 0 | AC13: 0 | AD13: 0 | BC13: =IFERROR(SUM(I13:BB13)/SUM(I14:BB14),0) -> 0.99868732
H14: ='PANEL DE CONTROL DISTRITAL'!H13 -> Número de trámites aplicados | I14: 0 | J14: 319 | K14: 212 | L14: 107 | M14: 236 | N14: 130 | O14: 216 | P14: 286 | Q14: 201 | R14: 314 | S14: 165 | T14: 388 | U14: 248 | V14: 289 | W14: 262 | X14: 188 | Y14: 164 | Z14: 61 | AA14: 23 | AB14: 0 | AC14: 0 | AD14: 0
A16: ='PANEL DE CONTROL DISTRITAL'!A15 -> 3 | B16: ='PANEL DE CONTROL DISTRITAL'!B15 -> TRANSFERENCIA DE LA INFORMACIÓN | C16: ='PANEL DE CONTROL DISTRITAL'!C15 -> Responsable de Módulo | D16: ='PANEL DE CONTROL DISTRITAL'!D15 -> Reenvíos exitosos = | E16: ='PANEL DE CONTROL DISTRITAL'!E15 -> (Ejecución de los scripts de reenvío de notificaciones/Solicitud de reenvíos de scripts requeridos) x100 | F16: ='PANEL DE CONTROL DISTRITAL'!F15 -> Semanal (remesa) | G16: ='PANEL DE CONTROL DISTRITAL'!G15 -> 1 | H16: ='PANEL DE CONTROL DISTRITAL'!H15 -> Ejecución de los scripts de reenvío de notificaciones | I16: 0 | J16: 0 | K16: 0 | L16: 0 | M16: 0 | N16: 0 | O16: 0 | P16: 0 | Q16: 0 | R16: 0 | S16: 0 | T16: 0 | U16: 0 | V16: 0 | W16: 0 | X16: 0 | Y16: 0 | Z16: 0 | AA16: 0 | AB16: 0 | AC16: 0 | AD16: 0 | BC16: =IFERROR(SUM(I16:BB16)/SUM(J17:BB17),1) -> 1
H17: ='PANEL DE CONTROL DISTRITAL'!H16 -> Solicitud de reevíos de scripts requeridos | I17: 0 | J17: 0 | K17: 0 | L17: 0 | M17: 0 | N17: 0 | O17: 0 | P17: 0 | Q17: 0 | R17: 0 | S17: 0 | T17: 0 | U17: 0 | V17: 0 | W17: 0 | X17: 0 | Y17: 0 | Z17: 0 | AA17: 0 | AB17: 0 | AC17: 0 | AD17: 0
A19: ='PANEL DE CONTROL DISTRITAL'!A18 -> 4 | B19: ='PANEL DE CONTROL DISTRITAL'!B18 -> CONCILIACIÓN DE CREDENCIALES PARA VOTAR | C19: ='PANEL DE CONTROL DISTRITAL'!C18 -> Responsable de Módulo | D19: ='PANEL DE CONTROL DISTRITAL'!D18 -> Credenciales disponibles para entrega = | E19: ='PANEL DE CONTROL DISTRITAL'!E18 -> [(Credenciales recibidas - credenciales inconsistentes) / Credenciales recibidas] x 100 | F19: ='PANEL DE CONTROL DISTRITAL'!F18 -> Semanal (remesa) | G19: ='PANEL DE CONTROL DISTRITAL'!G18 -> 0.9 | H19: ='PANEL DE CONTROL DISTRITAL'!H18 -> Credenciales Recibidas - Credenciales inconsistentes | I19: 0 | J19: 217 | K19: 308 | L19: 84 | M19: 221 | N19: 190 | O19: 136 | P19: 194 | Q19: 294 | R19: 267 | S19: 256 | T19: 246 | U19: 308 | V19: 267 | W19: 273 | X19: 280 | Y19: 118 | Z19: 102 | AA19: 61 | AB19: 0 | AC19: 0 | AD19: 0 | BC19: =IFERROR(SUM(I19:BB19)/SUM(I20:BB20),0) -> 1
H20: ='PANEL DE CONTROL DISTRITAL'!H19 -> Credenciales recibidas | I20: 0 | J20: 217 | K20: 308 | L20: 84 | M20: 221 | N20: 190 | O20: 136 | P20: 194 | Q20: 294 | R20: 267 | S20: 256 | T20: 246 | U20: 308 | V20: 267 | W20: 273 | X20: 280 | Y20: 118 | Z20: 102 | AA20: 61 | AB20: 0 | AC20: 0 | AD20: 0
A22: ='PANEL DE CONTROL DISTRITAL'!A21 -> 5 | B22: ='PANEL DE CONTROL DISTRITAL'!B21 -> CONCILIACIÓN DE CREDENCIALES PARA VOTAR | C22: ='PANEL DE CONTROL DISTRITAL'!C21 -> Responsable de Módulo | D22: ='PANEL DE CONTROL DISTRITAL'!D21 -> Arqueo de Credenciales = | E22: ='PANEL DE CONTROL DISTRITAL'!E21 -> (Credenciales disponibles (físicas)/ Credenciales disponibles registradas en SIIRFE) x 100 | F22: ='PANEL DE CONTROL DISTRITAL'!F21 -> Semanal (remesa) | G22: ='PANEL DE CONTROL DISTRITAL'!G21 -> 1 | H22: ='PANEL DE CONTROL DISTRITAL'!H21 -> Credenciales disponibles (físicas) | I22: 0 | J22: 491 | K22: 544 | L22: 408 | M22: 381 | N22: 477 | O22: 410 | P22: 402 | Q22: 503 | R22: 523 | S22: 607 | T22: 518 | U22: 626 | V22: 551 | W22: 602 | X22: 645 | Y22: 386 | Z22: 320 | AA22: 287 | AB22: 0 | AC22: 0 | AD22: 0 | BC22: =IFERROR(SUM(I22:BB22)/SUM(I23:BB23),0) -> 1
H23: ='PANEL DE CONTROL DISTRITAL'!H22 -> Credenciales disponibles registradas en SIIRFE | I23: 0 | J23: 491 | K23: 544 | L23: 408 | M23: 381 | N23: 477 | O23: 410 | P23: 402 | Q23: 503 | R23: 523 | S23: 607 | T23: 518 | U23: 626 | V23: 551 | W23: 602 | X23: 645 | Y23: 386 | Z23: 320 | AA23: 287 | AB23: 0 | AC23: 0 | AD23: 0
A25: ='PANEL DE CONTROL DISTRITAL'!A24 -> 6 | B25: ='PANEL DE CONTROL DISTRITAL'!B24 -> ENTREGA DE LA CREDENCIAL PARA VOTAR | C25: ='PANEL DE CONTROL DISTRITAL'!C24 -> Operador de Equipo Tecnológico | D25: ='PANEL DE CONTROL DISTRITAL'!D24 -> Efectividad de entrega de CPV en MAC = | E25: ='PANEL DE CONTROL DISTRITAL'!E24 -> (Total de credenciales entregadas / Total de ciudadanas y ciudadanos que acuden al MAC a recoger su credencial) x 100 | F25: ='PANEL DE CONTROL DISTRITAL'!F24 -> Semanal (remesa) | G25: ='PANEL DE CONTROL DISTRITAL'!G24 -> 0.9 | H25: ='PANEL DE CONTROL DISTRITAL'!H24 -> Total de credenciales entregadas | I25: 0 | J25: 263 | K25: 255 | L25: 220 | M25: 248 | N25: 94 | O25: 203 | P25: 200 | Q25: 193 | R25: 247 | S25: 172 | T25: 335 | U25: 200 | V25: 340 | W25: 222 | X25: 237 | Y25: 377 | Z25: 168 | AA25: 94 | AB25: 0 | AC25: 0 | AD25: 0 | BC25: =IFERROR(SUM(I25:BB25)/SUM(I26:BB26),0) -> 1
H26: ='PANEL DE CONTROL DISTRITAL'!H25 -> Total de ciudadanas y ciudadanos que acuden al MAC a recoger su credencial | I26: 0 | J26: 263 | K26: 255 | L26: 220 | M26: 248 | N26: 94 | O26: 203 | P26: 200 | Q26: 193 | R26: 247 | S26: 172 | T26: 335 | U26: 200 | V26: 340 | W26: 222 | X26: 237 | Y26: 377 | Z26: 168 | AA26: 94 | AB26: 0 | AC26: 0 | AD26: 0
B27: *Registre el valor nominal solicitado en la celda, el resultado proporcional esta automatizado.
I29: Semaforización
J30: Valor que requiere atención y justificación en el apartado de observaciones
J31: Valor suficiente
J32: Valor esperado
B34: CUADRO DE OBSERVACIONES
B35: Descripción | H35: No conformidad

Sheet 150153
A1: ='PANEL DE CONTROL DISTRITAL'!A1:Q1 -> INSTITUTO NACIONAL ELECTORAL SISTEMA DE GESTIÓN DE LA CALIDAD ESTADO DE MÉXICO
D2: Distrito | E2: 1 | F2: Módulo | H2: 150153
A4: TABLERO DE CONTROL DE PROCESOS SUSTANTIVOS DEL SISTEMA DE GESTIÓN DE LA CALIDAD
A6: ='PANEL DE CONTROL DISTRITAL'!A6 -> Número | B6: ='PANEL DE CONTROL DISTRITAL'!B6 -> PROCESOS SUSTANTIVOS E INDICADORES | I6: SEMANA OPERATIVA | BC6: % AVANCE REGISTRADO
B7: ='PANEL DE CONTROL DISTRITAL'!B7 -> DESCRIPCIÓN | E7: ='PANEL DE CONTROL DISTRITAL'!E7 -> MEDICIÓN | I7: ='PANEL DE CONTROL DISTRITAL'!A5 -> CAMPAÑA ANUAL INTENSA 2024 CAMPAÑA ESPECIAL DE ACTUALIZACIÓN PARA EL PROCESO ELECTORAL EXTRAORDINARIO (CEAPEE) 2024-2025
B9: ='PANEL DE CONTROL DISTRITAL'!B8 -> Proceso | C9: ='PANEL DE CONTROL DISTRITAL'!C8 -> Dueño de Proceso | D9: ='PANEL DE CONTROL DISTRITAL'!D8 -> Indicador | E9: ='PANEL DE CONTROL DISTRITAL'!E8 -> Cálculo | F9: ='PANEL DE CONTROL DISTRITAL'!F8 -> Periodo | G9: ='PANEL DE CONTROL DISTRITAL'!G8 -> Estimado | H9: ='PANEL DE CONTROL DISTRITAL'!H8 -> Nominativo | I9: ='150151'!I9 -> 2024-41 | J9: ='150151'!J9 -> 2024-42 | K9: ='150151'!K9 -> 2024-43 | L9: ='150151'!L9 -> 2024-44 | M9: ='150151'!M9 -> 2024-45 | N9: ='150151'!N9 -> 2024-46 | O9: ='150151'!O9 -> 2024-47 | P9: ='150151'!P9 -> 2024-48 | ... X9: ='150151'!X9 -> 2024-56 | Y9: 2024-57 | Z9: 2024-58 | AA9: 2024-59 | AB9: 2025-01 | AC9: 2025-02 | AD9: 2025-03 | AE9: 2025-04 | AF9: 2025-05 | AG9: 2025-06 | AH9: 2025-07 | AI9: 2025-08 | AJ9: 2025-09 | AK9: 2025-10 | AL9: 2025-11 | AM9: 2025-12 | AN9: 2025-13 | AO9: 2025-14 | AP9: 2025-15 | AQ9: 2025-16 | AR9: 2025-17 | AS9: 2025-18 | AT9: 2025-19 | AU9: 2025-20 | AV9: 2025-21 | AW9: 2025-22 | AX9: 2025-23 | AY9: 2025-24 | AZ9: 2025-25 | BA9: 2025-26 | BB9: 2025-27
A10: ='PANEL DE CONTROL DISTRITAL'!A9 -> 1 | B10: ='PANEL DE CONTROL DISTRITAL'!B9 -> ENTREVISTA | C10: ='PANEL DE CONTROL DISTRITAL'!C9 -> Auxiliar de Atención Ciudadana | D10: ='PANEL DE CONTROL DISTRITAL'!D9 -> Fichas requisitadas correctamente= | E10: ='PANEL DE CONTROL DISTRITAL'!E9 -> (Fichas requisitadas correctamente / Fichas revisadas en la muestra del 10%) x 100 | F10: ='PANEL DE CONTROL DISTRITAL'!F9 -> Semanal (remesa) | G10: ='PANEL DE CONTROL DISTRITAL'!G9 -> 0.9 | H10: ='PANEL DE CONTROL DISTRITAL'!H9 -> Fichas requistadas correctamente | I10: 0 | J10: 21 | K10: 13 | L10: 13 | M10: 17 | N10: 15 | O10: 15 | P10: 19 | Q10: 14 | R10: 17 | S10: 17 | T10: 21 | U10: 23 | V10: 27 | W10: 29 | X10: 29 | Y10: 19 | Z10: 3 | AA10: 4 | AB10: 0 | AC10: 0 | AD10: 0 | BC10: =IFERROR(SUM(I10:BB10)/SUM(I11:BB11),0) -> 1
H11: ='PANEL DE CONTROL DISTRITAL'!H10 -> Fichas revisadas en la muestra del 10% | I11: 0 | J11: 21 | K11: 13 | L11: 13 | M11: 17 | N11: 15 | O11: 15 | P11: 19 | Q11: 14 | R11: 17 | S11: 17 | T11: 21 | U11: 23 | V11: 27 | W11: 29 | X11: 29 | Y11: 19 | Z11: 3 | AA11: 4 | AB11: 0 | AC11: 0 | AD11: 0
A13: ='PANEL DE CONTROL DISTRITAL'!A12 -> 2 | B13: ='PANEL DE CONTROL DISTRITAL'!B12 -> TRÁMITE | C13: ='PANEL DE CONTROL DISTRITAL'!C12 -> Operador de Equipo Tecnológico | D13: ='PANEL DE CONTROL DISTRITAL'!D12 -> Trámites exitosos efectivos= | E13: ='PANEL DE CONTROL DISTRITAL'!E12 -> (Número de trámites exitosos / Número de trámites aplicados) x 100 | F13: ='PANEL DE CONTROL DISTRITAL'!F12 -> Semanal (remesa) | G13: ='PANEL DE CONTROL DISTRITAL'!G12 -> 0.9 | H13: ='PANEL DE CONTROL DISTRITAL'!H12 -> Número de trámites exitosos | I13: 0 | J13: 201 | K13: 126 | L13: 126 | M13: 162 | N13: 143 | O13: 146 | P13: 187 | Q13: 139 | R13: 163 | S13: 165 | T13: 200 | U13: 222 | V13: 267 | W13: 289 | X13: 285 | Y13: 186 | Z13: 30 | AA13: 33 | AB13: 0 | AC13: 0 | AD13: 0 | BC13: =IFERROR(SUM(I13:BB13)/SUM(I14:BB14),0) -> 0.99772506
H14: ='PANEL DE CONTROL DISTRITAL'!H13 -> Número de trámites aplicados | I14: 0 | J14: 201 | K14: 126 | L14: 126 | M14: 162 | N14: 143 | O14: 146 | P14: 188 | Q14: 140 | R14: 163 | S14: 166 | T14: 201 | U14: 222 | V14: 267 | W14: 289 | X14: 287 | Y14: 187 | Z14: 30 | AA14: 33 | AB14: 0 | AC14: 0 | AD14: 0
A16: ='PANEL DE CONTROL DISTRITAL'!A15 -> 3 | B16: ='PANEL DE CONTROL DISTRITAL'!B15 -> TRANSFERENCIA DE LA INFORMACIÓN | C16: ='PANEL DE CONTROL DISTRITAL'!C15 -> Responsable de Módulo | D16: ='PANEL DE CONTROL DISTRITAL'!D15 -> Reenvíos exitosos = | E16: ='PANEL DE CONTROL DISTRITAL'!E15 -> (Ejecución de los scripts de reenvío de notificaciones/Solicitud de reenvíos de scripts requeridos) x100 | F16: ='PANEL DE CONTROL DISTRITAL'!F15 -> Semanal (remesa) | G16: ='PANEL DE CONTROL DISTRITAL'!G15 -> 1 | H16: ='PANEL DE CONTROL DISTRITAL'!H15 -> Ejecución de los scripts de reenvío de notificaciones | I16: 0 | J16: 0 | K16: 0 | L16: 0 | M16: 0 | N16: 0 | O16: 0 | P16: 0 | Q16: 0 | R16: 0 | S16: 1 | T16: 1 | U16: 0 | V16: 0 | W16: 0 | X16: 0 | Y16: 0 | Z16: 0 | AA16: 0 | AB16: 0 | AC16: 0 | BC16: =IFERROR(SUM(I16:BB16)/SUM(I17:BB17),1) -> 1
H17: ='PANEL DE CONTROL DISTRITAL'!H16 -> Solicitud de reevíos de scripts requeridos | I17: 0 | J17: 0 | K17: 0 | L17: 0 | M17: 0 | N17: 0 | O17: 0 | P17: 0 | Q17: 0 | R17: 0 | S17: 1 | T17: 1 | U17: 0 | V17: 0 | W17: 0 | X17: 0 | Y17: 0 | Z17: 0 | AA17: 0 | AB17: 0 | AC17: 0
A19: ='PANEL DE CONTROL DISTRITAL'!A18 -> 4 | B19: ='PANEL DE CONTROL DISTRITAL'!B18 -> CONCILIACIÓN DE CREDENCIALES PARA VOTAR | C19: ='PANEL DE CONTROL DISTRITAL'!C18 -> Responsable de Módulo | D19: ='PANEL DE CONTROL DISTRITAL'!D18 -> Credenciales disponibles para entrega = | E19: ='PANEL DE CONTROL DISTRITAL'!E18 -> [(Credenciales recibidas - credenciales inconsistentes) / Credenciales recibidas] x 100 | F19: ='PANEL DE CONTROL DISTRITAL'!F18 -> Semanal (remesa) | G19: ='PANEL DE CONTROL DISTRITAL'!G18 -> 0.9 | H19: ='PANEL DE CONTROL DISTRITAL'!H18 -> Credenciales Recibidas - Credenciales inconsistentes | I19: 0 | J19: 187 | K19: 160 | L19: 67 | M19: 208 | N19: 108 | O19: 170 | P19: 146 | Q19: 170 | R19: 188 | S19: 111 | T19: 222 | U19: 146 | V19: 298 | W19: 169 | X19: 424 | Y19: 176 | Z19: 116 | AA19: 34 | AB19: 0 | AC19: 0 | AD19: 0 | BC19: =IFERROR(SUM(I19:BB19)/SUM(I20:BB20),0) -> 1
H20: ='PANEL DE CONTROL DISTRITAL'!H19 -> Credenciales recibidas | I20: 0 | J20: 187 | K20: 160 | L20: 67 | M20: 208 | N20: 108 | O20: 170 | P20: 146 | Q20: 170 | R20: 188 | S20: 111 | T20: 222 | U20: 146 | V20: 298 | W20: 169 | X20: 424 | Y20: 176 | Z20: 116 | AA20: 34 | AB20: 0 | AC20: 0 | AD20: 0
A22: ='PANEL DE CONTROL DISTRITAL'!A21 -> 5 | B22: ='PANEL DE CONTROL DISTRITAL'!B21 -> CONCILIACIÓN DE CREDENCIALES PARA VOTAR | C22: ='PANEL DE CONTROL DISTRITAL'!C21 -> Responsable de Módulo | D22: ='PANEL DE CONTROL DISTRITAL'!D21 -> Arqueo de Credenciales = | E22: ='PANEL DE CONTROL DISTRITAL'!E21 -> (Credenciales disponibles (físicas)/ Credenciales disponibles registradas en SIIRFE) x 100 | F22: ='PANEL DE CONTROL DISTRITAL'!F21 -> Semanal (remesa) | G22: ='PANEL DE CONTROL DISTRITAL'!G21 -> 1 | H22: ='PANEL DE CONTROL DISTRITAL'!H21 -> Credenciales disponibles (físicas) | I22: 0 | J22: 325 | K22: 245 | L22: 207 | M22: 249 | N22: 226 | O22: 240 | P22: 231 | Q22: 242 | R22: 263 | S22: 229 | T22: 310 | U22: 302 | V22: 401 | W22: 302 | X22: 493 | Y22: 239 | Z22: 248 | AA22: 211 | AB22: 0 | AC22: 0 | AD22: 0 | BC22: =IFERROR(SUM(I22:BB22)/SUM(I23:BB23),0) -> 1
H23: ='PANEL DE CONTROL DISTRITAL'!H22 -> Credenciales disponibles registradas en SIIRFE | I23: 0 | J23: 325 | K23: 245 | L23: 207 | M23: 249 | N23: 226 | O23: 240 | P23: 231 | Q23: 242 | R23: 263 | S23: 229 | T23: 310 | U23: 302 | V23: 401 | W23: 302 | X23: 493 | Y23: 239 | Z23: 248 | AA23: 211 | AB23: 0 | AC23: 0 | AD23: 0
A25: ='PANEL DE CONTROL DISTRITAL'!A24 -> 6 | B25: ='PANEL DE CONTROL DISTRITAL'!B24 -> ENTREGA DE LA CREDENCIAL PARA VOTAR | C25: ='PANEL DE CONTROL DISTRITAL'!C24 -> Operador de Equipo Tecnológico | D25: ='PANEL DE CONTROL DISTRITAL'!D24 -> Efectividad de entrega de CPV en MAC = | E25: ='PANEL DE CONTROL DISTRITAL'!E24 -> (Total de credenciales entregadas / Total de ciudadanas y ciudadanos que acuden al MAC a recoger su credencial) x 100 | F25: ='PANEL DE CONTROL DISTRITAL'!F24 -> Semanal (remesa) | G25: ='PANEL DE CONTROL DISTRITAL'!G24 -> 0.9 | H25: ='PANEL DE CONTROL DISTRITAL'!H24 -> Total de credenciales entregadas | I25: 0 | J25: 312 | K25: 240 | L25: 105 | M25: 166 | N25: 131 | O25: 156 | P25: 153 | Q25: 159 | R25: 167 | S25: 145 | T25: 141 | U25: 154 | V25: 197 | W25: 268 | X25: 233 | Y25: 430 | Z25: 107 | AA25: 69 | AB25: 0 | AC25: 0 | AD25: 0 | BC25: =IFERROR(SUM(I25:BB25)/SUM(I26:BB26),0) -> 1
H26: ='PANEL DE CONTROL DISTRITAL'!H25 -> Total de ciudadanas y ciudadanos que acuden al MAC a recoger su credencial | I26: 0 | J26: 312 | K26: 240 | L26: 105 | M26: 166 | N26: 131 | O26: 156 | P26: 153 | Q26: 159 | R26: 167 | S26: 145 | T26: 141 | U26: 154 | V26: 197 | W26: 268 | X26: 233 | Y26: 430 | Z26: 107 | AA26: 69 | AB26: 0 | AC26: 0 | AD26: 0
B27: *Registre el valor nominal solicitado en la celda, el resultado proporcional esta automatizado.
I29: Semaforización
J30: Valor que requiere atención y justificación en el apartado de observaciones
J31: Valor suficiente
J32: Valor esperado
B34: CUADRO DE OBSERVACIONES
B35: Descripción | H35: No conformidad

Sheet 150251
A1: ='PANEL DE CONTROL DISTRITAL'!A1:Q1 -> INSTITUTO NACIONAL ELECTORAL SISTEMA DE GESTIÓN DE LA CALIDAD ESTADO DE MÉXICO
D2: Distrito | E2: 2 | F2: Módulo | H2: 150251
A4: TABLERO DE CONTROL DE PROCESOS SUSTANTIVOS DEL SISTEMA DE GESTIÓN DE LA CALIDAD
A6: ='PANEL DE CONTROL DISTRITAL'!A6 -> Número | B6: ='PANEL DE CONTROL DISTRITAL'!B6 -> PROCESOS SUSTANTIVOS E INDICADORES | I6: SEMANA OPERATIVA | BC6: % AVANCE REGISTRADO
B7: ='PANEL DE CONTROL DISTRITAL'!B7 -> DESCRIPCIÓN | E7: ='PANEL DE CONTROL DISTRITAL'!E7 -> MEDICIÓN | I7: ='PANEL DE CONTROL DISTRITAL'!A5 -> CAMPAÑA ANUAL INTENSA 2024 CAMPAÑA ESPECIAL DE ACTUALIZACIÓN PARA EL PROCESO ELECTORAL EXTRAORDINARIO (CEAPEE) 2024-2025
B9: ='PANEL DE CONTROL DISTRITAL'!B8 -> Proceso | C9: ='PANEL DE CONTROL DISTRITAL'!C8 -> Dueño de Proceso | D9: ='PANEL DE CONTROL DISTRITAL'!D8 -> Indicador | E9: ='PANEL DE CONTROL DISTRITAL'!E8 -> Cálculo | F9: ='PANEL DE CONTROL DISTRITAL'!F8 -> Periodo | G9: ='PANEL DE CONTROL DISTRITAL'!G8 -> Estimado | H9: ='PANEL DE CONTROL DISTRITAL'!H8 -> Nominativo | I9: ='150151'!I9 -> 2024-41 | J9: ='150151'!J9 -> 2024-42 | K9: ='150151'!K9 -> 2024-43 | L9: ='150151'!L9 -> 2024-44 | M9: ='150151'!M9 -> 2024-45 | N9: ='150151'!N9 -> 2024-46 | O9: ='150151'!O9 -> 2024-47 | P9: ='150151'!P9 -> 2024-48 | ... X9: ='150151'!X9 -> 2024-56 | Y9: 2024-57 | Z9: 2024-58 | AA9: 2024-59 | AB9: 2025-01 | AC9: 2025-02 | AD9: 2025-03 | AE9: 2025-04 | AF9: 2025-05 | AG9: 2025-06 | AH9: 2025-07 | AI9: 2025-08 | AJ9: 2025-09 | AK9: 2025-10 | AL9: 2025-11 | AM9: 2025-12 | AN9: 2025-13 | AO9: 2025-14 | AP9: 2025-15 | AQ9: 2025-16 | AR9: 2025-17 | AS9: 2025-18 | AT9: 2025-19 | AU9: 2025-20 | AV9: 2025-21 | AW9: 2025-22 | AX9: 2025-23 | AY9: 2025-24 | AZ9: 2025-25 | BA9: 2025-26 | BB9: 2025-27
A10: ='PANEL DE CONTROL DISTRITAL'!A9 -> 1 | B10: ='PANEL DE CONTROL DISTRITAL'!B9 -> ENTREVISTA | C10: ='PANEL DE CONTROL DISTRITAL'!C9 -> Auxiliar de Atención Ciudadana | D10: ='PANEL DE CONTROL DISTRITAL'!D9 -> Fichas requisitadas correctamente= | E10: ='PANEL DE CONTROL DISTRITAL'!E9 -> (Fichas requisitadas correctamente / Fichas revisadas en la muestra del 10%) x 100 | F10: ='PANEL DE CONTROL DISTRITAL'!F9 -> Semanal (remesa) | G10: ='PANEL DE CONTROL DISTRITAL'!G9 -> 0.9 | H10: ='PANEL DE CONTROL DISTRITAL'!H9 -> Fichas requistadas correctamente | I10: 0 | J10: 56 | K10: 51 | L10: 42 | M10: 59 | N10: 45 | O10: 64 | P10: 70 | Q10: 71 | R10: 54 | S10: 67 | T10: 72 | U10: 57 | V10: 71 | W10: 63 | X10: 58 | Y10: 67 | Z10: 44 | AA10: 14 | BC10: =IFERROR(SUM(I10:BB10)/SUM(I11:BB11),0) -> 0.99129594
H11: ='PANEL DE CONTROL DISTRITAL'!H10 -> Fichas revisadas en la muestra del 10% | I11: 0 | J11: 58 | K11: 55 | L11: 44 | M11: 61 | N11: 45 | O11: 64 | P11: 71 | Q11: 71 | R11: 54 | S11: 67 | T11: 72 | U11: 57 | V11: 71 | W11: 63 | X11: 58 | Y11: 65 | Z11: 44 | AA11: 14
A13: ='PANEL DE CONTROL DISTRITAL'!A12 -> 2 | B13: ='PANEL DE CONTROL DISTRITAL'!B12 -> TRÁMITE | C13: ='PANEL DE CONTROL DISTRITAL'!C12 -> Operador de Equipo Tecnológico | D13: ='PANEL DE CONTROL DISTRITAL'!D12 -> Trámites exitosos efectivos= | E13: ='PANEL DE CONTROL DISTRITAL'!E12 -> (Número de trámites exitosos / Número de trámites aplicados) x 100 | F13: ='PANEL DE CONTROL DISTRITAL'!F12 -> Semanal (remesa) | G13: ='PANEL DE CONTROL DISTRITAL'!G12 -> 0.9 | H13: ='PANEL DE CONTROL DISTRITAL'!H12 -> Número de trámites exitosos | I13: 0 | J13: 586 | K13: 552 | L13: 443 | M13: 614 | N13: 451 | O13: 648 | P13: 716 | Q13: 709 | R13: 543 | S13: 678 | T13: 723 | U13: 572 | V13: 716 | W13: 633 | X13: 582 | Y13: 676 | Z13: 433 | AA13: 144 | BC13: =IFERROR(SUM(I13:BB13)/SUM(I14:BB14),0) -> 0.9986581
H14: ='PANEL DE CONTROL DISTRITAL'!H13 -> Número de trámites aplicados | I14: 0 | J14: 586 | K14: 553 | L14: 443 | M14: 616 | N14: 451 | O14: 649 | P14: 717 | Q14: 712 | R14: 544 | S14: 678 | T14: 725 | U14: 572 | V14: 717 | W14: 634 | X14: 583 | Y14: 676 | Z14: 433 | AA14: 144
A15: 2
A16: ='PANEL DE CONTROL DISTRITAL'!A15 -> 3 | B16: ='PANEL DE CONTROL DISTRITAL'!B15 -> TRANSFERENCIA DE LA INFORMACIÓN | C16: ='PANEL DE CONTROL DISTRITAL'!C15 -> Responsable de Módulo | D16: ='PANEL DE CONTROL DISTRITAL'!D15 -> Reenvíos exitosos = | E16: ='PANEL DE CONTROL DISTRITAL'!E15 -> (Ejecución de los scripts de reenvío de notificaciones/Solicitud de reenvíos de scripts requeridos) x100 | F16: ='PANEL DE CONTROL DISTRITAL'!F15 -> Semanal (remesa) | G16: ='PANEL DE CONTROL DISTRITAL'!G15 -> 1 | H16: ='PANEL DE CONTROL DISTRITAL'!H15 -> Ejecución de los scripts de reenvío de notificaciones | I16: 0 | J16: 0 | K16: 2 | L16: 3 | M16: 0 | N16: 0 | O16: 0 | P16: 2 | Q16: 1 | R16: 0 | S16: 0 | T16: 2 | U16: 1 | V16: 7 | W16: 1 | X16: 2 | Y16: 2 | Z16: 2 | AA16: 1 | BC16: =IFERROR(SUM(I16:BB16)/SUM(I17:BB17),1) -> 1
H17: ='PANEL DE CONTROL DISTRITAL'!H16 -> Solicitud de reevíos de scripts requeridos | I17: 0 | J17: 0 | K17: 2 | L17: 3 | M17: 0 | N17: 0 | O17: 0 | P17: 2 | Q17: 1 | R17: 0 | S17: 0 | T17: 2 | U17: 1 | V17: 7 | W17: 1 | X17: 2 | Y17: 2 | Z17: 2 | AA17: 1
A18: 2
A19: ='PANEL DE CONTROL DISTRITAL'!A18 -> 4 | B19: ='PANEL DE CONTROL DISTRITAL'!B18 -> CONCILIACIÓN DE CREDENCIALES PARA VOTAR | C19: ='PANEL DE CONTROL DISTRITAL'!C18 -> Responsable de Módulo | D19: ='PANEL DE CONTROL DISTRITAL'!D18 -> Credenciales disponibles para entrega = | E19: ='PANEL DE CONTROL DISTRITAL'!E18 -> [(Credenciales recibidas - credenciales inconsistentes) / Credenciales recibidas] x 100 | F19: ='PANEL DE CONTROL DISTRITAL'!F18 -> Semanal (remesa) | G19: ='PANEL DE CONTROL DISTRITAL'!G18 -> 0.9 | H19: ='PANEL DE CONTROL DISTRITAL'!H18 -> Credenciales Recibidas - Credenciales inconsistentes | I19: 0 | J19: 646 | K19: 671 | L19: 333 | M19: 712 | N19: 490 | O19: 561 | P19: 686 | Q19: 725 | R19: 665 | S19: 531 | T19: 606 | U19: 726 | V19: 726 | W19: 673 | X19: 567 | Y19: 388 | Z19: 814 | AA19: 135 | BC19: =IFERROR(SUM(I19:BB19)/SUM(I20:BB20),0) -> 1
H20: ='PANEL DE CONTROL DISTRITAL'!H19 -> Credenciales recibidas | I20: 0 | J20: 646 | K20: 671 | L20: 333 | M20: 712 | N20: 490 | O20: 561 | P20: 686 | Q20: 725 | R20: 665 | S20: 531 | T20: 606 | U20: 726 | V20: 726 | W20: 673 | X20: 567 | Y20: 388 | Z20: 814 | AA20: 135
A22: ='PANEL DE CONTROL DISTRITAL'!A21 -> 5 | B22: ='PANEL DE CONTROL DISTRITAL'!B21 -> CONCILIACIÓN DE CREDENCIALES PARA VOTAR | C22: ='PANEL DE CONTROL DISTRITAL'!C21 -> Responsable de Módulo | D22: ='PANEL DE CONTROL DISTRITAL'!D21 -> Arqueo de Credenciales = | E22: ='PANEL DE CONTROL DISTRITAL'!E21 -> (Credenciales disponibles (físicas)/ Credenciales disponibles registradas en SIIRFE) x 100 | F22: ='PANEL DE CONTROL DISTRITAL'!F21 -> Semanal (remesa) | G22: ='PANEL DE CONTROL DISTRITAL'!G21 -> 1 | H22: ='PANEL DE CONTROL DISTRITAL'!H21 -> Credenciales disponibles (físicas) | I22: 0 | J22: 880 | K22: 935 | L22: 736 | M22: 978 | N22: 856 | O22: 923 | P22: 1075 | Q22: 1127 | R22: 1217 | S22: 984 | T22: 990 | U22: 1059 | V22: 1149 | W22: 1150 | X22: 1041 | Y22: 814 | Z22: 880 | AA22: 858 | BC22: =IFERROR(SUM(I22:BB22)/SUM(I23:BB23),0) -> 1
H23: ='PANEL DE CONTROL DISTRITAL'!H22 -> Credenciales disponibles registradas en SIIRFE | I23: 0 | J23: 880 | K23: 935 | L23: 736 | M23: 978 | N23: 856 | O23: 923 | P23: 1075 | Q23: 1127 | R23: 1217 | S23: 984 | T23: 990 | U23: 1059 | V23: 1149 | W23: 1150 | X23: 1041 | Y23: 814 | Z23: 880 | AA23: 858
A25: ='PANEL DE CONTROL DISTRITAL'!A24 -> 6 | B25: ='PANEL DE CONTROL DISTRITAL'!B24 -> ENTREGA DE LA CREDENCIAL PARA VOTAR | C25: ='PANEL DE CONTROL DISTRITAL'!C24 -> Operador de Equipo Tecnológico | D25: ='PANEL DE CONTROL DISTRITAL'!D24 -> Efectividad de entrega de CPV en MAC = | E25: ='PANEL DE CONTROL DISTRITAL'!E24 -> (Total de credenciales entregadas / Total de ciudadanas y ciudadanos que acuden al MAC a recoger su credencial) x 100 | F25: ='PANEL DE CONTROL DISTRITAL'!F24 -> Semanal (remesa) | G25: ='PANEL DE CONTROL DISTRITAL'!G24 -> 0.9 | H25: ='PANEL DE CONTROL DISTRITAL'!H24 -> Total de credenciales entregadas | I25: 0 | J25: 628 | K25: 616 | L25: 532 | M25: 470 | N25: 612 | O25: 494 | P25: 528 | Q25: 673 | R25: 575 | S25: 764 | T25: 600 | U25: 657 | V25: 631 | W25: 672 | X25: 676 | Y25: 615 | Z25: 584 | AA25: 157 | BC25: =IFERROR(SUM(I25:BB25)/SUM(I26:BB26),0) -> 0.99914229
H26: ='PANEL DE CONTROL DISTRITAL'!H25 -> Total de ciudadanas y ciudadanos que acuden al MAC a recoger su credencial | I26: 0 | J26: 628 | K26: 616 | L26: 533 | M26: 470 | N26: 612 | O26: 495 | P26: 529 | Q26: 673 | R26: 575 | S26: 765 | T26: 602 | U26: 658 | V26: 631 | W26: 672 | X26: 676 | Y26: 617 | Z26: 584 | AA26: 157
B27: *Registre el valor nominal solicitado en la celda, el resultado proporcional esta automatizado.
I29: Semaforización
J30: Valor que requiere atención y justificación en el apartado de observaciones
J31: Valor suficiente
J32: Valor esperado
B34: CUADRO DE OBSERVACIONES
B35: Descripción | H35: No conformidad

Sheet 150253
A1: ='PANEL DE CONTROL DISTRITAL'!A1:Q1 -> INSTITUTO NACIONAL ELECTORAL SISTEMA DE GESTIÓN DE LA CALIDAD ESTADO DE MÉXICO
D2: Distrito | E2: 2 | F2: Módulo | H2: 150253
A4: TABLERO DE CONTROL DE PROCESOS SUSTANTIVOS DEL SISTEMA DE GESTIÓN DE LA CALIDAD
A6: ='PANEL DE CONTROL DISTRITAL'!A6 -> Número | B6: ='PANEL DE CONTROL DISTRITAL'!B6 -> PROCESOS SUSTANTIVOS E INDICADORES | I6: SEMANA OPERATIVA | BC6: % AVANCE REGISTRADO
B7: ='PANEL DE CONTROL DISTRITAL'!B7 -> DESCRIPCIÓN | E7: ='PANEL DE CONTROL DISTRITAL'!E7 -> MEDICIÓN | I7: ='PANEL DE CONTROL DISTRITAL'!A5 -> CAMPAÑA ANUAL INTENSA 2024 CAMPAÑA ESPECIAL DE ACTUALIZACIÓN PARA EL PROCESO ELECTORAL EXTRAORDINARIO (CEAPEE) 2024-2025
B9: ='PANEL DE CONTROL DISTRITAL'!B8 -> Proceso | C9: ='PANEL DE CONTROL DISTRITAL'!C8 -> Dueño de Proceso | D9: ='PANEL DE CONTROL DISTRITAL'!D8 -> Indicador | E9: ='PANEL DE CONTROL DISTRITAL'!E8 -> Cálculo | F9: ='PANEL DE CONTROL DISTRITAL'!F8 -> Periodo | G9: ='PANEL DE CONTROL DISTRITAL'!G8 -> Estimado | H9: ='PANEL DE CONTROL DISTRITAL'!H8 -> Nominativo | I9: ='150151'!I9 -> 2024-41 | J9: ='150151'!J9 -> 2024-42 | K9: ='150151'!K9 -> 2024-43 | L9: ='150151'!L9 -> 2024-44 | M9: ='150151'!M9 -> 2024-45 | N9: ='150151'!N9 -> 2024-46 | O9: ='150151'!O9 -> 2024-47 | P9: ='150151'!P9 -> 2024-48 | ... X9: ='150151'!X9 -> 2024-56 | Y9: 2024-57 | Z9: 2024-58 | AA9: 2024-59 | AB9: 2025-01 | AC9: 2025-02 | AD9: 2025-03 | AE9: 2025-04 | AF9: 2025-05 | AG9: 2025-06 | AH9: 2025-07 | AI9: 2025-08 | AJ9: 2025-09 | AK9: 2025-10 | AL9: 2025-11 | AM9: 2025-12 | AN9: 2025-13 | AO9: 2025-14 | AP9: 2025-15 | AQ9: 2025-16 | AR9: 2025-17 | AS9: 2025-18 | AT9: 2025-19 | AU9: 2025-20 | AV9: 2025-21 | AW9: 2025-22 | AX9: 2025-23 | AY9: 2025-24 | AZ9: 2025-25 | BA9: 2025-26 | BB9: 2025-27
A10: ='PANEL DE CONTROL DISTRITAL'!A9 -> 1 | B10: ='PANEL DE CONTROL DISTRITAL'!B9 -> ENTREVISTA | C10: ='PANEL DE CONTROL DISTRITAL'!C9 -> Auxiliar de Atención Ciudadana | D10: ='PANEL DE CONTROL DISTRITAL'!D9 -> Fichas requisitadas correctamente= | E10: ='PANEL DE CONTROL DISTRITAL'!E9 -> (Fichas requisitadas correctamente / Fichas revisadas en la muestra del 10%) x 100 | F10: ='PANEL DE CONTROL DISTRITAL'!F9 -> Semanal (remesa) | G10: ='PANEL DE CONTROL DISTRITAL'!G9 -> 0.9 | H10: ='PANEL DE CONTROL DISTRITAL'!H9 -> Fichas requistadas correctamente | I10: 0 | J10: 115 | K10: 88 | L10: 59 | M10: 90 | N10: 86 | O10: 98 | P10: 98 | Q10: 100 | R10: 85 | S10: 99 | T10: 89 | U10: 72 | V10: 104 | W10: 98 | X10: 94 | Y10: 101 | Z10: 66 | AA10: 20 | BC10: =IFERROR(SUM(I10:BB10)/SUM(I11:BB11),0) -> 1
H11: ='PANEL DE CONTROL DISTRITAL'!H10 -> Fichas revisadas en la muestra del 10% | I11: 0 | J11: 115 | K11: 88 | L11: 59 | M11: 90 | N11: 86 | O11: 98 | P11: 98 | Q11: 100 | R11: 85 | S11: 99 | T11: 89 | U11: 72 | V11: 104 | W11: 98 | X11: 94 | Y11: 101 | Z11: 66 | AA11: 20
A13: ='PANEL DE CONTROL DISTRITAL'!A12 -> 2 | B13: ='PANEL DE CONTROL DISTRITAL'!B12 -> TRÁMITE | C13: ='PANEL DE CONTROL DISTRITAL'!C12 -> Operador de Equipo Tecnológico | D13: ='PANEL DE CONTROL DISTRITAL'!D12 -> Trámites exitosos efectivos= | E13: ='PANEL DE CONTROL DISTRITAL'!E12 -> (Número de trámites exitosos / Número de trámites aplicados) x 100 | F13: ='PANEL DE CONTROL DISTRITAL'!F12 -> Semanal (remesa) | G13: ='PANEL DE CONTROL DISTRITAL'!G12 -> 0.9 | H13: ='PANEL DE CONTROL DISTRITAL'!H12 -> Número de trámites exitosos | I13: 0 | J13: 947 | K13: 885 | L13: 570 | M13: 858 | N13: 839 | O13: 957 | P13: 953 | Q13: 976 | R13: 835 | S13: 951 | T13: 864 | U13: 697 | V13: 993 | W13: 961 | X13: 916 | Y13: 979 | Z13: 638 | AA13: 171 | BC13: =IFERROR(SUM(I13:BB13)/SUM(I14:BB14),0) -> 0.99614567
H14: ='PANEL DE CONTROL DISTRITAL'!H13 -> Número de trámites aplicados | I14: 0 | J14: 947 | K14: 885 | L14: 570 | M14: 860 | N14: 839 | O14: 958 | P14: 954 | Q14: 977 | R14: 836 | S14: 955 | T14: 865 | U14: 698 | V14: 997 | W14: 964 | X14: 918 | Y14: 981 | Z14: 641 | AA14: 203
A16: ='PANEL DE CONTROL DISTRITAL'!A15 -> 3 | B16: ='PANEL DE CONTROL DISTRITAL'!B15 -> TRANSFERENCIA DE LA INFORMACIÓN | C16: ='PANEL DE CONTROL DISTRITAL'!C15 -> Responsable de Módulo | D16: ='PANEL DE CONTROL DISTRITAL'!D15 -> Reenvíos exitosos = | E16: ='PANEL DE CONTROL DISTRITAL'!E15 -> (Ejecución de los scripts de reenvío de notificaciones/Solicitud de reenvíos de scripts requeridos) x100 | F16: ='PANEL DE CONTROL DISTRITAL'!F15 -> Semanal (remesa) | G16: ='PANEL DE CONTROL DISTRITAL'!G15 -> 1 | H16: ='PANEL DE CONTROL DISTRITAL'!H15 -> Ejecución de los scripts de reenvío de notificaciones | I16: 0 | J16: 2 | K16: 0 | L16: 0 | M16: 0 | N16: 0 | O16: 3 | P16: 5 | Q16: 2 | R16: 2 | S16: 6 | T16: 2 | U16: 0 | V16: 4 | W16: 2 | X16: 4 | Y16: 3 | Z16: 1 | AA16: 1 | BC16: =IFERROR(SUM(I16:BB16)/SUM(I17:BB17),1) -> 1
H17: ='PANEL DE CONTROL DISTRITAL'!H16 -> Solicitud de reevíos de scripts requeridos | I17: 0 | J17: 2 | K17: 0 | L17: 0 | M17: 0 | N17: 0 | O17: 3 | P17: 5 | Q17: 2 | R17: 2 | S17: 6 | T17: 2 | U17: 0 | V17: 4 | W17: 2 | X17: 4 | Y17: 3 | Z17: 1 | AA17: 1
A19: ='PANEL DE CONTROL DISTRITAL'!A18 -> 4 | B19: ='PANEL DE CONTROL DISTRITAL'!B18 -> CONCILIACIÓN DE CREDENCIALES PARA VOTAR | C19: ='PANEL DE CONTROL DISTRITAL'!C18 -> Responsable de Módulo | D19: ='PANEL DE CONTROL DISTRITAL'!D18 -> Credenciales disponibles para entrega = | E19: ='PANEL DE CONTROL DISTRITAL'!E18 -> [(Credenciales recibidas - credenciales inconsistentes) / Credenciales recibidas] x 100 | F19: ='PANEL DE CONTROL DISTRITAL'!F18 -> Semanal (remesa) | G19: ='PANEL DE CONTROL DISTRITAL'!G18 -> 0.9 | H19: ='PANEL DE CONTROL DISTRITAL'!H18 -> Credenciales Recibidas - Credenciales inconsistentes | I19: 0 | J19: 959 | K19: 1118 | L19: 482 | M19: 957 | N19: 531 | O19: 1207 | P19: 594 | Q19: 1339 | R19: 797 | S19: 700 | T19: 1028 | U19: 466 | V19: 1163 | W19: 766 | X19: 1349 | Y19: 535 | Z19: 970 | AA19: 187 | BC19: =IFERROR(SUM(I19:BB19)/SUM(I20:BB20),0) -> 1
H20: ='PANEL DE CONTROL DISTRITAL'!H19 -> Credenciales recibidas | I20: 0 | J20: 959 | K20: 1118 | L20: 482 | M20: 957 | N20: 531 | O20: 1207 | P20: 594 | Q20: 1339 | R20: 797 | S20: 700 | T20: 1028 | U20: 466 | V20: 1163 | W20: 766 | X20: 1349 | Y20: 535 | Z20: 970 | AA20: 187
A22: ='PANEL DE CONTROL DISTRITAL'!A21 -> 5 | B22: ='PANEL DE CONTROL DISTRITAL'!B21 -> CONCILIACIÓN DE CREDENCIALES PARA VOTAR | C22: ='PANEL DE CONTROL DISTRITAL'!C21 -> Responsable de Módulo | D22: ='PANEL DE CONTROL DISTRITAL'!D21 -> Arqueo de Credenciales = | E22: ='PANEL DE CONTROL DISTRITAL'!E21 -> (Credenciales disponibles (físicas)/ Credenciales disponibles registradas en SIIRFE) x 100 | F22: ='PANEL DE CONTROL DISTRITAL'!F21 -> Semanal (remesa) | G22: ='PANEL DE CONTROL DISTRITAL'!G21 -> 1 | H22: ='PANEL DE CONTROL DISTRITAL'!H21 -> Credenciales disponibles (físicas) | I22: 0 | J22: 1336 | K22: 1482 | L22: 1186 | M22: 1428 | N22: 1159 | O22: 1562 | P22: 1215 | Q22: 1682 | R22: 1693 | S22: 1314 | T22: 1381 | U22: 1048 | V22: 1392 | W22: 1292 | X22: 1751 | Y22: 1292 | Z22: 1414 | AA22: 1325 | BC22: =IFERROR(SUM(I22:BB22)/SUM(I23:BB23),0) -> 1
H23: ='PANEL DE CONTROL DISTRITAL'!H22 -> Credenciales disponibles registradas en SIIRFE | I23: 0 | J23: 1336 | K23: 1482 | L23: 1186 | M23: 1428 | N23: 1159 | O23: 1562 | P23: 1215 | Q23: 1682 | R23: 1693 | S23: 1314 | T23: 1381 | U23: 1048 | V23: 1392 | W23: 1292 | X23: 1751 | Y23: 1292 | Z23: 1414 | AA23: 1325
A25: ='PANEL DE CONTROL DISTRITAL'!A24 -> 6 | B25: ='PANEL DE CONTROL DISTRITAL'!B24 -> ENTREGA DE LA CREDENCIAL PARA VOTAR | C25: ='PANEL DE CONTROL DISTRITAL'!C24 -> Operador de Equipo Tecnológico | D25: ='PANEL DE CONTROL DISTRITAL'!D24 -> Efectividad de entrega de CPV en MAC = | E25: ='PANEL DE CONTROL DISTRITAL'!E24 -> (Total de credenciales entregadas / Total de ciudadanas y ciudadanos que acuden al MAC a recoger su credencial) x 100 | F25: ='PANEL DE CONTROL DISTRITAL'!F24 -> Semanal (remesa) | G25: ='PANEL DE CONTROL DISTRITAL'!G24 -> 0.9 | H25: ='PANEL DE CONTROL DISTRITAL'!H24 -> Total de credenciales entregadas | I25: 0 | J25: 975 | K25: 972 | L25: 778 | M25: 715 | N25: 800 | O25: 804 | P25: 930 | Q25: 872 | R25: 786 | S25: 1079 | T25: 961 | U25: 799 | V25: 807 | W25: 866 | X25: 890 | Y25: 994 | Z25: 837 | AA25: 276 | BC25: =IFERROR(SUM(I25:BB25)/SUM(I26:BB26),0) -> 0.9987467
H26: ='PANEL DE CONTROL DISTRITAL'!H25 -> Total de ciudadanas y ciudadanos que acuden al MAC a recoger su credencial | I26: 0 | J26: 976 | K26: 972 | L26: 778 | M26: 715 | N26: 801 | O26: 804 | P26: 930 | Q26: 872 | R26: 786 | S26: 1079 | T26: 965 | U26: 799 | V26: 819 | W26: 866 | X26: 890 | Y26: 994 | Z26: 838 | AA26: 276
B27: *Registre el valor nominal solicitado en la celda, el resultado proporcional esta automatizado.
I29: Semaforización
J30: Valor que requiere atención y justificación en el apartado de observaciones
J31: Valor suficiente
J32: Valor esperado
B34: CUADRO DE OBSERVACIONES
B35: Descripción | H35: No conformidad

Sheet 150351
A1: ='PANEL DE CONTROL DISTRITAL'!A1:Q1 -> INSTITUTO NACIONAL ELECTORAL SISTEMA DE GESTIÓN DE LA CALIDAD ESTADO DE MÉXICO
D2: Distrito | E2: 3 | F2: Módulo | H2: 150351
A4: TABLERO DE CONTROL DE PROCESOS SUSTANTIVOS DEL SISTEMA DE GESTIÓN DE LA CALIDAD
A6: ='PANEL DE CONTROL DISTRITAL'!A6 -> Número | B6: ='PANEL DE CONTROL DISTRITAL'!B6 -> PROCESOS SUSTANTIVOS E INDICADORES | I6: SEMANA OPERATIVA | BC6: % AVANCE REGISTRADO
B7: ='PANEL DE CONTROL DISTRITAL'!B7 -> DESCRIPCIÓN | E7: ='PANEL DE CONTROL DISTRITAL'!E7 -> MEDICIÓN | I7: ='PANEL DE CONTROL DISTRITAL'!A5 -> CAMPAÑA ANUAL INTENSA 2024 CAMPAÑA ESPECIAL DE ACTUALIZACIÓN PARA EL PROCESO ELECTORAL EXTRAORDINARIO (CEAPEE) 2024-2025
B9: ='PANEL DE CONTROL DISTRITAL'!B8 -> Proceso | C9: ='PANEL DE CONTROL DISTRITAL'!C8 -> Dueño de Proceso | D9: ='PANEL DE CONTROL DISTRITAL'!D8 -> Indicador | E9: ='PANEL DE CONTROL DISTRITAL'!E8 -> Cálculo | F9: ='PANEL DE CONTROL DISTRITAL'!F8 -> Periodo | G9: ='PANEL DE CONTROL DISTRITAL'!G8 -> Estimado | H9: ='PANEL DE CONTROL DISTRITAL'!H8 -> Nominativo | I9: ='150151'!I9 -> 2024-41 | J9: ='150151'!J9 -> 2024-42 | K9: ='150151'!K9 -> 2024-43 | L9: ='150151'!L9 -> 2024-44 | M9: ='150151'!M9 -> 2024-45 | N9: ='150151'!N9 -> 2024-46 | O9: ='150151'!O9 -> 2024-47 | P9: ='150151'!P9 -> 2024-48 | ... X9: ='150151'!X9 -> 2024-56 | Y9: 2024-57 | Z9: 2024-58 | AA9: 2024-59 | AB9: 2025-01 | AC9: 2025-02 | AD9: 2025-03 | AE9: 2025-04 | AF9: 2025-05 | AG9: 2025-06 | AH9: 2025-07 | AI9: 2025-08 | AJ9: 2025-09 | AK9: 2025-10 | AL9: 2025-11 | AM9: 2025-12 | AN9: 2025-13 | AO9: 2025-14 | AP9: 2025-15 | AQ9: 2025-16 | AR9: 2025-17 | AS9: 2025-18 | AT9: 2025-19 | AU9: 2025-20 | AV9: 2025-21 | AW9: 2025-22 | AX9: 2025-23 | AY9: 2025-24 | AZ9: 2025-25 | BA9: 2025-26 | BB9: 2025-27
A10: ='PANEL DE CONTROL DISTRITAL'!A9 -> 1 | B10: ='PANEL DE CONTROL DISTRITAL'!B9 -> ENTREVISTA | C10: ='PANEL DE CONTROL DISTRITAL'!C9 -> Auxiliar de Atención Ciudadana | D10: ='PANEL DE CONTROL DISTRITAL'!D9 -> Fichas requisitadas correctamente= | E10: ='PANEL DE CONTROL DISTRITAL'!E9 -> (Fichas requisitadas correctamente / Fichas revisadas en la muestra del 10%) x 100 | F10: ='PANEL DE CONTROL DISTRITAL'!F9 -> Semanal (remesa) | G10: ='PANEL DE CONTROL DISTRITAL'!G9 -> 0.9 | H10: ='PANEL DE CONTROL DISTRITAL'!H9 -> Fichas requistadas correctamente | I10: 0 | J10: 65 | K10: 65 | L10: 45 | M10: 63 | N10: 51 | O10: 67 | P10: 63 | Q10: 62 | R10: 46 | S10: 67 | T10: 73 | U10: 62 | V10: 81 | W10: 77 | X10: 76 | Y10: 70 | Z10: 55 | AA10: 14 | AB10: 0 | AC10: 0 | AD10: 0 | BC10: =IFERROR(SUM(I10:BB10)/SUM(I11:BB11),0) -> 1
H11: ='PANEL DE CONTROL DISTRITAL'!H10 -> Fichas revisadas en la muestra del 10% | I11: 0 | J11: 65 | K11: 65 | L11: 45 | M11: 63 | N11: 51 | O11: 67 | P11: 63 | Q11: 62 | R11: 46 | S11: 67 | T11: 73 | U11: 62 | V11: 81 | W11: 77 | X11: 76 | Y11: 70 | Z11: 55 | AA11: 14 | AB11: 0 | AC11: 0 | AD11: 0
A13: ='PANEL DE CONTROL DISTRITAL'!A12 -> 2 | B13: ='PANEL DE CONTROL DISTRITAL'!B12 -> TRÁMITE | C13: ='PANEL DE CONTROL DISTRITAL'!C12 -> Operador de Equipo Tecnológico | D13: ='PANEL DE CONTROL DISTRITAL'!D12 -> Trámites exitosos efectivos= | E13: ='PANEL DE CONTROL DISTRITAL'!E12 -> (Número de trámites exitosos / Número de trámites aplicados) x 100 | F13: ='PANEL DE CONTROL DISTRITAL'!F12 -> Semanal (remesa) | G13: ='PANEL DE CONTROL DISTRITAL'!G12 -> 0.9 | H13: ='PANEL DE CONTROL DISTRITAL'!H12 -> Número de trámites exitosos | I13: 0 | J13: 652 | K13: 603 | L13: 452 | M13: 625 | N13: 509 | O13: 674 | P13: 632 | Q13: 620 | R13: 458 | S13: 669 | T13: 736 | U13: 620 | V13: 806 | W13: 773 | X13: 763 | Y13: 700 | Z13: 544 | AA13: 136 | AB13: 0 | AC13: 0 | AD13: 0 | BC13: =IFERROR(SUM(I13:BB13)/SUM(I14:BB14),0) -> 0.998453
H14: ='PANEL DE CONTROL DISTRITAL'!H13 -> Número de trámites aplicados | I14: 0 | J14: 652 | K14: 603 | L14: 453 | M14: 626 | N14: 510 | O14: 674 | P14: 634 | Q14: 622 | R14: 459 | S14: 670 | T14: 736 | U14: 620 | V14: 808 | W14: 773 | X14: 763 | Y14: 700 | Z14: 550 | AA14: 136 | AB14: 0 | AC14: 0 | AD14: 0
A16: ='PANEL DE CONTROL DISTRITAL'!A15 -> 3 | B16: ='PANEL DE CONTROL DISTRITAL'!B15 -> TRANSFERENCIA DE LA INFORMACIÓN | C16: ='PANEL DE CONTROL DISTRITAL'!C15 -> Responsable de Módulo | D16: ='PANEL DE CONTROL DISTRITAL'!D15 -> Reenvíos exitosos = | E16: ='PANEL DE CONTROL DISTRITAL'!E15 -> (Ejecución de los scripts de reenvío de notificaciones/Solicitud de reenvíos de scripts requeridos) x100 | F16: ='PANEL DE CONTROL DISTRITAL'!F15 -> Semanal (remesa) | G16: ='PANEL DE CONTROL DISTRITAL'!G15 -> 1 | H16: ='PANEL DE CONTROL DISTRITAL'!H15 -> Ejecución de los scripts de reenvío de notificaciones | I16: 0 | J16: 0 | K16: 0 | L16: 0 | M16: 0 | N16: 0 | O16: 0 | P16: 0 | Q16: 0 | R16: 0 | S16: 0 | T16: 0 | U16: 0 | V16: 0 | W16: 0 | X16: 0 | Y16: 0 | Z16: 0 | AA16: 0 | AB16: 0 | AC16: 0 | AD16: 0 | BC16: =IFERROR(SUM(I16:BB16)/SUM(I17:BB17),1) -> 1
H17: ='PANEL DE CONTROL DISTRITAL'!H16 -> Solicitud de reevíos de scripts requeridos | I17: 0 | J17: 0 | K17: 0 | L17: 0 | M17: 0 | N17: 0 | O17: 0 | P17: 0 | Q17: 0 | R17: 0 | S17: 0 | T17: 0 | U17: 0 | V17: 0 | W17: 0 | X17: 0 | Y17: 0 | Z17: 0 | AA17: 0 | AB17: 0 | AC17: 0 | AD17: 0
A19: ='PANEL DE CONTROL DISTRITAL'!A18 -> 4 | B19: ='PANEL DE CONTROL DISTRITAL'!B18 -> CONCILIACIÓN DE CREDENCIALES PARA VOTAR | C19: ='PANEL DE CONTROL DISTRITAL'!C18 -> Responsable de Módulo | D19: ='PANEL DE CONTROL DISTRITAL'!D18 -> Credenciales disponibles para entrega = | E19: ='PANEL DE CONTROL DISTRITAL'!E18 -> [(Credenciales recibidas - credenciales inconsistentes) / Credenciales recibidas] x 100 | F19: ='PANEL DE CONTROL DISTRITAL'!F18 -> Semanal (remesa) | G19: ='PANEL DE CONTROL DISTRITAL'!G18 -> 0.9 | H19: ='PANEL DE CONTROL DISTRITAL'!H18 -> Credenciales Recibidas - Credenciales inconsistentes | I19: 0 | J19: 643 | K19: 660 | L19: 316 | M19: 737 | N19: 433 | O19: 696 | P19: 707 | Q19: 424 | R19: 773 | S19: 346 | T19: 831 | U19: 523 | V19: 695 | W19: 936 | X19: 697 | Y19: 832 | Z19: 379 | AA19: 0 | AB19: 0 | AC19: 0 | AD19: 0 | BC19: =IFERROR(SUM(I19:BB19)/SUM(I20:BB20),0) -> 1
H20: ='PANEL DE CONTROL DISTRITAL'!H19 -> Credenciales recibidas | I20: 0 | J20: 643 | K20: 660 | L20: 316 | M20: 737 | N20: 433 | O20: 696 | P20: 707 | Q20: 424 | R20: 773 | S20: 346 | T20: 831 | U20: 523 | V20: 695 | W20: 936 | X20: 697 | Y20: 832 | Z20: 379 | AA20: 0 | AB20: 0 | AC20: 0 | AD20: 0
A22: ='PANEL DE CONTROL DISTRITAL'!A21 -> 5 | B22: ='PANEL DE CONTROL DISTRITAL'!B21 -> CONCILIACIÓN DE CREDENCIALES PARA VOTAR | C22: ='PANEL DE CONTROL DISTRITAL'!C21 -> Responsable de Módulo | D22: ='PANEL DE CONTROL DISTRITAL'!D21 -> Arqueo de Credenciales = | E22: ='PANEL DE CONTROL DISTRITAL'!E21 -> (Credenciales disponibles (físicas)/ Credenciales disponibles registradas en SIIRFE) x 100 | F22: ='PANEL DE CONTROL DISTRITAL'!F21 -> Semanal (remesa) | G22: ='PANEL DE CONTROL DISTRITAL'!G21 -> 1 | H22: ='PANEL DE CONTROL DISTRITAL'!H21 -> Credenciales disponibles (físicas) | I22: 0 | J22: 887 | K22: 901 | L22: 654 | M22: 909 | N22: 741 | O22: 907 | P22: 1018 | Q22: 770 | R22: 1048 | S22: 712 | T22: 925 | U22: 813 | V22: 894 | W22: 1.071 | X22: 1.009 | Y22: 1.081 | Z22: 876 | AA22: 709 | AB22: 0 | AC22: 0 | AD22: 0 | BC22: =IFERROR(SUM(I22:BB22)/SUM(I23:BB23),0) -> 1
H23: ='PANEL DE CONTROL DISTRITAL'!H22 -> Credenciales disponibles registradas en SIIRFE | I23: 0 | J23: 887 | K23: 901 | L23: 654 | M23: 909 | N23: 741 | O23: 907 | P23: 1018 | Q23: 770 | R23: 1048 | S23: 712 | T23: 925 | U23: 813 | V23: 894 | W23: 1.071 | X23: 1.009 | Y23: 1.081 | Z23: 876 | AA23: 709 | AB23: 0 | AC23: 0 | AD23: 0
A25: ='PANEL DE CONTROL DISTRITAL'!A24 -> 6 | B25: ='PANEL DE CONTROL DISTRITAL'!B24 -> ENTREGA DE LA CREDENCIAL PARA VOTAR | C25: ='PANEL DE CONTROL DISTRITAL'!C24 -> Operador de Equipo Tecnológico | D25: ='PANEL DE CONTROL DISTRITAL'!D24 -> Efectividad de entrega de CPV en MAC = | E25: ='PANEL DE CONTROL DISTRITAL'!E24 -> (Total de credenciales entregadas / Total de ciudadanas y ciudadanos que acuden al MAC a recoger su credencial) x 100 | F25: ='PANEL DE CONTROL DISTRITAL'!F24 -> Semanal (remesa) | G25: ='PANEL DE CONTROL DISTRITAL'!G24 -> 0.9 | H25: ='PANEL DE CONTROL DISTRITAL'!H24 -> Total de credenciales entregadas | I25: 0 | J25: 644 | K25: 646 | L25: 563 | M25: 482 | N25: 601 | O25: 530 | P25: 596 | Q25: 667 | R25: 495 | S25: 682 | T25: 618 | U25: 635 | V25: 611 | W25: 759 | X25: 759 | Y25: 760 | Z25: 581 | AA25: 167 | AB25: 0 | AC25: 0 | AD25: 0 | BC25: =IFERROR(SUM(I25:BB25)/SUM(I26:BB26),0) -> 1
H26: ='PANEL DE CONTROL DISTRITAL'!H25 -> Total de ciudadanas y ciudadanos que acuden al MAC a recoger su credencial | I26: 0 | J26: 644 | K26: 646 | L26: 563 | M26: 482 | N26: 601 | O26: 530 | P26: 596 | Q26: 667 | R26: 495 | S26: 682 | T26: 618 | U26: 635 | V26: 611 | W26: 759 | X26: 759 | Y26: 760 | Z26: 581 | AA26: 167 | AB26: 0 | AC26: 0 | AD26: 0
B27: *Registre el valor nominal solicitado en la celda, el resultado proporcional esta automatizado.
I29: Semaforización
J30: Valor que requiere atención y justificación en el apartado de observaciones
J31: Valor suficiente
J32: Valor esperado
B34: CUADRO DE OBSERVACIONES
B35: Descripción | H35: No conformidad

Sheet 150352
A1: ='PANEL DE CONTROL DISTRITAL'!A1:Q1 -> INSTITUTO NACIONAL ELECTORAL SISTEMA DE GESTIÓN DE LA CALIDAD ESTADO DE MÉXICO
D2: Distrito | E2: 3 | F2: Módulo | H2: 150352
A4: TABLERO DE CONTROL DE PROCESOS SUSTANTIVOS DEL SISTEMA DE GESTIÓN DE LA CALIDAD
A6: ='PANEL DE CONTROL DISTRITAL'!A6 -> Número | B6: ='PANEL DE CONTROL DISTRITAL'!B6 -> PROCESOS SUSTANTIVOS E INDICADORES | I6: SEMANA OPERATIVA | BC6: % AVANCE REGISTRADO
B7: ='PANEL DE CONTROL DISTRITAL'!B7 -> DESCRIPCIÓN | E7: ='PANEL DE CONTROL DISTRITAL'!E7 -> MEDICIÓN | I7: ='PANEL DE CONTROL DISTRITAL'!A5 -> CAMPAÑA ANUAL INTENSA 2024 CAMPAÑA ESPECIAL DE ACTUALIZACIÓN PARA EL PROCESO ELECTORAL EXTRAORDINARIO (CEAPEE) 2024-2025
B9: ='PANEL DE CONTROL DISTRITAL'!B8 -> Proceso | C9: ='PANEL DE CONTROL DISTRITAL'!C8 -> Dueño de Proceso | D9: ='PANEL DE CONTROL DISTRITAL'!D8 -> Indicador | E9: ='PANEL DE CONTROL DISTRITAL'!E8 -> Cálculo | F9: ='PANEL DE CONTROL DISTRITAL'!F8 -> Periodo | G9: ='PANEL DE CONTROL DISTRITAL'!G8 -> Estimado | H9: ='PANEL DE CONTROL DISTRITAL'!H8 -> Nominativo | I9: ='150151'!I9 -> 2024-41 | J9: ='150151'!J9 -> 2024-42 | K9: ='150151'!K9 -> 2024-43 | L9: ='150151'!L9 -> 2024-44 | M9: ='150151'!M9 -> 2024-45 | N9: ='150151'!N9 -> 2024-46 | O9: ='150151'!O9 -> 2024-47 | P9: ='150151'!P9 -> 2024-48 | ... X9: ='150151'!X9 -> 2024-56 | Y9: 2024-57 | Z9: 2024-58 | AA9: 2024-59 | AB9: 2025-01 | AC9: 2025-02 | AD9: 2025-03 | AE9: 2025-04 | AF9: 2025-05 | AG9: 2025-06 | AH9: 2025-07 | AI9: 2025-08 | AJ9: 2025-09 | AK9: 2025-10 | AL9: 2025-11 | AM9: 2025-12 | AN9: 2025-13 | AO9: 2025-14 | AP9: 2025-15 | AQ9: 2025-16 | AR9: 2025-17 | AS9: 2025-18 | AT9: 2025-19 | AU9: 2025-20 | AV9: 2025-21 | AW9: 2025-22 | AX9: 2025-23 | AY9: 2025-24 | AZ9: 2025-25 | BA9: 2025-26 | BB9: 2025-27
A10: ='PANEL DE CONTROL DISTRITAL'!A9 -> 1 | B10: ='PANEL DE CONTROL DISTRITAL'!B9 -> ENTREVISTA | C10: ='PANEL DE CONTROL DISTRITAL'!C9 -> Auxiliar de Atención Ciudadana | D10: ='PANEL DE CONTROL DISTRITAL'!D9 -> Fichas requisitadas correctamente= | E10: ='PANEL DE CONTROL DISTRITAL'!E9 -> (Fichas requisitadas correctamente / Fichas revisadas en la muestra del 10%) x 100 | F10: ='PANEL DE CONTROL DISTRITAL'!F9 -> Semanal (remesa) | G10: ='PANEL DE CONTROL DISTRITAL'!G9 -> 0.9 | H10: ='PANEL DE CONTROL DISTRITAL'!H9 -> Fichas requistadas correctamente | I10: 0 | J10: 48 | K10: 50 | L10: 33 | M10: 48 | N10: 36 | O10: 42 | P10: 43 | Q10: 43 | R10: 34 | S10: 50 | T10: 58 | U10: 45 | V10: 61 | W10: 62 | X10: 57 | Y10: 56 | Z10: 43 | AA10: 10 | AB10: 0 | AC10: 0 | AD10: 0 | BC10: =IFERROR(SUM(I10:BB10)/SUM(I11:BB11),0) -> 1
H11: ='PANEL DE CONTROL DISTRITAL'!H10 -> Fichas revisadas en la muestra del 10% | I11: 0 | J11: 48 | K11: 50 | L11: 33 | M11: 48 | N11: 36 | O11: 42 | P11: 43 | Q11: 43 | R11: 34 | S11: 50 | T11: 58 | U11: 45 | V11: 61 | W11: 62 | X11: 57 | Y11: 56 | Z11: 43 | AA11: 10 | AB11: 0 | AC11: 0 | AD11: 0
A13: ='PANEL DE CONTROL DISTRITAL'!A12 -> 2 | B13: ='PANEL DE CONTROL DISTRITAL'!B12 -> TRÁMITE | C13: ='PANEL DE CONTROL DISTRITAL'!C12 -> Operador de Equipo Tecnológico | D13: ='PANEL DE CONTROL DISTRITAL'!D12 -> Trámites exitosos efectivos= | E13: ='PANEL DE CONTROL DISTRITAL'!E12 -> (Número de trámites exitosos / Número de trámites aplicados) x 100 | F13: ='PANEL DE CONTROL DISTRITAL'!F12 -> Semanal (remesa) | G13: ='PANEL DE CONTROL DISTRITAL'!G12 -> 0.9 | H13: ='PANEL DE CONTROL DISTRITAL'!H12 -> Número de trámites exitosos | I13: 0 | J13: 476 | K13: 497 | L13: 328 | M13: 478 | N13: 356 | O13: 416 | P13: 434 | Q13: 434 | R13: 336 | S13: 495 | T13: 579 | U13: 451 | V13: 613 | W13: 622 | X13: 566 | Y13: 554 | Z13: 422 | AA13: 93 | AB13: 0 | AC13: 0 | AD13: 0 | BC13: =IFERROR(SUM(I13:BB13)/SUM(I14:BB14),0) -> 0.99791845
H14: ='PANEL DE CONTROL DISTRITAL'!H13 -> Número de trámites aplicados | I14: 0 | J14: 476 | K14: 497 | L14: 328 | M14: 479 | N14: 356 | O14: 417 | P14: 434 | Q14: 434 | R14: 336 | S14: 497 | T14: 581 | U14: 452 | V14: 614 | W14: 622 | X14: 567 | Y14: 555 | Z14: 427 | AA14: 95 | AB14: 0 | AC14: 0 | AD14: 0
A16: ='PANEL DE CONTROL DISTRITAL'!A15 -> 3 | B16: ='PANEL DE CONTROL DISTRITAL'!B15 -> TRANSFERENCIA DE LA INFORMACIÓN | C16: ='PANEL DE CONTROL DISTRITAL'!C15 -> Responsable de Módulo | D16: ='PANEL DE CONTROL DISTRITAL'!D15 -> Reenvíos exitosos = | E16: ='PANEL DE CONTROL DISTRITAL'!E15 -> (Ejecución de los scripts de reenvío de notificaciones/Solicitud de reenvíos de scripts requeridos) x100 | F16: ='PANEL DE CONTROL DISTRITAL'!F15 -> Semanal (remesa) | G16: ='PANEL DE CONTROL DISTRITAL'!G15 -> 1 | H16: ='PANEL DE CONTROL DISTRITAL'!H15 -> Ejecución de los scripts de reenvío de notificaciones | I16: 0 | J16: 0 | K16: 0 | L16: 0 | M16: 0 | N16: 0 | O16: 0 | P16: 0 | Q16: 0 | R16: 0 | S16: 0 | T16: 0 | U16: 0 | V16: 0 | W16: 0 | X16: 0 | Y16: 0 | Z16: 0 | AA16: 0 | AB16: 0 | AC16: 0 | AD16: 0 | BC16: =IFERROR(SUM(I16:BB16)/SUM(I17:BB17),1) -> 1
H17: ='PANEL DE CONTROL DISTRITAL'!H16 -> Solicitud de reevíos de scripts requeridos | I17: 0 | J17: 0 | K17: 0 | L17: 0 | M17: 0 | N17: 0 | O17: 0 | P17: 0 | Q17: 0 | R17: 0 | S17: 0 | T17: 0 | U17: 0 | V17: 0 | W17: 0 | X17: 0 | Y17: 0 | Z17: 0 | AA17: 0 | AB17: 0 | AC17: 0 | AD17: 0
A19: ='PANEL DE CONTROL DISTRITAL'!A18 -> 4 | B19: ='PANEL DE CONTROL DISTRITAL'!B18 -> CONCILIACIÓN DE CREDENCIALES PARA VOTAR | C19: ='PANEL DE CONTROL DISTRITAL'!C18 -> Responsable de Módulo | D19: ='PANEL DE CONTROL DISTRITAL'!D18 -> Credenciales disponibles para entrega = | E19: ='PANEL DE CONTROL DISTRITAL'!E18 -> [(Credenciales recibidas - credenciales inconsistentes) / Credenciales recibidas] x 100 | F19: ='PANEL DE CONTROL DISTRITAL'!F18 -> Semanal (remesa) | G19: ='PANEL DE CONTROL DISTRITAL'!G18 -> 0.9 | H19: ='PANEL DE CONTROL DISTRITAL'!H18 -> Credenciales Recibidas - Credenciales inconsistentes | I19: 0 | J19: 531 | K19: 491 | L19: 252 | M19: 567 | N19: 333 | O19: 499 | P19: 405 | Q19: 303 | R19: 565 | S19: 261 | T19: 599 | U19: 408 | V19: 647 | W19: 603 | X19: 544 | Y19: 616 | Z19: 325 | AA19: 0 | AB19: 0 | AC19: 0 | AD19: 0 | BC19: =IFERROR(SUM(I19:BB19)/SUM(I20:BB20),0) -> 1
H20: ='PANEL DE CONTROL DISTRITAL'!H19 -> Credenciales recibidas | I20: 0 | J20: 531 | K20: 491 | L20: 252 | M20: 567 | N20: 333 | O20: 499 | P20: 405 | Q20: 303 | R20: 565 | S20: 261 | T20: 599 | U20: 408 | V20: 647 | W20: 603 | X20: 544 | Y20: 616 | Z20: 325 | AA20: 0 | AB20: 0 | AC20: 0 | AD20: 0
A22: ='PANEL DE CONTROL DISTRITAL'!A21 -> 5 | B22: ='PANEL DE CONTROL DISTRITAL'!B21 -> CONCILIACIÓN DE CREDENCIALES PARA VOTAR | C22: ='PANEL DE CONTROL DISTRITAL'!C21 -> Responsable de Módulo | D22: ='PANEL DE CONTROL DISTRITAL'!D21 -> Arqueo de Credenciales = | E22: ='PANEL DE CONTROL DISTRITAL'!E21 -> (Credenciales disponibles (físicas)/ Credenciales disponibles registradas en SIIRFE) x 100 | F22: ='PANEL DE CONTROL DISTRITAL'!F21 -> Semanal (remesa) | G22: ='PANEL DE CONTROL DISTRITAL'!G21 -> 1 | H22: ='PANEL DE CONTROL DISTRITAL'!H21 -> Credenciales disponibles (físicas) | I22: 0 | J22: 661 | K22: 636 | L22: 496 | M22: 625 | N22: 572 | O22: 595 | P22: 587 | Q22: 502 | R22: 691 | S22: 471 | T22: 628 | U22: 563 | V22: 637 | W22: 737 | X22: 705 | Y22: 729 | Z22: 632 | AA22: 514 | AB22: 0 | AC22: 0 | AD22: 0 | BC22: =IFERROR(SUM(I22:BB22)/SUM(I23:BB23),0) -> 1
H23: ='PANEL DE CONTROL DISTRITAL'!H22 -> Credenciales disponibles registradas en SIIRFE | I23: 0 | J23: 661 | K23: 636 | L23: 496 | M23: 625 | N23: 572 | O23: 595 | P23: 587 | Q23: 502 | R23: 691 | S23: 471 | T23: 628 | U23: 563 | V23: 637 | W23: 737 | X23: 705 | Y23: 729 | Z23: 632 | AA23: 514 | AB23: 0 | AC23: 0 | AD23: 0
A25: ='PANEL DE CONTROL DISTRITAL'!A24 -> 6 | B25: ='PANEL DE CONTROL DISTRITAL'!B24 -> ENTREGA DE LA CREDENCIAL PARA VOTAR | C25: ='PANEL DE CONTROL DISTRITAL'!C24 -> Operador de Equipo Tecnológico | D25: ='PANEL DE CONTROL DISTRITAL'!D24 -> Efectividad de entrega de CPV en MAC = | E25: ='PANEL DE CONTROL DISTRITAL'!E24 -> (Total de credenciales entregadas / Total de ciudadanas y ciudadanos que acuden al MAC a recoger su credencial) x 100 | F25: ='PANEL DE CONTROL DISTRITAL'!F24 -> Semanal (remesa) | G25: ='PANEL DE CONTROL DISTRITAL'!G24 -> 0.9 | H25: ='PANEL DE CONTROL DISTRITAL'!H24 -> Total de credenciales entregadas | I25: 0 | J25: 576 | K25: 516 | L25: 392 | M25: 438 | N25: 386 | O25: 476 | P25: 413 | Q25: 384 | R25: 376 | S25: 481 | T25: 442 | U25: 473 | V25: 572 | W25: 503 | X25: 576 | Y25: 592 | Z25: 419 | AA25: 118 | AB25: 0 | AC25: 0 | AD25: 0 | BC25: =IFERROR(SUM(I25:BB25)/SUM(I26:BB26),0) -> 0.99926281
H26: ='PANEL DE CONTROL DISTRITAL'!H25 -> Total de ciudadanas y ciudadanos que acuden al MAC a recoger su credencial | I26: 0 | J26: 577 | K26: 516 | L26: 392 | M26: 438 | N26: 386 | O26: 476 | P26: 413 | Q26: 387 | R26: 376 | S26: 481 | T26: 442 | U26: 473 | V26: 572 | W26: 504 | X26: 576 | Y26: 592 | Z26: 419 | AA26: 119 | AB26: 0 | AC26: 0 | AD26: 0
B27: *Registre el valor nominal solicitado en la celda, el resultado proporcional esta automatizado.
I29: Semaforización
J30: Valor que requiere atención y justificación en el apartado de observaciones
J31: Valor suficiente
J32: Valor esperado
B34: CUADRO DE OBSERVACIONES
B35: Descripción | H35: No conformidad

Sheet 150353
A1: ='PANEL DE CONTROL DISTRITAL'!A1:Q1 -> INSTITUTO NACIONAL ELECTORAL SISTEMA DE GESTIÓN DE LA CALIDAD ESTADO DE MÉXICO
D2: Distrito | E2: 3 | F2: Módulo | H2: 150353
A4: TABLERO DE CONTROL DE PROCESOS SUSTANTIVOS DEL SISTEMA DE GESTIÓN DE LA CALIDAD
A6: ='PANEL DE CONTROL DISTRITAL'!A6 -> Número | B6: ='PANEL DE CONTROL DISTRITAL'!B6 -> PROCESOS SUSTANTIVOS E INDICADORES | I6: SEMANA OPERATIVA | BC6: % AVANCE REGISTRADO
B7: ='PANEL DE CONTROL DISTRITAL'!B7 -> DESCRIPCIÓN | E7: ='PANEL DE CONTROL DISTRITAL'!E7 -> MEDICIÓN | I7: ='PANEL DE CONTROL DISTRITAL'!A5 -> CAMPAÑA ANUAL INTENSA 2024 CAMPAÑA ESPECIAL DE ACTUALIZACIÓN PARA EL PROCESO ELECTORAL EXTRAORDINARIO (CEAPEE) 2024-2025
B9: ='PANEL DE CONTROL DISTRITAL'!B8 -> Proceso | C9: ='PANEL DE CONTROL DISTRITAL'!C8 -> Dueño de Proceso | D9: ='PANEL DE CONTROL DISTRITAL'!D8 -> Indicador | E9: ='PANEL DE CONTROL DISTRITAL'!E8 -> Cálculo | F9: ='PANEL DE CONTROL DISTRITAL'!F8 -> Periodo | G9: ='PANEL DE CONTROL DISTRITAL'!G8 -> Estimado | H9: ='PANEL DE CONTROL DISTRITAL'!H8 -> Nominativo | I9: ='150151'!I9 -> 2024-41 | J9: ='150151'!J9 -> 2024-42 | K9: ='150151'!K9 -> 2024-43 | L9: ='150151'!L9 -> 2024-44 | M9: ='150151'!M9 -> 2024-45 | N9: ='150151'!N9 -> 2024-46 | O9: ='150151'!O9 -> 2024-47 | P9: ='150151'!P9 -> 2024-48 | ... X9: ='150151'!X9 -> 2024-56 | Y9: 2024-57 | Z9: 2024-58 | AA9: 2024-59 | AB9: 2025-01 | AC9: 2025-02 | AD9: 2025-03 | AE9: 2025-04 | AF9: 2025-05 | AG9: 2025-06 | AH9: 2025-07 | AI9: 2025-08 | AJ9: 2025-09 | AK9: 2025-10 | AL9: 2025-11 | AM9: 2025-12 | AN9: 2025-13 | AO9: 2025-14 | AP9: 2025-15 | AQ9: 2025-16 | AR9: 2025-17 | AS9: 2025-18 | AT9: 2025-19 | AU9: 2025-20 | AV9: 2025-21 | AW9: 2025-22 | AX9: 2025-23 | AY9: 2025-24 | AZ9: 2025-25 | BA9: 2025-26 | BB9: 2025-27
A10: ='PANEL DE CONTROL DISTRITAL'!A9 -> 1 | B10: ='PANEL DE CONTROL DISTRITAL'!B9 -> ENTREVISTA | C10: ='PANEL DE CONTROL DISTRITAL'!C9 -> Auxiliar de Atención Ciudadana | D10: ='PANEL DE CONTROL DISTRITAL'!D9 -> Fichas requisitadas correctamente= | E10: ='PANEL DE CONTROL DISTRITAL'!E9 -> (Fichas requisitadas correctamente / Fichas revisadas en la muestra del 10%) x 100 | F10: ='PANEL DE CONTROL DISTRITAL'!F9 -> Semanal (remesa) | G10: ='PANEL DE CONTROL DISTRITAL'!G9 -> 0.9 | H10: ='PANEL DE CONTROL DISTRITAL'!H9 -> Fichas requistadas correctamente | I10: 0 | J10: 15 | K10: 10 | L10: 10 | M10: 14 | N10: 5 | O10: 15 | P10: 12 | Q10: 13 | R10: 12 | S10: 8 | T10: 18 | U10: 12 | V10: 18 | W10: 20 | X10: 17 | Y10: 13 | Z10: 4 | AA10: 1 | AB10: 0 | AC10: 0 | AD10: 0 | BC10: =IFERROR(SUM(I10:BB10)/SUM(I11:BB11),0) -> 1
H11: ='PANEL DE CONTROL DISTRITAL'!H10 -> Fichas revisadas en la muestra del 10% | I11: 0 | J11: 15 | K11: 10 | L11: 10 | M11: 14 | N11: 5 | O11: 15 | P11: 12 | Q11: 13 | R11: 12 | S11: 8 | T11: 18 | U11: 12 | V11: 18 | W11: 20 | X11: 17 | Y11: 13 | Z11: 4 | AA11: 1 | AB11: 0 | AC11: 0 | AD11: 0
A13: ='PANEL DE CONTROL DISTRITAL'!A12 -> 2 | B13: ='PANEL DE CONTROL DISTRITAL'!B12 -> TRÁMITE | C13: ='PANEL DE CONTROL DISTRITAL'!C12 -> Operador de Equipo Tecnológico | D13: ='PANEL DE CONTROL DISTRITAL'!D12 -> Trámites exitosos efectivos= | E13: ='PANEL DE CONTROL DISTRITAL'!E12 -> (Número de trámites exitosos / Número de trámites aplicados) x 100 | F13: ='PANEL DE CONTROL DISTRITAL'!F12 -> Semanal (remesa) | G13: ='PANEL DE CONTROL DISTRITAL'!G12 -> 0.9 | H13: ='PANEL DE CONTROL DISTRITAL'!H12 -> Número de trámites exitosos | I13: 0 | J13: 153 | K13: 103 | L13: 102 | M13: 140 | N13: 57 | O13: 156 | P13: 123 | Q13: 129 | R13: 124 | S13: 82 | T13: 188 | U13: 122 | V13: 181 | W13: 209 | X13: 117 | Y13: 131 | Z13: 44 | AA13: 15 | AB13: 0 | AC13: 0 | AD13: 0 | BC13: =IFERROR(SUM(I13:BB13)/SUM(I14:BB14),0) -> 0.99816514
H14: ='PANEL DE CONTROL DISTRITAL'!H13 -> Número de trámites aplicados | I14: 0 | J14: 154 | K14: 103 | L14: 102 | M14: 140 | N14: 57 | O14: 156 | P14: 123 | Q14: 130 | R14: 125 | S14: 82 | T14: 188 | U14: 122 | V14: 181 | W14: 209 | X14: 117 | Y14: 132 | Z14: 44 | AA14: 15 | AB14: 0 | AC14: 0 | AD14: 0
A16: ='PANEL DE CONTROL DISTRITAL'!A15 -> 3 | B16: ='PANEL DE CONTROL DISTRITAL'!B15 -> TRANSFERENCIA DE LA INFORMACIÓN | C16: ='PANEL DE CONTROL DISTRITAL'!C15 -> Responsable de Módulo | D16: ='PANEL DE CONTROL DISTRITAL'!D15 -> Reenvíos exitosos = | E16: ='PANEL DE CONTROL DISTRITAL'!E15 -> (Ejecución de los scripts de reenvío de notificaciones/Solicitud de reenvíos de scripts requeridos) x100 | F16: ='PANEL DE CONTROL DISTRITAL'!F15 -> Semanal (remesa) | G16: ='PANEL DE CONTROL DISTRITAL'!G15 -> 1 | H16: ='PANEL DE CONTROL DISTRITAL'!H15 -> Ejecución de los scripts de reenvío de notificaciones | I16: 0 | J16: 0 | K16: 0 | L16: 0 | M16: 0 | N16: 0 | O16: 0 | P16: 0 | Q16: 0 | R16: 0 | S16: 0 | T16: 0 | U16: 0 | V16: 0 | W16: 0 | X16: 0 | Y16: 0 | Z16: 0 | AA16: 0 | AB16: 0 | AC16: 0 | AD16: 0 | BC16: =IFERROR(SUM(I16:BB16)/SUM(I17:BB17),1) -> 1
H17: ='PANEL DE CONTROL DISTRITAL'!H16 -> Solicitud de reevíos de scripts requeridos | I17: 0 | J17: 0 | K17: 0 | L17: 0 | M17: 0 | N17: 0 | O17: 0 | P17: 0 | Q17: 0 | R17: 0 | S17: 0 | T17: 0 | U17: 0 | V17: 0 | W17: 0 | X17: 0 | Y17: 0 | Z17: 0 | AA17: 0 | AB17: 0 | AC17: 0 | AD17: 0
A19: ='PANEL DE CONTROL DISTRITAL'!A18 -> 4 | B19: ='PANEL DE CONTROL DISTRITAL'!B18 -> CONCILIACIÓN DE CREDENCIALES PARA VOTAR | C19: ='PANEL DE CONTROL DISTRITAL'!C18 -> Responsable de Módulo | D19: ='PANEL DE CONTROL DISTRITAL'!D18 -> Credenciales disponibles para entrega = | E19: ='PANEL DE CONTROL DISTRITAL'!E18 -> [(Credenciales recibidas - credenciales inconsistentes) / Credenciales recibidas] x 100 | F19: ='PANEL DE CONTROL DISTRITAL'!F18 -> Semanal (remesa) | G19: ='PANEL DE CONTROL DISTRITAL'!G18 -> 0.9 | H19: ='PANEL DE CONTROL DISTRITAL'!H18 -> Credenciales Recibidas - Credenciales inconsistentes | I19: 0 | J19: 93 | K19: 146 | L19: 61 | M19: 155 | N19: 96 | O19: 70 | P19: 175 | Q19: 91 | R19: 162 | S19: 91 | T19: 116 | U19: 153 | V19: 122 | W19: 228 | X19: 174 | Y19: 126 | Z19: 90 | AA19: 0 | AB19: 0 | AC19: 0 | AD19: 0 | BC19: =IFERROR(SUM(I19:BB19)/SUM(I20:BB20),0) -> 1
H20: ='PANEL DE CONTROL DISTRITAL'!H19 -> Credenciales recibidas | I20: 0 | J20: 93 | K20: 146 | L20: 61 | M20: 155 | N20: 96 | O20: 70 | P20: 175 | Q20: 91 | R20: 162 | S20: 91 | T20: 116 | U20: 153 | V20: 122 | W20: 228 | X20: 174 | Y20: 126 | Z20: 90 | AA20: 0 | AB20: 0 | AC20: 0 | AD20: 0
A22: ='PANEL DE CONTROL DISTRITAL'!A21 -> 5 | B22: ='PANEL DE CONTROL DISTRITAL'!B21 -> CONCILIACIÓN DE CREDENCIALES PARA VOTAR | C22: ='PANEL DE CONTROL DISTRITAL'!C21 -> Responsable de Módulo | D22: ='PANEL DE CONTROL DISTRITAL'!D21 -> Arqueo de Credenciales = | E22: ='PANEL DE CONTROL DISTRITAL'!E21 -> (Credenciales disponibles (físicas)/ Credenciales disponibles registradas en SIIRFE) x 100 | F22: ='PANEL DE CONTROL DISTRITAL'!F21 -> Semanal (remesa) | G22: ='PANEL DE CONTROL DISTRITAL'!G21 -> 1 | H22: ='PANEL DE CONTROL DISTRITAL'!H21 -> Credenciales disponibles (físicas) | I22: 0 | J22: 291 | K22: 329 | L22: 325 | M22: 327 | N22: 334 | O22: 280 | P22: 325 | Q22: 303 | R22: 339 | S22: 329 | T22: 265 | U22: 335 | V22: 345 | W22: 394 | X22: 451 | Y22: 296 | Z22: 259 | AA22: 251 | AB22: 0 | AC22: 0 | AD22: 0 | BC22: =IFERROR(SUM(I22:BB22)/SUM(I23:BB23),0) -> 1
H23: ='PANEL DE CONTROL DISTRITAL'!H22 -> Credenciales disponibles registradas en SIIRFE | I23: 0 | J23: 291 | K23: 329 | L23: 325 | M23: 327 | N23: 334 | O23: 280 | P23: 325 | Q23: 303 | R23: 339 | S23: 329 | T23: 265 | U23: 335 | V23: 345 | W23: 394 | X23: 451 | Y23: 296 | Z23: 259 | AA23: 251 | AB23: 0 | AC23: 0 | AD23: 0
A25: ='PANEL DE CONTROL DISTRITAL'!A24 -> 6 | B25: ='PANEL DE CONTROL DISTRITAL'!B24 -> ENTREGA DE LA CREDENCIAL PARA VOTAR | C25: ='PANEL DE CONTROL DISTRITAL'!C24 -> Operador de Equipo Tecnológico | D25: ='PANEL DE CONTROL DISTRITAL'!D24 -> Efectividad de entrega de CPV en MAC = | E25: ='PANEL DE CONTROL DISTRITAL'!E24 -> (Total de credenciales entregadas / Total de ciudadanas y ciudadanos que acuden al MAC a recoger su credencial) x 100 | F25: ='PANEL DE CONTROL DISTRITAL'!F24 -> Semanal (remesa) | G25: ='PANEL DE CONTROL DISTRITAL'!G24 -> 0.9 | H25: ='PANEL DE CONTROL DISTRITAL'!H24 -> Total de credenciales entregadas | I25: 0 | J25: 179 | K25: 108 | L25: 65 | M25: 153 | N25: 96 | O25: 124 | P25: 130 | Q25: 111 | R25: 126 | S25: 101 | T25: 180 | U25: 83 | V25: 109 | W25: 179 | X25: 117 | Y25: 281 | Z25: 126 | AA25: 8 | AB25: 0 | AC25: 0 | AD25: 0 | BC25: =IFERROR(SUM(I25:BB25)/SUM(I26:BB26),0) -> 0.99956083
H26: ='PANEL DE CONTROL DISTRITAL'!H25 -> Total de ciudadanas y ciudadanos que acuden al MAC a recoger su credencial | I26: 0 | J26: 179 | K26: 108 | L26: 65 | M26: 153 | N26: 96 | O26: 124 | P26: 130 | Q26: 111 | R26: 126 | S26: 101 | T26: 180 | U26: 84 | V26: 109 | W26: 179 | X26: 117 | Y26: 281 | Z26: 126 | AA26: 8 | AB26: 0 | AC26: 0 | AD26: 0
B27: *Registre el valor nominal solicitado en la celda, el resultado proporcional esta automatizado.
I29: Semaforización
J30: Valor que requiere atención y justificación en el apartado de observaciones
J31: Valor suficiente
J32: Valor esperado
B34: CUADRO DE OBSERVACIONES
B35: Descripción | H35: No conformidad

Sheet 150451
A1: ='PANEL DE CONTROL DISTRITAL'!A1:Q1 -> INSTITUTO NACIONAL ELECTORAL SISTEMA DE GESTIÓN DE LA CALIDAD ESTADO DE MÉXICO
D2: Distrito | E2: 4 | F2: Módulo | H2: 150451
A4: TABLERO DE CONTROL DE PROCESOS SUSTANTIVOS DEL SISTEMA DE GESTIÓN DE LA CALIDAD
A6: ='PANEL DE CONTROL DISTRITAL'!A6 -> Número | B6: ='PANEL DE CONTROL DISTRITAL'!B6 -> PROCESOS SUSTANTIVOS E INDICADORES | I6: SEMANA OPERATIVA | BC6: % AVANCE REGISTRADO
B7: ='PANEL DE CONTROL DISTRITAL'!B7 -> DESCRIPCIÓN | E7: ='PANEL DE CONTROL DISTRITAL'!E7 -> MEDICIÓN | I7: ='PANEL DE CONTROL DISTRITAL'!A5 -> CAMPAÑA ANUAL INTENSA 2024 CAMPAÑA ESPECIAL DE ACTUALIZACIÓN PARA EL PROCESO ELECTORAL EXTRAORDINARIO (CEAPEE) 2024-2025
B9: ='PANEL DE CONTROL DISTRITAL'!B8 -> Proceso | C9: ='PANEL DE CONTROL DISTRITAL'!C8 -> Dueño de Proceso | D9: ='PANEL DE CONTROL DISTRITAL'!D8 -> Indicador | E9: ='PANEL DE CONTROL DISTRITAL'!E8 -> Cálculo | F9: ='PANEL DE CONTROL DISTRITAL'!F8 -> Periodo | G9: ='PANEL DE CONTROL DISTRITAL'!G8 -> Estimado | H9: ='PANEL DE CONTROL DISTRITAL'!H8 -> Nominativo | I9: ='150151'!I9 -> 2024-41 | J9: ='150151'!J9 -> 2024-42 | K9: ='150151'!K9 -> 2024-43 | L9: ='150151'!L9 -> 2024-44 | M9: ='150151'!M9 -> 2024-45 | N9: ='150151'!N9 -> 2024-46 | O9: ='150151'!O9 -> 2024-47 | P9: ='150151'!P9 -> 2024-48 | ... X9: ='150151'!X9 -> 2024-56 | Y9: 2024-57 | Z9: 2024-58 | AA9: 2024-59 | AB9: 2025-01 | AC9: 2025-02 | AD9: 2025-03 | AE9: 2025-04 | AF9: 2025-05 | AG9: 2025-06 | AH9: 2025-07 | AI9: 2025-08 | AJ9: 2025-09 | AK9: 2025-10 | AL9: 2025-11 | AM9: 2025-12 | AN9: 2025-13 | AO9: 2025-14 | AP9: 2025-15 | AQ9: 2025-16 | AR9: 2025-17 | AS9: 2025-18 | AT9: 2025-19 | AU9: 2025-20 | AV9: 2025-21 | AW9: 2025-22 | AX9: 2025-23 | AY9: 2025-24 | AZ9: 2025-25 | BA9: 2025-26 | BB9: 2025-27
A10: ='PANEL DE CONTROL DISTRITAL'!A9 -> 1 | B10: ='PANEL DE CONTROL DISTRITAL'!B9 -> ENTREVISTA | C10: ='PANEL DE CONTROL DISTRITAL'!C9 -> Auxiliar de Atención Ciudadana | D10: ='PANEL DE CONTROL DISTRITAL'!D9 -> Fichas requisitadas correctamente= | E10: ='PANEL DE CONTROL DISTRITAL'!E9 -> (Fichas requisitadas correctamente / Fichas revisadas en la muestra del 10%) x 100 | F10: ='PANEL DE CONTROL DISTRITAL'!F9 -> Semanal (remesa) | G10: ='PANEL DE CONTROL DISTRITAL'!G9 -> 0.9 | H10: ='PANEL DE CONTROL DISTRITAL'!H9 -> Fichas requistadas correctamente | I10: 0 | J10: 102 | K10: 93 | L10: 59 | M10: 95 | N10: 84 | O10: 106 | P10: 107 | Q10: 104 | R10: 88 | S10: 102 | T10: 109 | U10: 89 | V10: 118 | W10: 113 | X10: 104 | Y10: 105 | Z10: 71 | AA10: 21 | AB10: 0 | AC10: 0 | AD10: 0 | BC10: =IFERROR(SUM(I10:BB10)/SUM(I11:BB11),0) -> 0.98875074
H11: ='PANEL DE CONTROL DISTRITAL'!H10 -> Fichas revisadas en la muestra del 10% | I11: 0 | J11: 102 | K11: 94 | L11: 60 | M11: 96 | N11: 84 | O11: 106 | P11: 108 | Q11: 105 | R11: 90 | S11: 102 | T11: 113 | U11: 89 | V11: 120 | W11: 113 | X11: 109 | Y11: 106 | Z11: 71 | AA11: 21 | AB11: 0 | AC11: 0 | AD11: 0
A13: ='PANEL DE CONTROL DISTRITAL'!A12 -> 2 | B13: ='PANEL DE CONTROL DISTRITAL'!B12 -> TRÁMITE | C13: ='PANEL DE CONTROL DISTRITAL'!C12 -> Operador de Equipo Tecnológico | D13: ='PANEL DE CONTROL DISTRITAL'!D12 -> Trámites exitosos efectivos= | E13: ='PANEL DE CONTROL DISTRITAL'!E12 -> (Número de trámites exitosos / Número de trámites aplicados) x 100 | F13: ='PANEL DE CONTROL DISTRITAL'!F12 -> Semanal (remesa) | G13: ='PANEL DE CONTROL DISTRITAL'!G12 -> 0.9 | H13: ='PANEL DE CONTROL DISTRITAL'!H12 -> Número de trámites exitosos | I13: 0 | J13: 979 | K13: 908 | L13: 586 | M13: 922 | N13: 808 | O13: 1020 | P13: 1032 | Q13: 996 | R13: 856 | S13: 978 | T13: 1089 | U13: 860 | V13: 1073 | W13: 1090 | X13: 1039 | Y13: 1033 | Z13: 692 | AA13: 209 | AB13: 0 | AC13: 0 | AD13: 0 | BC13: =IFERROR(SUM(I13:BB13)/SUM(I14:BB14),0) -> 0.99833302
H14: ='PANEL DE CONTROL DISTRITAL'!H13 -> Número de trámites aplicados | I14: 0 | J14: 979 | K14: 911 | L14: 586 | M14: 922 | N14: 808 | O14: 1020 | P14: 1033 | Q14: 998 | R14: 856 | S14: 978 | T14: 1090 | U14: 862 | V14: 1076 | W14: 1093 | X14: 1044 | Y14: 1036 | Z14: 695 | AA14: 210 | AB14: 0 | AC14: 0 | AD14: 0
A16: ='PANEL DE CONTROL DISTRITAL'!A15 -> 3 | B16: ='PANEL DE CONTROL DISTRITAL'!B15 -> TRANSFERENCIA DE LA INFORMACIÓN | C16: ='PANEL DE CONTROL DISTRITAL'!C15 -> Responsable de Módulo | D16: ='PANEL DE CONTROL DISTRITAL'!D15 -> Reenvíos exitosos = | E16: ='PANEL DE CONTROL DISTRITAL'!E15 -> (Ejecución de los scripts de reenvío de notificaciones/Solicitud de reenvíos de scripts requeridos) x100 | F16: ='PANEL DE CONTROL DISTRITAL'!F15 -> Semanal (remesa) | G16: ='PANEL DE CONTROL DISTRITAL'!G15 -> 1 | H16: ='PANEL DE CONTROL DISTRITAL'!H15 -> Ejecución de los scripts de reenvío de notificaciones | I16: 0 | J16: 0 | K16: 0 | L16: 0 | M16: 0 | N16: 0 | O16: 0 | P16: 0 | Q16: 0 | R16: 0 | S16: 0 | T16: 0 | U16: 0 | V16: 0 | W16: 0 | X16: 0 | Y16: 0 | Z16: 0 | AA16: 0 | AB16: 0 | AC16: 0 | AD16: 0 | BC16: =IFERROR(SUM(I16:BB16)/SUM(I17:BB17),1) -> 1
H17: ='PANEL DE CONTROL DISTRITAL'!H16 -> Solicitud de reevíos de scripts requeridos | I17: 0 | J17: 0 | K17: 0 | L17: 0 | M17: 0 | N17: 0 | O17: 0 | P17: 0 | Q17: 0 | R17: 0 | S17: 0 | T17: 0 | U17: 0 | V17: 0 | W17: 0 | X17: 0 | Y17: 0 | Z17: 0 | AA17: 0 | AB17: 0 | AC17: 0 | AD17: 0
A19: ='PANEL DE CONTROL DISTRITAL'!A18 -> 4 | B19: ='PANEL DE CONTROL DISTRITAL'!B18 -> CONCILIACIÓN DE CREDENCIALES PARA VOTAR | C19: ='PANEL DE CONTROL DISTRITAL'!C18 -> Responsable de Módulo | D19: ='PANEL DE CONTROL DISTRITAL'!D18 -> Credenciales disponibles para entrega = | E19: ='PANEL DE CONTROL DISTRITAL'!E18 -> [(Credenciales recibidas - credenciales inconsistentes) / Credenciales recibidas] x 100 | F19: ='PANEL DE CONTROL DISTRITAL'!F18 -> Semanal (remesa) | G19: ='PANEL DE CONTROL DISTRITAL'!G18 -> 0.9 | H19: ='PANEL DE CONTROL DISTRITAL'!H18 -> Credenciales Recibidas - Credenciales inconsistentes | I19: 0 | J19: 973 | K19: 1165 | L19: 475 | M19: 1056 | N19: 719 | O19: 1016 | P19: 1025 | Q19: 1006 | R19: 1005 | S19: 901 | T19: 751 | U19: 1293 | V19: 888 | W19: 1077 | X19: 1088 | Y19: 1226 | Z19: 420 | AA19: 218 | AB19: 0 | AC19: 0 | AD19: 0 | BC19: =IFERROR(SUM(I19:BB19)/SUM(I20:BB20),0) -> 1
H20: ='PANEL DE CONTROL DISTRITAL'!H19 -> Credenciales recibidas | I20: 0 | J20: 973 | K20: 1165 | L20: 475 | M20: 1056 | N20: 719 | O20: 1016 | P20: 1025 | Q20: 1006 | R20: 1005 | S20: 901 | T20: 751 | U20: 1293 | V20: 888 | W20: 1077 | X20: 1088 | Y20: 1226 | Z20: 420 | AA20: 218 | AB20: 0 | AC20: 0 | AD20: 0
A22: ='PANEL DE CONTROL DISTRITAL'!A21 -> 5 | B22: ='PANEL DE CONTROL DISTRITAL'!B21 -> CONCILIACIÓN DE CREDENCIALES PARA VOTAR | C22: ='PANEL DE CONTROL DISTRITAL'!C21 -> Responsable de Módulo | D22: ='PANEL DE CONTROL DISTRITAL'!D21 -> Arqueo de Credenciales = | E22: ='PANEL DE CONTROL DISTRITAL'!E21 -> (Credenciales disponibles (físicas)/ Credenciales disponibles registradas en SIIRFE) x 100 | F22: ='PANEL DE CONTROL DISTRITAL'!F21 -> Semanal (remesa) | G22: ='PANEL DE CONTROL DISTRITAL'!G21 -> 1 | H22: ='PANEL DE CONTROL DISTRITAL'!H21 -> Credenciales disponibles (físicas) | I22: 0 | J22: 1306 | K22: 1373 | L22: 1007 | M22: 1390 | N22: 1228 | O22: 1426 | P22: 1496 | Q22: 1459 | R22: 1681 | S22: 1459 | T22: 1230 | U22: 1543 | V22: 1503 | W22: 1567 | X22: 1623 | Y22: 1646 | Z22: 1135 | AA22: 1119 | AB22: 0 | AC22: 0 | AD22: 0 | BC22: =IFERROR(SUM(I22:BB22)/SUM(I23:BB23),0) -> 1
H23: ='PANEL DE CONTROL DISTRITAL'!H22 -> Credenciales disponibles registradas en SIIRFE | I23: 0 | J23: 1306 | K23: 1373 | L23: 1007 | M23: 1390 | N23: 1228 | O23: 1426 | P23: 1496 | Q23: 1459 | R23: 1681 | S23: 1459 | T23: 1230 | U23: 1543 | V23: 1503 | W23: 1567 | X23: 1623 | Y23: 1646 | Z23: 1135 | AA23: 1119 | AB23: 0 | AC23: 0 | AD23: 0
A25: ='PANEL DE CONTROL DISTRITAL'!A24 -> 6 | B25: ='PANEL DE CONTROL DISTRITAL'!B24 -> ENTREGA DE LA CREDENCIAL PARA VOTAR | C25: ='PANEL DE CONTROL DISTRITAL'!C24 -> Operador de Equipo Tecnológico | D25: ='PANEL DE CONTROL DISTRITAL'!D24 -> Efectividad de entrega de CPV en MAC = | E25: ='PANEL DE CONTROL DISTRITAL'!E24 -> (Total de credenciales entregadas / Total de ciudadanas y ciudadanos que acuden al MAC a recoger su credencial) x 100 | F25: ='PANEL DE CONTROL DISTRITAL'!F24 -> Semanal (remesa) | G25: ='PANEL DE CONTROL DISTRITAL'!G24 -> 0.9 | H25: ='PANEL DE CONTROL DISTRITAL'!H24 -> Total de credenciales entregadas | I25: 0 | J25: 970 | K25: 1098 | L25: 841 | M25: 673 | N25: 881 | O25: 818 | P25: 945 | Q25: 1043 | R25: 783 | S25: 1122 | T25: 979 | U25: 980 | V25: 922 | W25: 1013 | X25: 1032 | Y25: 1203 | Z25: 927 | AA25: 234 | AB25: 0 | AC25: 0 | AD25: 0 | BC25: =IFERROR(SUM(I25:BB25)/SUM(I26:BB26),0) -> 0.99987854
H26: ='PANEL DE CONTROL DISTRITAL'!H25 -> Total de ciudadanas y ciudadanos que acuden al MAC a recoger su credencial | I26: 0 | J26: 970 | K26: 1098 | L26: 841 | M26: 674 | N26: 881 | O26: 818 | P26: 945 | Q26: 1043 | R26: 783 | S26: 1122 | T26: 979 | U26: 980 | V26: 923 | W26: 1013 | X26: 1032 | Y26: 1203 | Z26: 927 | AA26: 234 | AB26: 0 | AC26: 0 | AD26: 0
B27: *Registre el valor nominal solicitado en la celda, el resultado proporcional esta automatizado.
I29: Semaforización
J30: Valor que requiere atención y justificación en el apartado de observaciones
J31: Valor suficiente
J32: Valor esperado
B34: CUADRO DE OBSERVACIONES
B35: Descripción | H35: No conformidad

Sheet 150551
A1: ='PANEL DE CONTROL DISTRITAL'!A1:Q1 -> INSTITUTO NACIONAL ELECTORAL SISTEMA DE GESTIÓN DE LA CALIDAD ESTADO DE MÉXICO
D2: Distrito | E2: 5 | F2: Módulo | H2: 150551
A4: TABLERO DE CONTROL DE PROCESOS SUSTANTIVOS DEL SISTEMA DE GESTIÓN DE LA CALIDAD
A6: ='PANEL DE CONTROL DISTRITAL'!A6 -> Número | B6: ='PANEL DE CONTROL DISTRITAL'!B6 -> PROCESOS SUSTANTIVOS E INDICADORES | I6: SEMANA OPERATIVA | BC6: % AVANCE REGISTRADO
B7: ='PANEL DE CONTROL DISTRITAL'!B7 -> DESCRIPCIÓN | E7: ='PANEL DE CONTROL DISTRITAL'!E7 -> MEDICIÓN | I7: ='PANEL DE CONTROL DISTRITAL'!A5 -> CAMPAÑA ANUAL INTENSA 2024 CAMPAÑA ESPECIAL DE ACTUALIZACIÓN PARA EL PROCESO ELECTORAL EXTRAORDINARIO (CEAPEE) 2024-2025
B9: ='PANEL DE CONTROL DISTRITAL'!B8 -> Proceso | C9: ='PANEL DE CONTROL DISTRITAL'!C8 -> Dueño de Proceso | D9: ='PANEL DE CONTROL DISTRITAL'!D8 -> Indicador | E9: ='PANEL DE CONTROL DISTRITAL'!E8 -> Cálculo | F9: ='PANEL DE CONTROL DISTRITAL'!F8 -> Periodo | G9: ='PANEL DE CONTROL DISTRITAL'!G8 -> Estimado | H9: ='PANEL DE CONTROL DISTRITAL'!H8 -> Nominativo | I9: ='150151'!I9 -> 2024-41 | J9: ='150151'!J9 -> 2024-42 | K9: ='150151'!K9 -> 2024-43 | L9: ='150151'!L9 -> 2024-44 | M9: ='150151'!M9 -> 2024-45 | N9: ='150151'!N9 -> 2024-46 | O9: ='150151'!O9 -> 2024-47 | P9: ='150151'!P9 -> 2024-48 | ... X9: ='150151'!X9 -> 2024-56 | Y9: 2024-57 | Z9: 2024-58 | AA9: 2024-59 | AB9: 2025-01 | AC9: 2025-02 | AD9: 2025-03 | AE9: 2025-04 | AF9: 2025-05 | AG9: 2025-06 | AH9: 2025-07 | AI9: 2025-08 | AJ9: 2025-09 | AK9: 2025-10 | AL9: 2025-11 | AM9: 2025-12 | AN9: 2025-13 | AO9: 2025-14 | AP9: 2025-15 | AQ9: 2025-16 | AR9: 2025-17 | AS9: 2025-18 | AT9: 2025-19 | AU9: 2025-20 | AV9: 2025-21 | AW9: 2025-22 | AX9: 2025-23 | AY9: 2025-24 | AZ9: 2025-25 | BA9: 2025-26 | BB9: 2025-27
A10: ='PANEL DE CONTROL DISTRITAL'!A9 -> 1 | B10: ='PANEL DE CONTROL DISTRITAL'!B9 -> ENTREVISTA | C10: ='PANEL DE CONTROL DISTRITAL'!C9 -> Auxiliar de Atención Ciudadana | D10: ='PANEL DE CONTROL DISTRITAL'!D9 -> Fichas requisitadas correctamente= | E10: ='PANEL DE CONTROL DISTRITAL'!E9 -> (Fichas requisitadas correctamente / Fichas revisadas en la muestra del 10%) x 100 | F10: ='PANEL DE CONTROL DISTRITAL'!F9 -> Semanal (remesa) | G10: ='PANEL DE CONTROL DISTRITAL'!G9 -> 0.9 | H10: ='PANEL DE CONTROL DISTRITAL'!H9 -> Fichas requistadas correctamente | I10: 0 | J10: 52 | K10: 49 | L10: 32 | M10: 48 | N10: 44 | O10: 57 | P10: 52 | Q10: 54 | R10: 42 | S10: 54 | T10: 58 | U10: 50 | V10: 64 | W10: 61 | X10: 56 | Y10: 56 | Z10: 37 | AA10: 6 | AB10: 0 | AC10: 0 | AD10: 0 | BC10: =IFERROR(SUM(I10:BB10)/SUM(I11:BB11),0) -> 1
H11: ='PANEL DE CONTROL DISTRITAL'!H10 -> Fichas revisadas en la muestra del 10% | I11: 0 | J11: 52 | K11: 49 | L11: 32 | M11: 48 | N11: 44 | O11: 57 | P11: 52 | Q11: 54 | R11: 42 | S11: 54 | T11: 58 | U11: 50 | V11: 64 | W11: 61 | X11: 56 | Y11: 56 | Z11: 37 | AA11: 6 | AB11: 0 | AC11: 0 | AD11: 0
A13: ='PANEL DE CONTROL DISTRITAL'!A12 -> 2 | B13: ='PANEL DE CONTROL DISTRITAL'!B12 -> TRÁMITE | C13: ='PANEL DE CONTROL DISTRITAL'!C12 -> Operador de Equipo Tecnológico | D13: ='PANEL DE CONTROL DISTRITAL'!D12 -> Trámites exitosos efectivos= | E13: ='PANEL DE CONTROL DISTRITAL'!E12 -> (Número de trámites exitosos / Número de trámites aplicados) x 100 | F13: ='PANEL DE CONTROL DISTRITAL'!F12 -> Semanal (remesa) | G13: ='PANEL DE CONTROL DISTRITAL'!G12 -> 0.9 | H13: ='PANEL DE CONTROL DISTRITAL'!H12 -> Número de trámites exitosos | I13: 0 | J13: 527 | K13: 486 | L13: 318 | M13: 465 | N13: 447 | O13: 558 | P13: 522 | Q13: 530 | R13: 416 | S13: 530 | T13: 585 | U13: 492 | V13: 632 | W13: 606 | X13: 553 | Y13: 554 | Z13: 370 | AA13: 100 | AB13: 0 | AC13: 0 | AD13: 0 | BC13: =IFERROR(SUM(I13:BB13)/SUM(I14:BB14),0) -> 0.99450738
H14: ='PANEL DE CONTROL DISTRITAL'!H13 -> Número de trámites aplicados | I14: 0 | J14: 529 | K14: 486 | L14: 318 | M14: 467 | N14: 448 | O14: 558 | P14: 524 | Q14: 532 | R14: 417 | S14: 530 | T14: 587 | U14: 497 | V14: 637 | W14: 607 | X14: 556 | Y14: 557 | Z14: 371 | AA14: 118 | AB14: 0 | AC14: 0 | AD14: 0
A16: ='PANEL DE CONTROL DISTRITAL'!A15 -> 3 | B16: ='PANEL DE CONTROL DISTRITAL'!B15 -> TRANSFERENCIA DE LA INFORMACIÓN | C16: ='PANEL DE CONTROL DISTRITAL'!C15 -> Responsable de Módulo | D16: ='PANEL DE CONTROL DISTRITAL'!D15 -> Reenvíos exitosos = | E16: ='PANEL DE CONTROL DISTRITAL'!E15 -> (Ejecución de los scripts de reenvío de notificaciones/Solicitud de reenvíos de scripts requeridos) x100 | F16: ='PANEL DE CONTROL DISTRITAL'!F15 -> Semanal (remesa) | G16: ='PANEL DE CONTROL DISTRITAL'!G15 -> 1 | H16: ='PANEL DE CONTROL DISTRITAL'!H15 -> Ejecución de los scripts de reenvío de notificaciones | I16: 0 | J16: 0 | K16: 0 | L16: 0 | M16: 0 | N16: 0 | O16: 0 | P16: 0 | Q16: 0 | R16: 0 | S16: 0 | T16: 0 | U16: 0 | V16: 0 | W16: 0 | X16: 0 | Y16: 0 | Z16: 0 | AA16: 0 | AB16: 0 | AC16: 0 | AD16: 0 | BC16: =IFERROR(SUM(I16:BB16)/SUM(I17:BB17),1) -> 1
H17: ='PANEL DE CONTROL DISTRITAL'!H16 -> Solicitud de reevíos de scripts requeridos | I17: 0 | J17: 0 | K17: 0 | L17: 0 | M17: 0 | N17: 0 | O17: 0 | P17: 0 | Q17: 0 | R17: 0 | S17: 0 | T17: 0 | U17: 0 | V17: 0 | W17: 0 | X17: 0 | Y17: 0 | Z17: 0 | AA17: 0 | AB17: 0 | AC17: 0 | AD17: 0
A19: ='PANEL DE CONTROL DISTRITAL'!A18 -> 4 | B19: ='PANEL DE CONTROL DISTRITAL'!B18 -> CONCILIACIÓN DE CREDENCIALES PARA VOTAR | C19: ='PANEL DE CONTROL DISTRITAL'!C18 -> Responsable de Módulo | D19: ='PANEL DE CONTROL DISTRITAL'!D18 -> Credenciales disponibles para entrega = | E19: ='PANEL DE CONTROL DISTRITAL'!E18 -> [(Credenciales recibidas - credenciales inconsistentes) / Credenciales recibidas] x 100 | F19: ='PANEL DE CONTROL DISTRITAL'!F18 -> Semanal (remesa) | G19: ='PANEL DE CONTROL DISTRITAL'!G18 -> 0.9 | H19: ='PANEL DE CONTROL DISTRITAL'!H18 -> Credenciales Recibidas - Credenciales inconsistentes | I19: 0 | J19: 550 | K19: 600 | L19: 285 | M19: 516 | N19: 416 | O19: 543 | P19: 575 | Q19: 470 | R19: 561 | S19: 388 | T19: 504 | U19: 463 | V19: 702 | W19: 541 | X19: 767 | Y19: 439 | Z19: 476 | AA19: 0 | AB19: 0 | AC19: 0 | AD19: 0 | BC19: =IFERROR(SUM(I19:BB19)/SUM(I20:BB20),0) -> 1
H20: ='PANEL DE CONTROL DISTRITAL'!H19 -> Credenciales recibidas | I20: 0 | J20: 550 | K20: 600 | L20: 285 | M20: 516 | N20: 416 | O20: 543 | P20: 575 | Q20: 470 | R20: 561 | S20: 388 | T20: 504 | U20: 463 | V20: 702 | W20: 541 | X20: 767 | Y20: 439 | Z20: 476 | AA20: 0 | AB20: 0 | AC20: 0 | AD20: 0
A22: ='PANEL DE CONTROL DISTRITAL'!A21 -> 5 | B22: ='PANEL DE CONTROL DISTRITAL'!B21 -> CONCILIACIÓN DE CREDENCIALES PARA VOTAR | C22: ='PANEL DE CONTROL DISTRITAL'!C21 -> Responsable de Módulo | D22: ='PANEL DE CONTROL DISTRITAL'!D21 -> Arqueo de Credenciales = | E22: ='PANEL DE CONTROL DISTRITAL'!E21 -> (Credenciales disponibles (físicas)/ Credenciales disponibles registradas en SIIRFE) x 100 | F22: ='PANEL DE CONTROL DISTRITAL'!F21 -> Semanal (remesa) | G22: ='PANEL DE CONTROL DISTRITAL'!G21 -> 1 | H22: ='PANEL DE CONTROL DISTRITAL'!H21 -> Credenciales disponibles (físicas) | I22: 0 | J22: 806 | K22: 860 | L22: 772 | M22: 786 | N22: 777 | O22: 865 | P22: 900 | Q22: 850 | R22: 1040 | S22: 797 | T22: 843 | U22: 745 | V22: 928 | W22: 906 | X22: 1046 | Y22: 858 | Z22: 952 | AA22: 815 | AB22: 0 | AC22: 0 | AD22: 0 | BC22: =IFERROR(SUM(I22:BB22)/SUM(I23:BB23),0) -> 1
H23: ='PANEL DE CONTROL DISTRITAL'!H22 -> Credenciales disponibles registradas en SIIRFE | I23: 0 | J23: 806 | K23: 860 | L23: 772 | M23: 786 | N23: 777 | O23: 865 | P23: 900 | Q23: 850 | R23: 1040 | S23: 797 | T23: 843 | U23: 745 | V23: 928 | W23: 906 | X23: 1046 | Y23: 858 | Z23: 952 | AA23: 815 | AB23: 0 | AC23: 0 | AD23: 0
A25: ='PANEL DE CONTROL DISTRITAL'!A24 -> 6 | B25: ='PANEL DE CONTROL DISTRITAL'!B24 -> ENTREGA DE LA CREDENCIAL PARA VOTAR | C25: ='PANEL DE CONTROL DISTRITAL'!C24 -> Operador de Equipo Tecnológico | D25: ='PANEL DE CONTROL DISTRITAL'!D24 -> Efectividad de entrega de CPV en MAC = | E25: ='PANEL DE CONTROL DISTRITAL'!E24 -> (Total de credenciales entregadas / Total de ciudadanas y ciudadanos que acuden al MAC a recoger su credencial) x 100 | F25: ='PANEL DE CONTROL DISTRITAL'!F24 -> Semanal (remesa) | G25: ='PANEL DE CONTROL DISTRITAL'!G24 -> 0.9 | H25: ='PANEL DE CONTROL DISTRITAL'!H24 -> Total de credenciales entregadas | I25: 0 | J25: 548 | K25: 546 | L25: 373 | M25: 502 | N25: 424 | O25: 455 | P25: 538 | Q25: 520 | R25: 371 | S25: 631 | T25: 458 | U25: 561 | V25: 510 | W25: 563 | X25: 627 | Y25: 627 | Z25: 375 | AA25: 137 | AB25: 0 | AC25: 0 | AD25: 0 | BC25: =IFERROR(SUM(I25:BB25)/SUM(I26:BB26),0) -> 0.99942994
H26: ='PANEL DE CONTROL DISTRITAL'!H25 -> Total de ciudadanas y ciudadanos que acuden al MAC a recoger su credencial | I26: 0 | J26: 548 | K26: 547 | L26: 374 | M26: 502 | N26: 424 | O26: 455 | P26: 538 | Q26: 520 | R26: 371 | S26: 631 | T26: 459 | U26: 561 | V26: 510 | W26: 563 | X26: 629 | Y26: 627 | Z26: 375 | AA26: 137 | AB26: 0 | AC26: 0 | AD26: 0
B27: *Registre el valor nominal solicitado en la celda, el resultado proporcional esta automatizado.
I29: Semaforización
J30: Valor que requiere atención y justificación en el apartado de observaciones
J31: Valor suficiente
J32: Valor esperado
B34: CUADRO DE OBSERVACIONES
B35: Descripción | H35: No conformidad

Sheet 150651
A1: ='PANEL DE CONTROL DISTRITAL'!A1:Q1 -> INSTITUTO NACIONAL ELECTORAL SISTEMA DE GESTIÓN DE LA CALIDAD ESTADO DE MÉXICO
D2: Distrito | E2: 6 | F2: Módulo | H2: 150651
A4: TABLERO DE CONTROL DE PROCESOS SUSTANTIVOS DEL SISTEMA DE GESTIÓN DE LA CALIDAD
A6: ='PANEL DE CONTROL DISTRITAL'!A6 -> Número | B6: ='PANEL DE CONTROL DISTRITAL'!B6 -> PROCESOS SUSTANTIVOS E INDICADORES | I6: SEMANA OPERATIVA | BC6: % AVANCE REGISTRADO
B7: ='PANEL DE CONTROL DISTRITAL'!B7 -> DESCRIPCIÓN | E7: ='PANEL DE CONTROL DISTRITAL'!E7 -> MEDICIÓN | I7: ='PANEL DE CONTROL DISTRITAL'!A5 -> CAMPAÑA ANUAL INTENSA 2024 CAMPAÑA ESPECIAL DE ACTUALIZACIÓN PARA EL PROCESO ELECTORAL EXTRAORDINARIO (CEAPEE) 2024-2025
B9: ='PANEL DE CONTROL DISTRITAL'!B8 -> Proceso | C9: ='PANEL DE CONTROL DISTRITAL'!C8 -> Dueño de Proceso | D9: ='PANEL DE CONTROL DISTRITAL'!D8 -> Indicador | E9: ='PANEL DE CONTROL DISTRITAL'!E8 -> Cálculo | F9: ='PANEL DE CONTROL DISTRITAL'!F8 -> Periodo | G9: ='PANEL DE CONTROL DISTRITAL'!G8 -> Estimado | H9: ='PANEL DE CONTROL DISTRITAL'!H8 -> Nominativo | I9: ='150151'!I9 -> 2024-41 | J9: ='150151'!J9 -> 2024-42 | K9: ='150151'!K9 -> 2024-43 | L9: ='150151'!L9 -> 2024-44 | M9: ='150151'!M9 -> 2024-45 | N9: ='150151'!N9 -> 2024-46 | O9: ='150151'!O9 -> 2024-47 | P9: ='150151'!P9 -> 2024-48 | ... X9: ='150151'!X9 -> 2024-56 | Y9: 2024-57 | Z9: 2024-58 | AA9: 2024-59 | AB9: 2025-01 | AC9: 2025-02 | AD9: 2025-03 | AE9: 2025-04 | AF9: 2025-05 | AG9: 2025-06 | AH9: 2025-07 | AI9: 2025-08 | AJ9: 2025-09 | AK9: 2025-10 | AL9: 2025-11 | AM9: 2025-12 | AN9: 2025-13 | AO9: 2025-14 | AP9: 2025-15 | AQ9: 2025-16 | AR9: 2025-17 | AS9: 2025-18 | AT9: 2025-19 | AU9: 2025-20 | AV9: 2025-21 | AW9: 2025-22 | AX9: 2025-23 | AY9: 2025-24 | AZ9: 2025-25 | BA9: 2025-26 | BB9: 2025-27
A10: ='PANEL DE CONTROL DISTRITAL'!A9 -> 1 | B10: ='PANEL DE CONTROL DISTRITAL'!B9 -> ENTREVISTA | C10: ='PANEL DE CONTROL DISTRITAL'!C9 -> Auxiliar de Atención Ciudadana | D10: ='PANEL DE CONTROL DISTRITAL'!D9 -> Fichas requisitadas correctamente= | E10: ='PANEL DE CONTROL DISTRITAL'!E9 -> (Fichas requisitadas correctamente / Fichas revisadas en la muestra del 10%) x 100 | F10: ='PANEL DE CONTROL DISTRITAL'!F9 -> Semanal (remesa) | G10: ='PANEL DE CONTROL DISTRITAL'!G9 -> 0.9 | H10: ='PANEL DE CONTROL DISTRITAL'!H9 -> Fichas requistadas correctamente | I10: 0 | J10: 79 | K10: 75 | L10: 51 | M10: 93 | N10: 73 | O10: 95 | P10: 93 | Q10: 89 | R10: 72 | S10: 92 | T10: 66 | U10: 58 | V10: 73 | W10: 98 | X10: 74 | Y10: 125 | Z10: 87 | AA10: 22 | AB10: 0 | AC10: 0 | AD10: 0 | BC10: =IFERROR(SUM(I10:BB10)/SUM(I11:BB11),0) -> 0.96851472
H11: ='PANEL DE CONTROL DISTRITAL'!H10 -> Fichas revisadas en la muestra del 10% | I11: 0 | J11: 88 | K11: 82 | L11: 55 | M11: 93 | N11: 77 | O11: 95 | P11: 97 | Q11: 89 | R11: 78 | S11: 92 | T11: 78 | U11: 58 | V11: 73 | W11: 98 | X11: 74 | Y11: 125 | Z11: 87 | AA11: 22 | AB11: 0 | AC11: 0 | AD11: 0
A13: ='PANEL DE CONTROL DISTRITAL'!A12 -> 2 | B13: ='PANEL DE CONTROL DISTRITAL'!B12 -> TRÁMITE | C13: ='PANEL DE CONTROL DISTRITAL'!C12 -> Operador de Equipo Tecnológico | D13: ='PANEL DE CONTROL DISTRITAL'!D12 -> Trámites exitosos efectivos= | E13: ='PANEL DE CONTROL DISTRITAL'!E12 -> (Número de trámites exitosos / Número de trámites aplicados) x 100 | F13: ='PANEL DE CONTROL DISTRITAL'!F12 -> Semanal (remesa) | G13: ='PANEL DE CONTROL DISTRITAL'!G12 -> 0.9 | H13: ='PANEL DE CONTROL DISTRITAL'!H12 -> Número de trámites exitosos | I13: 0 | J13: 884 | K13: 818 | L13: 559 | M13: 931 | N13: 772 | O13: 946 | P13: 977 | Q13: 894 | R13: 918 | S13: 918 | T13: 781 | U13: 582 | V13: 734 | W13: 980 | X13: 745 | Y13: 1218 | Z13: 885 | AA13: 228 | AB13: 0 | AC13: 0 | AD13: 0 | BC13: =IFERROR(SUM(I13:BB13)/SUM(I14:BB14),0) -> 1.0072973
H14: ='PANEL DE CONTROL DISTRITAL'!H13 -> Número de trámites aplicados | I14: 0 | J14: 886 | K14: 820 | L14: 559 | M14: 931 | N14: 773 | O14: 950 | P14: 979 | Q14: 897 | R14: 785 | S14: 920 | T14: 782 | U14: 583 | V14: 737 | W14: 981 | X14: 746 | Y14: 1219 | Z14: 887 | AA14: 228 | AB14: 0 | AC14: 0 | AD14: 0
A16: ='PANEL DE CONTROL DISTRITAL'!A15 -> 3 | B16: ='PANEL DE CONTROL DISTRITAL'!B15 -> TRANSFERENCIA DE LA INFORMACIÓN | C16: ='PANEL DE CONTROL DISTRITAL'!C15 -> Responsable de Módulo | D16: ='PANEL DE CONTROL DISTRITAL'!D15 -> Reenvíos exitosos = | E16: ='PANEL DE CONTROL DISTRITAL'!E15 -> (Ejecución de los scripts de reenvío de notificaciones/Solicitud de reenvíos de scripts requeridos) x100 | F16: ='PANEL DE CONTROL DISTRITAL'!F15 -> Semanal (remesa) | G16: ='PANEL DE CONTROL DISTRITAL'!G15 -> 1 | H16: ='PANEL DE CONTROL DISTRITAL'!H15 -> Ejecución de los scripts de reenvío de notificaciones | I16: 0 | J16: 0 | K16: 1 | L16: 0 | M16: 2 | N16: 0 | O16: 0 | P16: 2 | Q16: 1 | R16: 0 | S16: 2 | T16: 1 | U16: 0 | V16: 1 | W16: 0 | X16: 0 | Y16: 0 | Z16: 0 | AA16: 0 | AB16: 0 | AC16: 0 | AD16: 0 | BC16: =IFERROR(SUM(I16:BB16)/SUM(I17:BB17),1) -> 1
H17: ='PANEL DE CONTROL DISTRITAL'!H16 -> Solicitud de reevíos de scripts requeridos | I17: 0 | J17: 0 | K17: 1 | L17: 0 | M17: 2 | N17: 0 | O17: 0 | P17: 2 | Q17: 1 | R17: 0 | S17: 2 | T17: 1 | U17: 0 | V17: 1 | W17: 0 | X17: 0 | Y17: 0 | Z17: 0 | AA17: 0 | AB17: 0 | AC17: 0 | AD17: 0
A19: ='PANEL DE CONTROL DISTRITAL'!A18 -> 4 | B19: ='PANEL DE CONTROL DISTRITAL'!B18 -> CONCILIACIÓN DE CREDENCIALES PARA VOTAR | C19: ='PANEL DE CONTROL DISTRITAL'!C18 -> Responsable de Módulo | D19: ='PANEL DE CONTROL DISTRITAL'!D18 -> Credenciales disponibles para entrega = | E19: ='PANEL DE CONTROL DISTRITAL'!E18 -> [(Credenciales recibidas - credenciales inconsistentes) / Credenciales recibidas] x 100 | F19: ='PANEL DE CONTROL DISTRITAL'!F18 -> Semanal (remesa) | G19: ='PANEL DE CONTROL DISTRITAL'!G18 -> 0.9 | H19: ='PANEL DE CONTROL DISTRITAL'!H18 -> Credenciales Recibidas - Credenciales inconsistentes | I19: 0 | J19: 937 | K19: 1004 | L19: 443 | M19: 1004 | N19: 748 | O19: 956 | P19: 962 | Q19: 955 | R19: 846 | S19: 864 | T19: 910 | U19: 478 | V19: 770 | W19: 768 | X19: 1050 | Y19: 881 | Z19: 1016 | AA19: 0 | AB19: 0 | AC19: 0 | AD19: 0 | BC19: =IFERROR(SUM(I19:BB19)/SUM(I20:AH20),0) -> 1
H20: ='PANEL DE CONTROL DISTRITAL'!H19 -> Credenciales recibidas | I20: 0 | J20: 937 | K20: 1004 | L20: 443 | M20: 1004 | N20: 748 | O20: 956 | P20: 962 | Q20: 955 | R20: 846 | S20: 864 | T20: 910 | U20: 478 | V20: 770 | W20: 768 | X20: 1050 | Y20: 881 | Z20: 1016 | AA20: 0 | AB20: 0 | AC20: 0 | AD20: 0
A22: ='PANEL DE CONTROL DISTRITAL'!A21 -> 5 | B22: ='PANEL DE CONTROL DISTRITAL'!B21 -> CONCILIACIÓN DE CREDENCIALES PARA VOTAR | C22: ='PANEL DE CONTROL DISTRITAL'!C21 -> Responsable de Módulo | D22: ='PANEL DE CONTROL DISTRITAL'!D21 -> Arqueo de Credenciales = | E22: ='PANEL DE CONTROL DISTRITAL'!E21 -> (Credenciales disponibles (físicas)/ Credenciales disponibles registradas en SIIRFE) x 100 | F22: ='PANEL DE CONTROL DISTRITAL'!F21 -> Semanal (remesa) | G22: ='PANEL DE CONTROL DISTRITAL'!G21 -> 1 | H22: ='PANEL DE CONTROL DISTRITAL'!H21 -> Credenciales disponibles (físicas) | I22: 0 | J22: 1493 | K22: 1560 | L22: 1239 | M22: 1585 | N22: 1462 | O22: 1619 | P22: 1631 | Q22: 1704 | R22: 1793 | S22: 1757 | T22: 1651 | U22: 1383 | V22: 1477 | W22: 1520 | X22: 1764 | Y22: 1689 | Z22: 1809 | AA22: 1479 | AB22: 0 | AC22: 0 | AD22: 0 | BC22: =IFERROR(SUM(I22:BB22)/SUM(I23:BB23),0) -> 1
H23: ='PANEL DE CONTROL DISTRITAL'!H22 -> Credenciales disponibles registradas en SIIRFE | I23: 0 | J23: 1493 | K23: 1560 | L23: 1239 | M23: 1585 | N23: 1462 | O23: 1619 | P23: 1631 | Q23: 1704 | R23: 1793 | S23: 1757 | T23: 1651 | U23: 1383 | V23: 1477 | W23: 1520 | X23: 1764 | Y23: 1689 | Z23: 1809 | AA23: 1479 | AB23: 0 | AC23: 0 | AD23: 0
A25: ='PANEL DE CONTROL DISTRITAL'!A24 -> 6 | B25: ='PANEL DE CONTROL DISTRITAL'!B24 -> ENTREGA DE LA CREDENCIAL PARA VOTAR | C25: ='PANEL DE CONTROL DISTRITAL'!C24 -> Operador de Equipo Tecnológico | D25: ='PANEL DE CONTROL DISTRITAL'!D24 -> Efectividad de entrega de CPV en MAC = | E25: ='PANEL DE CONTROL DISTRITAL'!E24 -> (Total de credenciales entregadas / Total de ciudadanas y ciudadanos que acuden al MAC a recoger su credencial) x 100 | F25: ='PANEL DE CONTROL DISTRITAL'!F24 -> Semanal (remesa) | G25: ='PANEL DE CONTROL DISTRITAL'!G24 -> 0.9 | H25: ='PANEL DE CONTROL DISTRITAL'!H24 -> Total de credenciales entregadas | I25: 0 | J25: 917 | K25: 937 | L25: 764 | M25: 658 | N25: 871 | O25: 799 | P25: 935 | Q25: 882 | R25: 757 | S25: 900 | T25: 1016 | U25: 746 | V25: 661 | W25: 725 | X25: 806 | Y25: 956 | Z25: 891 | AA25: 330 | AB25: 0 | AC25: 0 | AD25: 0 | BC25: =IFERROR(SUM(I25:BB25)/SUM(I26:BB26),0) -> 0.99958783
H26: ='PANEL DE CONTROL DISTRITAL'!H25 -> Total de ciudadanas y ciudadanos que acuden al MAC a recoger su credencial | I26: 0 | J26: 917 | K26: 938 | L26: 765 | M26: 658 | N26: 871 | O26: 799 | P26: 936 | Q26: 882 | R26: 758 | S26: 900 | T26: 1017 | U26: 746 | V26: 661 | W26: 725 | X26: 807 | Y26: 956 | Z26: 891 | AA26: 330 | AB26: 0 | AC26: 0 | AD26: 0
B27: *Registre el valor nominal solicitado en la celda, el resultado proporcional esta automatizado.
I29: Semaforización
J30: Valor que requiere atención y justificación en el apartado de observaciones
J31: Valor suficiente
J32: Valor esperado
B34: CUADRO DE OBSERVACIONES
B35: Descripción | H35: No conformidad

Sheet 150652
A1: ='PANEL DE CONTROL DISTRITAL'!A1:Q1 -> INSTITUTO NACIONAL ELECTORAL SISTEMA DE GESTIÓN DE LA CALIDAD ESTADO DE MÉXICO
D2: Distrito | E2: 6 | F2: Módulo | H2: 150652
A4: TABLERO DE CONTROL DE PROCESOS SUSTANTIVOS DEL SISTEMA DE GESTIÓN DE LA CALIDAD
A6: ='PANEL DE CONTROL DISTRITAL'!A6 -> Número | B6: ='PANEL DE CONTROL DISTRITAL'!B6 -> PROCESOS SUSTANTIVOS E INDICADORES | I6: SEMANA OPERATIVA | BC6: % AVANCE REGISTRADO
B7: ='PANEL DE CONTROL DISTRITAL'!B7 -> DESCRIPCIÓN | E7: ='PANEL DE CONTROL DISTRITAL'!E7 -> MEDICIÓN | I7: ='PANEL DE CONTROL DISTRITAL'!A5 -> CAMPAÑA ANUAL INTENSA 2024 CAMPAÑA ESPECIAL DE ACTUALIZACIÓN PARA EL PROCESO ELECTORAL EXTRAORDINARIO (CEAPEE) 2024-2025
B9: ='PANEL DE CONTROL DISTRITAL'!B8 -> Proceso | C9: ='PANEL DE CONTROL DISTRITAL'!C8 -> Dueño de Proceso | D9: ='PANEL DE CONTROL DISTRITAL'!D8 -> Indicador | E9: ='PANEL DE CONTROL DISTRITAL'!E8 -> Cálculo | F9: ='PANEL DE CONTROL DISTRITAL'!F8 -> Periodo | G9: ='PANEL DE CONTROL DISTRITAL'!G8 -> Estimado | H9: ='PANEL DE CONTROL DISTRITAL'!H8 -> Nominativo | I9: ='150151'!I9 -> 2024-41 | J9: ='150151'!J9 -> 2024-42 | K9: ='150151'!K9 -> 2024-43 | L9: ='150151'!L9 -> 2024-44 | M9: ='150151'!M9 -> 2024-45 | N9: ='150151'!N9 -> 2024-46 | O9: ='150151'!O9 -> 2024-47 | P9: ='150151'!P9 -> 2024-48 | ... X9: ='150151'!X9 -> 2024-56 | Y9: 2024-57 | Z9: 2024-58 | AA9: 2024-59 | AB9: 2025-01 | AC9: 2025-02 | AD9: 2025-03 | AE9: 2025-04 | AF9: 2025-05 | AG9: 2025-06 | AH9: 2025-07 | AI9: 2025-08 | AJ9: 2025-09 | AK9: 2025-10 | AL9: 2025-11 | AM9: 2025-12 | AN9: 2025-13 | AO9: 2025-14 | AP9: 2025-15 | AQ9: 2025-16 | AR9: 2025-17 | AS9: 2025-18 | AT9: 2025-19 | AU9: 2025-20 | AV9: 2025-21 | AW9: 2025-22 | AX9: 2025-23 | AY9: 2025-24 | AZ9: 2025-25 | BA9: 2025-26 | BB9: 2025-27
A10: ='PANEL DE CONTROL DISTRITAL'!A9 -> 1 | B10: ='PANEL DE CONTROL DISTRITAL'!B9 -> ENTREVISTA | C10: ='PANEL DE CONTROL DISTRITAL'!C9 -> Auxiliar de Atención Ciudadana | D10: ='PANEL DE CONTROL DISTRITAL'!D9 -> Fichas requisitadas correctamente= | E10: ='PANEL DE CONTROL DISTRITAL'!E9 -> (Fichas requisitadas correctamente / Fichas revisadas en la muestra del 10%) x 100 | F10: ='PANEL DE CONTROL DISTRITAL'!F9 -> Semanal (remesa) | G10: ='PANEL DE CONTROL DISTRITAL'!G9 -> 0.9 | H10: ='PANEL DE CONTROL DISTRITAL'!H9 -> Fichas requistadas correctamente | I10: 0 | J10: 53 | K10: 46 | L10: 32 | M10: 47 | N10: 33 | O10: 43 | P10: 44 | Q10: 46 | R10: 34 | S10: 40 | T10: 50 | U10: 38 | V10: 51 | W10: 62 | X10: 54 | Y10: 55 | Z10: 35 | AA10: 8 | AB10: 0 | AC10: 0 | AD10: 0 | BC10: =IFERROR(SUM(I10:BB10)/SUM(I11:BB11),0) -> 1
H11: ='PANEL DE CONTROL DISTRITAL'!H10 -> Fichas revisadas en la muestra del 10% | I11: 0 | J11: 53 | K11: 46 | L11: 32 | M11: 47 | N11: 33 | O11: 43 | P11: 44 | Q11: 46 | R11: 34 | S11: 40 | T11: 50 | U11: 38 | V11: 51 | W11: 62 | X11: 54 | Y11: 55 | Z11: 35 | AA11: 8 | AB11: 0 | AC11: 0 | AD11: 0
A13: ='PANEL DE CONTROL DISTRITAL'!A12 -> 2 | B13: ='PANEL DE CONTROL DISTRITAL'!B12 -> TRÁMITE | C13: ='PANEL DE CONTROL DISTRITAL'!C12 -> Operador de Equipo Tecnológico | D13: ='PANEL DE CONTROL DISTRITAL'!D12 -> Trámites exitosos efectivos= | E13: ='PANEL DE CONTROL DISTRITAL'!E12 -> (Número de trámites exitosos / Número de trámites aplicados) x 100 | F13: ='PANEL DE CONTROL DISTRITAL'!F12 -> Semanal (remesa) | G13: ='PANEL DE CONTROL DISTRITAL'!G12 -> 0.9 | H13: ='PANEL DE CONTROL DISTRITAL'!H12 -> Número de trámites exitosos | I13: 0 | J13: 529 | K13: 462 | L13: 305 | M13: 476 | N13: 331 | O13: 416 | P13: 437 | Q13: 456 | R13: 341 | S13: 392 | T13: 505 | U13: 368 | V13: 492 | W13: 610 | X13: 526 | Y13: 534 | Z13: 344 | AA13: 79 | AB13: 0 | AC13: 0 | AD13: 0 | BC13: =IFERROR(SUM(I13:BB13)/SUM(I14:BB14),0) -> 0.99724554
H14: ='PANEL DE CONTROL DISTRITAL'!H13 -> Número de trámites aplicados | I14: 0 | J14: 531 | K14: 463 | L14: 305 | M14: 477 | N14: 331 | O14: 417 | P14: 437 | Q14: 457 | R14: 341 | S14: 393 | T14: 507 | U14: 369 | V14: 493 | W14: 612 | X14: 526 | Y14: 536 | Z14: 349 | AA14: 80 | AB14: 0 | AC14: 0 | AD14: 0
A16: ='PANEL DE CONTROL DISTRITAL'!A15 -> 3 | B16: ='PANEL DE CONTROL DISTRITAL'!B15 -> TRANSFERENCIA DE LA INFORMACIÓN | C16: ='PANEL DE CONTROL DISTRITAL'!C15 -> Responsable de Módulo | D16: ='PANEL DE CONTROL DISTRITAL'!D15 -> Reenvíos exitosos = | E16: ='PANEL DE CONTROL DISTRITAL'!E15 -> (Ejecución de los scripts de reenvío de notificaciones/Solicitud de reenvíos de scripts requeridos) x100 | F16: ='PANEL DE CONTROL DISTRITAL'!F15 -> Semanal (remesa) | G16: ='PANEL DE CONTROL DISTRITAL'!G15 -> 1 | H16: ='PANEL DE CONTROL DISTRITAL'!H15 -> Ejecución de los scripts de reenvío de notificaciones | I16: 0 | J16: 1 | K16: 1 | L16: 1 | M16: 1 | N16: 0 | O16: 0 | P16: 1 | Q16: 1 | R16: 0 | S16: 1 | T16: 1 | U16: 1 | V16: 1 | W16: 0 | X16: 0 | Y16: 0 | Z16: 0 | AA16: 0 | AB16: 0 | AC16: 0 | AD16: 0 | BC16: =IFERROR(SUM(I16:BB16)/SUM(I17:BB17),1) -> 1
H17: ='PANEL DE CONTROL DISTRITAL'!H16 -> Solicitud de reevíos de scripts requeridos | I17: 0 | J17: 1 | K17: 1 | L17: 1 | M17: 1 | N17: 0 | O17: 0 | P17: 1 | Q17: 1 | R17: 0 | S17: 1 | T17: 1 | U17: 1 | V17: 1 | W17: 0 | X17: 0 | Y17: 0 | Z17: 0 | AA17: 0 | AB17: 0 | AC17: 0 | AD17: 0
A19: ='PANEL DE CONTROL DISTRITAL'!A18 -> 4 | B19: ='PANEL DE CONTROL DISTRITAL'!B18 -> CONCILIACIÓN DE CREDENCIALES PARA VOTAR | C19: ='PANEL DE CONTROL DISTRITAL'!C18 -> Responsable de Módulo | D19: ='PANEL DE CONTROL DISTRITAL'!D18 -> Credenciales disponibles para entrega = | E19: ='PANEL DE CONTROL DISTRITAL'!E18 -> [(Credenciales recibidas - credenciales inconsistentes) / Credenciales recibidas] x 100 | F19: ='PANEL DE CONTROL DISTRITAL'!F18 -> Semanal (remesa) | G19: ='PANEL DE CONTROL DISTRITAL'!G18 -> 0.9 | H19: ='PANEL DE CONTROL DISTRITAL'!H18 -> Credenciales Recibidas - Credenciales inconsistentes | I19: 0 | J19: 475 | K19: 591 | L19: 280 | M19: 510 | N19: 339 | O19: 425 | P19: 428 | Q19: 442 | R19: 455 | S19: 274 | T19: 401 | U19: 410 | V19: 469 | W19: 506 | X19: 708 | Y19: 448 | Z19: 413 | AA19: 77 | AB19: 0 | AC19: 0 | AD19: 0 | BC19: =IFERROR(SUM(I19:BB19)/SUM(I20:BB20),0) -> 1
H20: ='PANEL DE CONTROL DISTRITAL'!H19 -> Credenciales recibidas | I20: 0 | J20: 475 | K20: 591 | L20: 280 | M20: 510 | N20: 339 | O20: 425 | P20: 428 | Q20: 442 | R20: 455 | S20: 274 | T20: 401 | U20: 410 | V20: 469 | W20: 506 | X20: 708 | Y20: 448 | Z20: 413 | AA20: 77 | AB20: 0 | AC20: 0 | AD20: 0
A22: ='PANEL DE CONTROL DISTRITAL'!A21 -> 5 | B22: ='PANEL DE CONTROL DISTRITAL'!B21 -> CONCILIACIÓN DE CREDENCIALES PARA VOTAR | C22: ='PANEL DE CONTROL DISTRITAL'!C21 -> Responsable de Módulo | D22: ='PANEL DE CONTROL DISTRITAL'!D21 -> Arqueo de Credenciales = | E22: ='PANEL DE CONTROL DISTRITAL'!E21 -> (Credenciales disponibles (físicas)/ Credenciales disponibles registradas en SIIRFE) x 100 | F22: ='PANEL DE CONTROL DISTRITAL'!F21 -> Semanal (remesa) | G22: ='PANEL DE CONTROL DISTRITAL'!G21 -> 1 | H22: ='PANEL DE CONTROL DISTRITAL'!H21 -> Credenciales disponibles (físicas) | I22: 0 | J22: 668 | K22: 827 | L22: 677 | M22: 799 | N22: 675 | O22: 732 | P22: 737 | Q22: 766 | R22: 859 | S22: 655 | T22: 626 | U22: 621 | V22: 666 | W22: 737 | X22: 895 | Y22: 765 | Z22: 788 | AA22: 721 | AB22: 0 | AC22: 0 | AD22: 0 | BC22: =IFERROR(SUM(I22:BB22)/SUM(I23:BB23),0) -> 1
H23: ='PANEL DE CONTROL DISTRITAL'!H22 -> Credenciales disponibles registradas en SIIRFE | I23: 0 | J23: 668 | K23: 827 | L23: 677 | M23: 799 | N23: 675 | O23: 732 | P23: 737 | Q23: 766 | R23: 859 | S23: 655 | T23: 626 | U23: 621 | V23: 666 | W23: 737 | X23: 895 | Y23: 765 | Z23: 788 | AA23: 721 | AB23: 0 | AC23: 0 | AD23: 0
A25: ='PANEL DE CONTROL DISTRITAL'!A24 -> 6 | B25: ='PANEL DE CONTROL DISTRITAL'!B24 -> ENTREGA DE LA CREDENCIAL PARA VOTAR | C25: ='PANEL DE CONTROL DISTRITAL'!C24 -> Operador de Equipo Tecnológico | D25: ='PANEL DE CONTROL DISTRITAL'!D24 -> Efectividad de entrega de CPV en MAC = | E25: ='PANEL DE CONTROL DISTRITAL'!E24 -> (Total de credenciales entregadas / Total de ciudadanas y ciudadanos que acuden al MAC a recoger su credencial) x 100 | F25: ='PANEL DE CONTROL DISTRITAL'!F24 -> Semanal (remesa) | G25: ='PANEL DE CONTROL DISTRITAL'!G24 -> 0.9 | H25: ='PANEL DE CONTROL DISTRITAL'!H24 -> Total de credenciales entregadas | I25: 0 | J25: 418 | K25: 432 | L25: 430 | M25: 388 | N25: 463 | O25: 368 | P25: 414 | Q25: 413 | R25: 362 | S25: 478 | T25: 430 | U25: 415 | V25: 423 | W25: 435 | X25: 550 | Y25: 578 | Z25: 386 | AA25: 144 | AB25: 0 | AC25: 0 | AD25: 0 | BC25: =IFERROR(SUM(I25:BB25)/SUM(I26:BB26),0) -> 1
H26: ='PANEL DE CONTROL DISTRITAL'!H25 -> Total de ciudadanas y ciudadanos que acuden al MAC a recoger su credencial | I26: 0 | J26: 418 | K26: 432 | L26: 430 | M26: 388 | N26: 463 | O26: 368 | P26: 414 | Q26: 413 | R26: 362 | S26: 478 | T26: 430 | U26: 415 | V26: 423 | W26: 435 | X26: 550 | Y26: 578 | Z26: 386 | AA26: 144 | AB26: 0 | AC26: 0 | AD26: 0
B27: *Registre el valor nominal solicitado en la celda, el resultado proporcional esta automatizado.
I29: Semaforización
J30: Valor que requiere atención y justificación en el apartado de observaciones
J31: Valor suficiente
J32: Valor esperado
B34: CUADRO DE OBSERVACIONES
B35: Descripción | H35: No conformidad

Sheet 150751
A1: ='PANEL DE CONTROL DISTRITAL'!A1:Q1 -> INSTITUTO NACIONAL ELECTORAL SISTEMA DE GESTIÓN DE LA CALIDAD ESTADO DE MÉXICO
D2: Distrito | E2: 7 | F2: Módulo | H2: 150751
A4: TABLERO DE CONTROL DE PROCESOS SUSTANTIVOS DEL SISTEMA DE GESTIÓN DE LA CALIDAD
A6: ='PANEL DE CONTROL DISTRITAL'!A6 -> Número | B6: ='PANEL DE CONTROL DISTRITAL'!B6 -> PROCESOS SUSTANTIVOS E INDICADORES | I6: SEMANA OPERATIVA | BC6: % AVANCE REGISTRADO
B7: ='PANEL DE CONTROL DISTRITAL'!B7 -> DESCRIPCIÓN | E7: ='PANEL DE CONTROL DISTRITAL'!E7 -> MEDICIÓN | I7: ='PANEL DE CONTROL DISTRITAL'!A5 -> CAMPAÑA ANUAL INTENSA 2024 CAMPAÑA ESPECIAL DE ACTUALIZACIÓN PARA EL PROCESO ELECTORAL EXTRAORDINARIO (CEAPEE) 2024-2025
B9: ='PANEL DE CONTROL DISTRITAL'!B8 -> Proceso | C9: ='PANEL DE CONTROL DISTRITAL'!C8 -> Dueño de Proceso | D9: ='PANEL DE CONTROL DISTRITAL'!D8 -> Indicador | E9: ='PANEL DE CONTROL DISTRITAL'!E8 -> Cálculo | F9: ='PANEL DE CONTROL DISTRITAL'!F8 -> Periodo | G9: ='PANEL DE CONTROL DISTRITAL'!G8 -> Estimado | H9: ='PANEL DE CONTROL DISTRITAL'!H8 -> Nominativo | I9: ='150151'!I9 -> 2024-41 | J9: ='150151'!J9 -> 2024-42 | K9: ='150151'!K9 -> 2024-43 | L9: ='150151'!L9 -> 2024-44 | M9: ='150151'!M9 -> 2024-45 | N9: ='150151'!N9 -> 2024-46 | O9: ='150151'!O9 -> 2024-47 | P9: ='150151'!P9 -> 2024-48 | ... X9: ='150151'!X9 -> 2024-56 | Y9: 2024-57 | Z9: 2024-58 | AA9: 2024-59 | AB9: 2025-01 | AC9: 2025-02 | AD9: 2025-03 | AE9: 2025-04 | AF9: 2025-05 | AG9: 2025-06 | AH9: 2025-07 | AI9: 2025-08 | AJ9: 2025-09 | AK9: 2025-10 | AL9: 2025-11 | AM9: 2025-12 | AN9: 2025-13 | AO9: 2025-14 | AP9: 2025-15 | AQ9: 2025-16 | AR9: 2025-17 | AS9: 2025-18 | AT9: 2025-19 | AU9: 2025-20 | AV9: 2025-21 | AW9: 2025-22 | AX9: 2025-23 | AY9: 2025-24 | AZ9: 2025-25 | BA9: 2025-26 | BB9: 2025-27
A10: ='PANEL DE CONTROL DISTRITAL'!A9 -> 1 | B10: ='PANEL DE CONTROL DISTRITAL'!B9 -> ENTREVISTA | C10: ='PANEL DE CONTROL DISTRITAL'!C9 -> Auxiliar de Atención Ciudadana | D10: ='PANEL DE CONTROL DISTRITAL'!D9 -> Fichas requisitadas correctamente= | E10: ='PANEL DE CONTROL DISTRITAL'!E9 -> (Fichas requisitadas correctamente / Fichas revisadas en la muestra del 10%) x 100 | F10: ='PANEL DE CONTROL DISTRITAL'!F9 -> Semanal (remesa) | G10: ='PANEL DE CONTROL DISTRITAL'!G9 -> 0.9 | H10: ='PANEL DE CONTROL DISTRITAL'!H9 -> Fichas requistadas correctamente | I10: 0 | J10: 114 | K10: 108 | L10: 79 | M10: 117 | N10: 80 | O10: 101 | P10: 95 | Q10: 85 | R10: 70 | S10: 95 | T10: 126 | U10: 104 | V10: 139 | W10: 144 | X10: 106 | Y10: 110 | Z10: 76 | AA10: 24 | BC10: =IFERROR(SUM(I10:BB10)/SUM(I11:BB11),0) -> 1
H11: ='PANEL DE CONTROL DISTRITAL'!H10 -> Fichas revisadas en la muestra del 10% | I11: 0 | J11: 114 | K11: 108 | L11: 79 | M11: 117 | N11: 80 | O11: 101 | P11: 95 | Q11: 85 | R11: 70 | S11: 95 | T11: 126 | U11: 104 | V11: 139 | W11: 144 | X11: 106 | Y11: 110 | Z11: 76 | AA11: 24
A13: ='PANEL DE CONTROL DISTRITAL'!A12 -> 2 | B13: ='PANEL DE CONTROL DISTRITAL'!B12 -> TRÁMITE | C13: ='PANEL DE CONTROL DISTRITAL'!C12 -> Operador de Equipo Tecnológico | D13: ='PANEL DE CONTROL DISTRITAL'!D12 -> Trámites exitosos efectivos= | E13: ='PANEL DE CONTROL DISTRITAL'!E12 -> (Número de trámites exitosos / Número de trámites aplicados) x 100 | F13: ='PANEL DE CONTROL DISTRITAL'!F12 -> Semanal (remesa) | G13: ='PANEL DE CONTROL DISTRITAL'!G12 -> 0.9 | H13: ='PANEL DE CONTROL DISTRITAL'!H12 -> Número de trámites exitosos | I13: 0 | J13: 1117 | K13: 1048 | L13: 781 | M13: 1156 | N13: 783 | O13: 981 | P13: 939 | Q13: 840 | R13: 682 | S13: 926 | T13: 1232 | U13: 1027 | V13: 1382 | W13: 1265 | X13: 1044 | Y13: 783 | Z13: 760 | AA13: 242 | BC13: =IFERROR(SUM(I13:BB13)/SUM(I14:BB14),0) -> 0.97113131
H14: ='PANEL DE CONTROL DISTRITAL'!H13 -> Número de trámites aplicados | I14: 0 | J14: 1118 | K14: 1049 | L14: 783 | M14: 1159 | N14: 784 | O14: 983 | P14: 939 | Q14: 841 | R14: 683 | S14: 927 | T14: 1234 | U14: 1032 | V14: 1386 | W14: 1429 | X14: 1047 | Y14: 1097 | Z14: 760 | AA14: 242
A16: ='PANEL DE CONTROL DISTRITAL'!A15 -> 3 | B16: ='PANEL DE CONTROL DISTRITAL'!B15 -> TRANSFERENCIA DE LA INFORMACIÓN | C16: ='PANEL DE CONTROL DISTRITAL'!C15 -> Responsable de Módulo | D16: ='PANEL DE CONTROL DISTRITAL'!D15 -> Reenvíos exitosos = | E16: ='PANEL DE CONTROL DISTRITAL'!E15 -> (Ejecución de los scripts de reenvío de notificaciones/Solicitud de reenvíos de scripts requeridos) x100 | F16: ='PANEL DE CONTROL DISTRITAL'!F15 -> Semanal (remesa) | G16: ='PANEL DE CONTROL DISTRITAL'!G15 -> 1 | H16: ='PANEL DE CONTROL DISTRITAL'!H15 -> Ejecución de los scripts de reenvío de notificaciones | I16: 0 | J16: 0 | K16: 1 | L16: 1 | M16: 1 | N16: 0 | O16: 0 | P16: 0 | Q16: 1 | R16: 0 | S16: 1 | T16: 1 | U16: 1 | V16: 1 | W16: 0 | X16: 0 | Y16: 1 | Z16: 0 | AA16: 0 | BC16: =IFERROR(SUM(I16:BB16)/SUM(I17:BB17),1) -> 1
H17: ='PANEL DE CONTROL DISTRITAL'!H16 -> Solicitud de reevíos de scripts requeridos | I17: 0 | J17: 0 | K17: 1 | L17: 1 | M17: 1 | N17: 0 | O17: 0 | P17: 0 | Q17: 1 | R17: 0 | S17: 1 | T17: 1 | U17: 1 | V17: 1 | W17: 0 | X17: 0 | Y17: 1 | Z17: 0 | AA17: 0
A19: ='PANEL DE CONTROL DISTRITAL'!A18 -> 4 | B19: ='PANEL DE CONTROL DISTRITAL'!B18 -> CONCILIACIÓN DE CREDENCIALES PARA VOTAR | C19: ='PANEL DE CONTROL DISTRITAL'!C18 -> Responsable de Módulo | D19: ='PANEL DE CONTROL DISTRITAL'!D18 -> Credenciales disponibles para entrega = | E19: ='PANEL DE CONTROL DISTRITAL'!E18 -> [(Credenciales recibidas - credenciales inconsistentes) / Credenciales recibidas] x 100 | F19: ='PANEL DE CONTROL DISTRITAL'!F18 -> Semanal (remesa) | G19: ='PANEL DE CONTROL DISTRITAL'!G18 -> 0.9 | H19: ='PANEL DE CONTROL DISTRITAL'!H18 -> Credenciales Recibidas - Credenciales inconsistentes | I19: 0 | J19: 1.139 | K19: 1338 | L19: 364 | M19: 1513 | N19: 866 | O19: 915 | P19: 994 | Q19: 871 | R19: 856 | S19: 591 | T19: 1053 | U19: 991 | V19: 1532 | W19: 1148 | X19: 1465 | Y19: 1075 | Z19: 691 | AA19: 166 | BC19: =IFERROR(SUM(I19:BB19)/SUM(I20:BB20),0) -> 1
H20: ='PANEL DE CONTROL DISTRITAL'!H19 -> Credenciales recibidas | I20: 0 | J20: 1.139 | K20: 1338 | L20: 364 | M20: 1513 | N20: 866 | O20: 915 | P20: 994 | Q20: 871 | R20: 856 | S20: 591 | T20: 1053 | U20: 991 | V20: 1532 | W20: 1148 | X20: 1465 | Y20: 1075 | Z20: 691 | AA20: 166
A22: ='PANEL DE CONTROL DISTRITAL'!A21 -> 5 | B22: ='PANEL DE CONTROL DISTRITAL'!B21 -> CONCILIACIÓN DE CREDENCIALES PARA VOTAR | C22: ='PANEL DE CONTROL DISTRITAL'!C21 -> Responsable de Módulo | D22: ='PANEL DE CONTROL DISTRITAL'!D21 -> Arqueo de Credenciales = | E22: ='PANEL DE CONTROL DISTRITAL'!E21 -> (Credenciales disponibles (físicas)/ Credenciales disponibles registradas en SIIRFE) x 100 | F22: ='PANEL DE CONTROL DISTRITAL'!F21 -> Semanal (remesa) | G22: ='PANEL DE CONTROL DISTRITAL'!G21 -> 1 | H22: ='PANEL DE CONTROL DISTRITAL'!H21 -> Credenciales disponibles (físicas) | I22: 0 | J22: 1.76 | K22: 1936 | L22: 1318 | M22: 1943 | N22: 1739 | O22: 1694 | P22: 1715 | Q22: 1641 | R22: 1790 | S22: 1445 | T22: 1704 | U22: 1637 | V22: 2152 | W22: 2035 | X22: 2182 | Y22: 2020 | Z22: 1705 | AA22: 1580 | BC22: =IFERROR(SUM(I22:BB22)/SUM(I23:BB23),0) -> 1
H23: ='PANEL DE CONTROL DISTRITAL'!H22 -> Credenciales disponibles registradas en SIIRFE | I23: 0 | J23: 1.76 | K23: 1936 | L23: 1318 | M23: 1943 | N23: 1739 | O23: 1694 | P23: 1715 | Q23: 1641 | R23: 1790 | S23: 1445 | T23: 1704 | U23: 1637 | V23: 2152 | W23: 2035 | X23: 2182 | Y23: 2020 | Z23: 1705 | AA23: 1580
A25: ='PANEL DE CONTROL DISTRITAL'!A24 -> 6 | B25: ='PANEL DE CONTROL DISTRITAL'!B24 -> ENTREGA DE LA CREDENCIAL PARA VOTAR | C25: ='PANEL DE CONTROL DISTRITAL'!C24 -> Operador de Equipo Tecnológico | D25: ='PANEL DE CONTROL DISTRITAL'!D24 -> Efectividad de entrega de CPV en MAC = | E25: ='PANEL DE CONTROL DISTRITAL'!E24 -> (Total de credenciales entregadas / Total de ciudadanas y ciudadanos que acuden al MAC a recoger su credencial) x 100 | F25: ='PANEL DE CONTROL DISTRITAL'!F24 -> Semanal (remesa) | G25: ='PANEL DE CONTROL DISTRITAL'!G24 -> 0.9 | H25: ='PANEL DE CONTROL DISTRITAL'!H24 -> Total de credenciales entregadas | I25: 0 | J25: 1.186 | K25: 1162 | L25: 982 | M25: 888 | N25: 1070 | O25: 960 | P25: 960 | Q25: 945 | R25: 707 | S25: 936 | T25: 794 | U25: 1058 | V25: 1007 | W25: 1265 | X25: 1318 | Y25: 1237 | Z25: 998 | AA25: 291 | BC25: =IFERROR(SUM(I25:BB25)/SUM(I26:BB26),0) -> 0.99987938
H26: ='PANEL DE CONTROL DISTRITAL'!H25 -> Total de ciudadanas y ciudadanos que acuden al MAC a recoger su credencial | I26: 0 | J26: 1.186 | K26: 1162 | L26: 982 | M26: 888 | N26: 1070 | O26: 961 | P26: 961 | Q26: 945 | R26: 707 | S26: 936 | T26: 794 | U26: 1058 | V26: 1007 | W26: 1265 | X26: 1318 | Y26: 1237 | Z26: 998 | AA26: 291
B27: *Registre el valor nominal solicitado en la celda, el resultado proporcional esta automatizado.
I29: Semaforización
J30: Valor que requiere atención y justificación en el apartado de observaciones
J31: Valor suficiente
J32: Valor esperado
B34: CUADRO DE OBSERVACIONES
B35: Descripción | H35: No conformidad

Sheet 150851
A1: ='PANEL DE CONTROL DISTRITAL'!A1:Q1 -> INSTITUTO NACIONAL ELECTORAL SISTEMA DE GESTIÓN DE LA CALIDAD ESTADO DE MÉXICO
D2: Distrito | E2: 8 | F2: Módulo | H2: 150851
A4: TABLERO DE CONTROL DE PROCESOS SUSTANTIVOS DEL SISTEMA DE GESTIÓN DE LA CALIDAD
A6: ='PANEL DE CONTROL DISTRITAL'!A6 -> Número | B6: ='PANEL DE CONTROL DISTRITAL'!B6 -> PROCESOS SUSTANTIVOS E INDICADORES | I6: SEMANA OPERATIVA | BC6: % AVANCE REGISTRADO
B7: ='PANEL DE CONTROL DISTRITAL'!B7 -> DESCRIPCIÓN | E7: ='PANEL DE CONTROL DISTRITAL'!E7 -> MEDICIÓN | I7: ='PANEL DE CONTROL DISTRITAL'!A5 -> CAMPAÑA ANUAL INTENSA 2024 CAMPAÑA ESPECIAL DE ACTUALIZACIÓN PARA EL PROCESO ELECTORAL EXTRAORDINARIO (CEAPEE) 2024-2025
B9: ='PANEL DE CONTROL DISTRITAL'!B8 -> Proceso | C9: ='PANEL DE CONTROL DISTRITAL'!C8 -> Dueño de Proceso | D9: ='PANEL DE CONTROL DISTRITAL'!D8 -> Indicador | E9: ='PANEL DE CONTROL DISTRITAL'!E8 -> Cálculo | F9: ='PANEL DE CONTROL DISTRITAL'!F8 -> Periodo | G9: ='PANEL DE CONTROL DISTRITAL'!G8 -> Estimado | H9: ='PANEL DE CONTROL DISTRITAL'!H8 -> Nominativo | I9: ='150151'!I9 -> 2024-41 | J9: ='150151'!J9 -> 2024-42 | K9: ='150151'!K9 -> 2024-43 | L9: ='150151'!L9 -> 2024-44 | M9: ='150151'!M9 -> 2024-45 | N9: ='150151'!N9 -> 2024-46 | O9: ='150151'!O9 -> 2024-47 | P9: ='150151'!P9 -> 2024-48 | ... X9: ='150151'!X9 -> 2024-56 | Y9: 2024-57 | Z9: 2024-58 | AA9: 2024-59 | AB9: 2025-01 | AC9: 2025-02 | AD9: 2025-03 | AE9: 2025-04 | AF9: 2025-05 | AG9: 2025-06 | AH9: 2025-07 | AI9: 2025-08 | AJ9: 2025-09 | AK9: 2025-10 | AL9: 2025-11 | AM9: 2025-12 | AN9: 2025-13 | AO9: 2025-14 | AP9: 2025-15 | AQ9: 2025-16 | AR9: 2025-17 | AS9: 2025-18 | AT9: 2025-19 | AU9: 2025-20 | AV9: 2025-21 | AW9: 2025-22 | AX9: 2025-23 | AY9: 2025-24 | AZ9: 2025-25 | BA9: 2025-26 | BB9: 2025-27
A10: ='PANEL DE CONTROL DISTRITAL'!A9 -> 1 | B10: ='PANEL DE CONTROL DISTRITAL'!B9 -> ENTREVISTA | C10: ='PANEL DE CONTROL DISTRITAL'!C9 -> Auxiliar de Atención Ciudadana | D10: ='PANEL DE CONTROL DISTRITAL'!D9 -> Fichas requisitadas correctamente= | E10: ='PANEL DE CONTROL DISTRITAL'!E9 -> (Fichas requisitadas correctamente / Fichas revisadas en la muestra del 10%) x 100 | F10: ='PANEL DE CONTROL DISTRITAL'!F9 -> Semanal (remesa) | G10: ='PANEL DE CONTROL DISTRITAL'!G9 -> 0.9 | H10: ='PANEL DE CONTROL DISTRITAL'!H9 -> Fichas requistadas correctamente | I10: 0 | J10: 71 | K10: 73 | L10: 50 | M10: 74 | N10: 58 | O10: 82 | P10: 79 | Q10: 82 | R10: 72 | S10: 91 | T10: 96 | U10: 68 | V10: 92 | W10: 88 | X10: 81 | Y10: 83 | Z10: 58 | AA10: 15 | AB10: 0 | AC10: 0 | AD10: 0 | BC10: =IFERROR(SUM(I10:BB10)/SUM(I11:BB11),0) -> 1
H11: ='PANEL DE CONTROL DISTRITAL'!H10 -> Fichas revisadas en la muestra del 10% | I11: 0 | J11: 71 | K11: 73 | L11: 50 | M11: 74 | N11: 58 | O11: 82 | P11: 79 | Q11: 82 | R11: 72 | S11: 91 | T11: 96 | U11: 68 | V11: 92 | W11: 88 | X11: 81 | Y11: 83 | Z11: 58 | AA11: 15 | AB11: 0 | AC11: 0 | AD11: 0
A13: ='PANEL DE CONTROL DISTRITAL'!A12 -> 2 | B13: ='PANEL DE CONTROL DISTRITAL'!B12 -> TRÁMITE | C13: ='PANEL DE CONTROL DISTRITAL'!C12 -> Operador de Equipo Tecnológico | D13: ='PANEL DE CONTROL DISTRITAL'!D12 -> Trámites exitosos efectivos= | E13: ='PANEL DE CONTROL DISTRITAL'!E12 -> (Número de trámites exitosos / Número de trámites aplicados) x 100 | F13: ='PANEL DE CONTROL DISTRITAL'!F12 -> Semanal (remesa) | G13: ='PANEL DE CONTROL DISTRITAL'!G12 -> 0.9 | H13: ='PANEL DE CONTROL DISTRITAL'!H12 -> Número de trámites exitosos | I13: 0 | J13: 661 | K13: 657 | L13: 468 | M13: 761 | N13: 647 | O13: 826 | P13: 791 | Q13: 771 | R13: 694 | S13: 852 | T13: 897 | U13: 626 | V13: 880 | W13: 880 | X13: 800 | Y13: 802 | Z13: 587 | AA13: 150 | AB13: 0 | AC13: 0 | AD13: 0 | BC13: =IFERROR(SUM(I13:BB13)/SUM(I14:BB14),0) -> 0.99765258
H14: ='PANEL DE CONTROL DISTRITAL'!H13 -> Número de trámites aplicados | I14: 0 | J14: 664 | K14: 658 | L14: 469 | M14: 763 | N14: 650 | O14: 826 | P14: 794 | Q14: 775 | R14: 694 | S14: 856 | T14: 900 | U14: 627 | V14: 881 | W14: 883 | X14: 803 | Y14: 809 | Z14: 578 | AA14: 150 | AB14: 0 | AC14: 0 | AD14: 0
A16: ='PANEL DE CONTROL DISTRITAL'!A15 -> 3 | B16: ='PANEL DE CONTROL DISTRITAL'!B15 -> TRANSFERENCIA DE LA INFORMACIÓN | C16: ='PANEL DE CONTROL DISTRITAL'!C15 -> Responsable de Módulo | D16: ='PANEL DE CONTROL DISTRITAL'!D15 -> Reenvíos exitosos = | E16: ='PANEL DE CONTROL DISTRITAL'!E15 -> (Ejecución de los scripts de reenvío de notificaciones/Solicitud de reenvíos de scripts requeridos) x100 | F16: ='PANEL DE CONTROL DISTRITAL'!F15 -> Semanal (remesa) | G16: ='PANEL DE CONTROL DISTRITAL'!G15 -> 1 | H16: ='PANEL DE CONTROL DISTRITAL'!H15 -> Ejecución de los scripts de reenvío de notificaciones | I16: 0 | J16: 0 | K16: 0 | L16: 0 | M16: 0 | N16: 0 | O16: 0 | P16: 0 | Q16: 0 | R16: 0 | S16: 0 | T16: 0 | U16: 0 | V16: 0 | W16: 0 | X16: 0 | Y16: 0 | Z16: 0 | AA16: 0 | AB16: 0 | AC16: 0 | AD16: 0 | AE16: 0 | AF16: 0 | AG16: 0 | AH16: 0 | BC16: =IFERROR(SUM(I16:BB16)/SUM(I17:BB17),1) -> 1
H17: ='PANEL DE CONTROL DISTRITAL'!H16 -> Solicitud de reevíos de scripts requeridos | I17: 0 | J17: 0 | K17: 0 | L17: 0 | M17: 0 | N17: 0 | O17: 0 | P17: 0 | Q17: 0 | R17: 0 | S17: 0 | T17: 0 | U17: 0 | V17: 0 | W17: 0 | X17: 0 | Y17: 0 | Z17: 0 | AA17: 0 | AB17: 0 | AC17: 0 | AD17: 0 | AE17: 0 | AF17: 0 | AG17: 0 | AH17: 0
A19: ='PANEL DE CONTROL DISTRITAL'!A18 -> 4 | B19: ='PANEL DE CONTROL DISTRITAL'!B18 -> CONCILIACIÓN DE CREDENCIALES PARA VOTAR | C19: ='PANEL DE CONTROL DISTRITAL'!C18 -> Responsable de Módulo | D19: ='PANEL DE CONTROL DISTRITAL'!D18 -> Credenciales disponibles para entrega = | E19: ='PANEL DE CONTROL DISTRITAL'!E18 -> [(Credenciales recibidas - credenciales inconsistentes) / Credenciales recibidas] x 100 | F19: ='PANEL DE CONTROL DISTRITAL'!F18 -> Semanal (remesa) | G19: ='PANEL DE CONTROL DISTRITAL'!G18 -> 0.9 | H19: ='PANEL DE CONTROL DISTRITAL'!H18 -> Credenciales Recibidas - Credenciales inconsistentes | I19: 0 | J19: 703 | K19: 818 | L19: 306 | M19: 834 | N19: 640 | O19: 824 | P19: 792 | Q19: 745 | R19: 836 | S19: 704 | T19: 702 | U19: 733 | V19: 962 | W19: 729 | X19: 1118 | Y19: 827 | Z19: 507 | AA19: 0 | AB19: 0 | AC19: 0 | AD19: 0 | BC19: =IFERROR(SUM(I19:BB19)/SUM(I20:BB20),0) -> 1
H20: ='PANEL DE CONTROL DISTRITAL'!H19 -> Credenciales recibidas | I20: 0 | J20: 703 | K20: 818 | L20: 306 | M20: 834 | N20: 640 | O20: 824 | P20: 792 | Q20: 745 | R20: 836 | S20: 704 | T20: 702 | U20: 733 | V20: 962 | W20: 729 | X20: 1118 | Y20: 827 | Z20: 507 | AA20: 0 | AB20: 0 | AC20: 0 | AD20: 0
A22: ='PANEL DE CONTROL DISTRITAL'!A21 -> 5 | B22: ='PANEL DE CONTROL DISTRITAL'!B21 -> CONCILIACIÓN DE CREDENCIALES PARA VOTAR | C22: ='PANEL DE CONTROL DISTRITAL'!C21 -> Responsable de Módulo | D22: ='PANEL DE CONTROL DISTRITAL'!D21 -> Arqueo de Credenciales = | E22: ='PANEL DE CONTROL DISTRITAL'!E21 -> (Credenciales disponibles (físicas)/ Credenciales disponibles registradas en SIIRFE) x 100 | F22: ='PANEL DE CONTROL DISTRITAL'!F21 -> Semanal (remesa) | G22: ='PANEL DE CONTROL DISTRITAL'!G21 -> 1 | H22: ='PANEL DE CONTROL DISTRITAL'!H21 -> Credenciales disponibles (físicas) | I22: 0 | J22: 1160 | K22: 1243 | L22: 945 | M22: 1208 | N22: 1192 | O22: 1323 | P22: 1344 | Q22: 1275 | R22: 1581 | S22: 1337 | T22: 1255 | U22: 1198 | V22: 1439 | W22: 1361 | X22: 1725 | Y22: 1617 | Z22: 1478 | AA22: 1269 | AB22: 0 | AC22: 0 | AD22: 0 | BC22: =IFERROR(SUM(I22:BB22)/SUM(I23:BB23),0) -> 1
H23: ='PANEL DE CONTROL DISTRITAL'!H22 -> Credenciales disponibles registradas en SIIRFE | I23: 0 | J23: 1160 | K23: 1243 | L23: 945 | M23: 1208 | N23: 1192 | O23: 1323 | P23: 1344 | Q23: 1275 | R23: 1581 | S23: 1337 | T23: 1255 | U23: 1198 | V23: 1439 | W23: 1361 | X23: 1725 | Y23: 1617 | Z23: 1478 | AA23: 1269 | AB23: 0 | AC23: 0 | AD23: 0
A25: ='PANEL DE CONTROL DISTRITAL'!A24 -> 6 | B25: ='PANEL DE CONTROL DISTRITAL'!B24 -> ENTREGA DE LA CREDENCIAL PARA VOTAR | C25: ='PANEL DE CONTROL DISTRITAL'!C24 -> Operador de Equipo Tecnológico | D25: ='PANEL DE CONTROL DISTRITAL'!D24 -> Efectividad de entrega de CPV en MAC = | E25: ='PANEL DE CONTROL DISTRITAL'!E24 -> (Total de credenciales entregadas / Total de ciudadanas y ciudadanos que acuden al MAC a recoger su credencial) x 100 | F25: ='PANEL DE CONTROL DISTRITAL'!F24 -> Semanal (remesa) | G25: ='PANEL DE CONTROL DISTRITAL'!G24 -> 0.9 | H25: ='PANEL DE CONTROL DISTRITAL'!H24 -> Total de credenciales entregadas | I25: 0 | J25: 754 | K25: 735 | L25: 604 | M25: 571 | N25: 656 | O25: 693 | P25: 769 | Q25: 814 | R25: 530 | S25: 948 | T25: 783 | U25: 790 | V25: 713 | W25: 807 | X25: 754 | Y25: 932 | Z25: 641 | AA25: 201 | AB25: 0 | AC25: 0 | AD25: 0 | BC25: =IFERROR(SUM(I25:BB25)/SUM(I26:BB26),0) -> 0.99881983
H26: ='PANEL DE CONTROL DISTRITAL'!H25 -> Total de ciudadanas y ciudadanos que acuden al MAC a recoger su credencial | I26: 0 | J26: 754 | K26: 735 | L26: 604 | M26: 571 | N26: 656 | O26: 693 | P26: 769 | Q26: 814 | R26: 530 | S26: 948 | T26: 784 | U26: 790 | V26: 716 | W26: 810 | X26: 754 | Y26: 935 | Z26: 646 | AA26: 201 | AB26: 0 | AC26: 0 | AD26: 0
B27: *Registre el valor nominal solicitado en la celda, el resultado proporcional esta automatizado.
I29: Semaforización
J30: Valor que requiere atención y justificación en el apartado de observaciones
J31: Valor suficiente
J32: Valor esperado
B34: CUADRO DE OBSERVACIONES
B35: Descripción | H35: No conformidad

Sheet 150951
A1: ='PANEL DE CONTROL DISTRITAL'!A1:Q1 -> INSTITUTO NACIONAL ELECTORAL SISTEMA DE GESTIÓN DE LA CALIDAD ESTADO DE MÉXICO
D2: Distrito | E2: 9 | F2: Módulo | H2: 150951
A4: TABLERO DE CONTROL DE PROCESOS SUSTANTIVOS DEL SISTEMA DE GESTIÓN DE LA CALIDAD
A6: ='PANEL DE CONTROL DISTRITAL'!A6 -> Número | B6: ='PANEL DE CONTROL DISTRITAL'!B6 -> PROCESOS SUSTANTIVOS E INDICADORES | I6: SEMANA OPERATIVA | BC6: % AVANCE REGISTRADO
B7: ='PANEL DE CONTROL DISTRITAL'!B7 -> DESCRIPCIÓN | E7: ='PANEL DE CONTROL DISTRITAL'!E7 -> MEDICIÓN | I7: ='PANEL DE CONTROL DISTRITAL'!A5 -> CAMPAÑA ANUAL INTENSA 2024 CAMPAÑA ESPECIAL DE ACTUALIZACIÓN PARA EL PROCESO ELECTORAL EXTRAORDINARIO (CEAPEE) 2024-2025
B9: ='PANEL DE CONTROL DISTRITAL'!B8 -> Proceso | C9: ='PANEL DE CONTROL DISTRITAL'!C8 -> Dueño de Proceso | D9: ='PANEL DE CONTROL DISTRITAL'!D8 -> Indicador | E9: ='PANEL DE CONTROL DISTRITAL'!E8 -> Cálculo | F9: ='PANEL DE CONTROL DISTRITAL'!F8 -> Periodo | G9: ='PANEL DE CONTROL DISTRITAL'!G8 -> Estimado | H9: ='PANEL DE CONTROL DISTRITAL'!H8 -> Nominativo | I9: ='150151'!I9 -> 2024-41 | J9: ='150151'!J9 -> 2024-42 | K9: ='150151'!K9 -> 2024-43 | L9: ='150151'!L9 -> 2024-44 | M9: ='150151'!M9 -> 2024-45 | N9: ='150151'!N9 -> 2024-46 | O9: ='150151'!O9 -> 2024-47 | P9: ='150151'!P9 -> 2024-48 | ... AA9: ='150151'!AA9 -> 2024-59 | AB9: 2025-01 | AC9: 2025-02 | AD9: 2025-03 | AE9: 2025-04 | AF9: 2025-05 | AG9: 2025-06 | AH9: 2025-07 | AI9: 2025-08 | AJ9: 2025-09 | AK9: 2025-10 | AL9: 2025-11 | AM9: 2025-12 | AN9: 2025-13 | AO9: 2025-14 | AP9: 2025-15 | AQ9: 2025-16 | AR9: 2025-17 | AS9: 2025-18 | AT9: 2025-19 | AU9: 2025-20 | AV9: 2025-21 | AW9: 2025-22 | AX9: 2025-23 | AY9: 2025-24 | AZ9: 2025-25 | BA9: 2025-26 | BB9: 2025-27
A10: ='PANEL DE CONTROL DISTRITAL'!A9 -> 1 | B10: ='PANEL DE CONTROL DISTRITAL'!B9 -> ENTREVISTA | C10: ='PANEL DE CONTROL DISTRITAL'!C9 -> Auxiliar de Atención Ciudadana | D10: ='PANEL DE CONTROL DISTRITAL'!D9 -> Fichas requisitadas correctamente= | E10: ='PANEL DE CONTROL DISTRITAL'!E9 -> (Fichas requisitadas correctamente / Fichas revisadas en la muestra del 10%) x 100 | F10: ='PANEL DE CONTROL DISTRITAL'!F9 -> Semanal (remesa) | G10: ='PANEL DE CONTROL DISTRITAL'!G9 -> 0.9 | H10: ='PANEL DE CONTROL DISTRITAL'!H9 -> Fichas requistadas correctamente | I10: 0 | J10: 34 | K10: 34 | L10: 26 | M10: 39 | N10: 31 | O10: 36 | P10: 33 | Q10: 35 | R10: 24 | S10: 40 | T10: 40 | U10: 35 | V10: 44 | W10: 42 | X10: 47 | Y10: 39 | Z10: 26 | AA10: 7 | BC10: =IFERROR(SUM(I10:BB10)/SUM(I11:BB11),0) -> 1
H11: ='PANEL DE CONTROL DISTRITAL'!H10 -> Fichas revisadas en la muestra del 10% | I11: 0 | J11: 34 | K11: 34 | L11: 26 | M11: 39 | N11: 31 | O11: 36 | P11: 33 | Q11: 35 | R11: 24 | S11: 40 | T11: 40 | U11: 35 | V11: 44 | W11: 42 | X11: 47 | Y11: 39 | Z11: 26 | AA11: 7
A13: ='PANEL DE CONTROL DISTRITAL'!A12 -> 2 | B13: ='PANEL DE CONTROL DISTRITAL'!B12 -> TRÁMITE | C13: ='PANEL DE CONTROL DISTRITAL'!C12 -> Operador de Equipo Tecnológico | D13: ='PANEL DE CONTROL DISTRITAL'!D12 -> Trámites exitosos efectivos= | E13: ='PANEL DE CONTROL DISTRITAL'!E12 -> (Número de trámites exitosos / Número de trámites aplicados) x 100 | F13: ='PANEL DE CONTROL DISTRITAL'!F12 -> Semanal (remesa) | G13: ='PANEL DE CONTROL DISTRITAL'!G12 -> 0.9 | H13: ='PANEL DE CONTROL DISTRITAL'!H12 -> Número de trámites exitosos | I13: 0 | J13: 340 | K13: 341 | L13: 268 | M13: 390 | N13: 308 | O13: 360 | P13: 337 | Q13: 349 | R13: 247 | S13: 404 | T13: 403 | U13: 358 | V13: 433 | W13: 416 | X13: 462 | Y13: 383 | Z13: 256 | AA13: 65 | BC13: =IFERROR(SUM(I13:BB13)/SUM(I14:BB14),0) -> 0.99739244
H14: ='PANEL DE CONTROL DISTRITAL'!H13 -> Número de trámites aplicados | I14: 0 | J14: 340 | K14: 342 | L14: 268 | M14: 391 | N14: 310 | O14: 362 | P14: 337 | Q14: 350 | R14: 248 | S14: 404 | T14: 404 | U14: 359 | V14: 437 | W14: 416 | X14: 462 | Y14: 384 | Z14: 257 | AA14: 65
A16: ='PANEL DE CONTROL DISTRITAL'!A15 -> 3 | B16: ='PANEL DE CONTROL DISTRITAL'!B15 -> TRANSFERENCIA DE LA INFORMACIÓN | C16: ='PANEL DE CONTROL DISTRITAL'!C15 -> Responsable de Módulo | D16: ='PANEL DE CONTROL DISTRITAL'!D15 -> Reenvíos exitosos = | E16: ='PANEL DE CONTROL DISTRITAL'!E15 -> (Ejecución de los scripts de reenvío de notificaciones/Solicitud de reenvíos de scripts requeridos) x100 | F16: ='PANEL DE CONTROL DISTRITAL'!F15 -> Semanal (remesa) | G16: ='PANEL DE CONTROL DISTRITAL'!G15 -> 1 | H16: ='PANEL DE CONTROL DISTRITAL'!H15 -> Ejecución de los scripts de reenvío de notificaciones | I16: 0 | J16: 0 | K16: 0 | L16: 0 | M16: 0 | N16: 0 | O16: 0 | P16: 0 | Q16: 0 | R16: 0 | S16: 0 | T16: 0 | U16: 0 | V16: 0 | W16: 0 | X16: 0 | Y16: 0 | Z16: 0 | AA16: 0 | BC16: =IFERROR(SUM(I16:BB16)/SUM(I17:BB17),1) -> 1
H17: ='PANEL DE CONTROL DISTRITAL'!H16 -> Solicitud de reevíos de scripts requeridos | I17: 0 | J17: 0 | K17: 0 | L17: 0 | M17: 0 | N17: 0 | O17: 0 | P17: 0 | Q17: 0 | R17: 0 | S17: 0 | T17: 0 | U17: 0 | V17: 0 | W17: 0 | X17: 0 | Y17: 0 | Z17: 0 | AA17: 0
A19: ='PANEL DE CONTROL DISTRITAL'!A18 -> 4 | B19: ='PANEL DE CONTROL DISTRITAL'!B18 -> CONCILIACIÓN DE CREDENCIALES PARA VOTAR | C19: ='PANEL DE CONTROL DISTRITAL'!C18 -> Responsable de Módulo | D19: ='PANEL DE CONTROL DISTRITAL'!D18 -> Credenciales disponibles para entrega = | E19: ='PANEL DE CONTROL DISTRITAL'!E18 -> [(Credenciales recibidas - credenciales inconsistentes) / Credenciales recibidas] x 100 | F19: ='PANEL DE CONTROL DISTRITAL'!F18 -> Semanal (remesa) | G19: ='PANEL DE CONTROL DISTRITAL'!G18 -> 0.9 | H19: ='PANEL DE CONTROL DISTRITAL'!H18 -> Credenciales Recibidas - Credenciales inconsistentes | I19: 0 | J19: 383 | K19: 325 | L19: 270 | M19: 434 | N19: 317 | O19: 367 | P19: 335 | Q19: 369 | R19: 269 | S19: 272 | T19: 405 | U19: 353 | V19: 499 | W19: 409 | X19: 454 | Y19: 500 | Z19: 0 | AA19: 222 | BC19: =IFERROR(SUM(I19:BB19)/SUM(I20:BB20),0) -> 1
H20: ='PANEL DE CONTROL DISTRITAL'!H19 -> Credenciales recibidas | I20: 0 | J20: 383 | K20: 325 | L20: 270 | M20: 434 | N20: 317 | O20: 367 | P20: 335 | Q20: 369 | R20: 269 | S20: 272 | T20: 405 | U20: 353 | V20: 499 | W20: 409 | X20: 454 | Y20: 500 | Z20: 0 | AA20: 222
A22: ='PANEL DE CONTROL DISTRITAL'!A21 -> 5 | B22: ='PANEL DE CONTROL DISTRITAL'!B21 -> CONCILIACIÓN DE CREDENCIALES PARA VOTAR | C22: ='PANEL DE CONTROL DISTRITAL'!C21 -> Responsable de Módulo | D22: ='PANEL DE CONTROL DISTRITAL'!D21 -> Arqueo de Credenciales = | E22: ='PANEL DE CONTROL DISTRITAL'!E21 -> (Credenciales disponibles (físicas)/ Credenciales disponibles registradas en SIIRFE) x 100 | F22: ='PANEL DE CONTROL DISTRITAL'!F21 -> Semanal (remesa) | G22: ='PANEL DE CONTROL DISTRITAL'!G21 -> 1 | H22: ='PANEL DE CONTROL DISTRITAL'!H21 -> Credenciales disponibles (físicas) | I22: 0 | J22: 588 | K22: 500 | L22: 488 | M22: 632 | N22: 569 | O22: 603 | P22: 610 | Q22: 614 | R22: 626 | S22: 510 | T22: 590 | U22: 612 | V22: 715 | W22: 740 | X22: 769 | Y22: 809 | Z22: 430 | AA22: 594 | BC22: =IFERROR(SUM(I22:BB22)/SUM(I23:BB23),0) -> 1
H23: ='PANEL DE CONTROL DISTRITAL'!H22 -> Credenciales disponibles registradas en SIIRFE | I23: 0 | J23: 588 | K23: 500 | L23: 488 | M23: 632 | N23: 569 | O23: 603 | P23: 610 | Q23: 614 | R23: 626 | S23: 510 | T23: 590 | U23: 612 | V23: 715 | W23: 740 | X23: 769 | Y23: 809 | Z23: 430 | AA23: 594
A25: ='PANEL DE CONTROL DISTRITAL'!A24 -> 6 | B25: ='PANEL DE CONTROL DISTRITAL'!B24 -> ENTREGA DE LA CREDENCIAL PARA VOTAR | C25: ='PANEL DE CONTROL DISTRITAL'!C24 -> Operador de Equipo Tecnológico | D25: ='PANEL DE CONTROL DISTRITAL'!D24 -> Efectividad de entrega de CPV en MAC = | E25: ='PANEL DE CONTROL DISTRITAL'!E24 -> (Total de credenciales entregadas / Total de ciudadanas y ciudadanos que acuden al MAC a recoger su credencial) x 100 | F25: ='PANEL DE CONTROL DISTRITAL'!F24 -> Semanal (remesa) | G25: ='PANEL DE CONTROL DISTRITAL'!G24 -> 0.9 | H25: ='PANEL DE CONTROL DISTRITAL'!H24 -> Total de credenciales entregadas | I25: 0 | J25: 424 | K25: 413 | L25: 282 | M25: 290 | N25: 380 | O25: 333 | P25: 328 | Q25: 365 | R25: 257 | S25: 388 | T25: 325 | U25: 331 | V25: 394 | W25: 384 | X25: 425 | Y25: 460 | Z25: 374 | AA25: 58 | BC25: =IFERROR(SUM(I25:BB25)/SUM(I26:BB26),0) -> 1
H26: ='PANEL DE CONTROL DISTRITAL'!H25 -> Total de ciudadanas y ciudadanos que acuden al MAC a recoger su credencial | I26: 0 | J26: 424 | K26: 413 | L26: 282 | M26: 290 | N26: 380 | O26: 333 | P26: 328 | Q26: 365 | R26: 257 | S26: 388 | T26: 325 | U26: 331 | V26: 394 | W26: 384 | X26: 425 | Y26: 460 | Z26: 374 | AA26: 58
B27: *Registre el valor nominal solicitado en la celda, el resultado proporcional esta automatizado.
I29: Semaforización
J30: Valor que requiere atención y justificación en el apartado de observaciones
J31: Valor suficiente
J32: Valor esperado
B34: CUADRO DE OBSERVACIONES
B35: Descripción | H35: No conformidad

Sheet 150952
A1: ='PANEL DE CONTROL DISTRITAL'!A1:Q1 -> INSTITUTO NACIONAL ELECTORAL SISTEMA DE GESTIÓN DE LA CALIDAD ESTADO DE MÉXICO
D2: Distrito | E2: 9 | F2: Módulo | H2: 150952
A4: TABLERO DE CONTROL DE PROCESOS SUSTANTIVOS DEL SISTEMA DE GESTIÓN DE LA CALIDAD
A6: ='PANEL DE CONTROL DISTRITAL'!A6 -> Número | B6: ='PANEL DE CONTROL DISTRITAL'!B6 -> PROCESOS SUSTANTIVOS E INDICADORES | I6: SEMANA OPERATIVA | BC6: % AVANCE REGISTRADO
B7: ='PANEL DE CONTROL DISTRITAL'!B7 -> DESCRIPCIÓN | E7: ='PANEL DE CONTROL DISTRITAL'!E7 -> MEDICIÓN | I7: ='PANEL DE CONTROL DISTRITAL'!A5 -> CAMPAÑA ANUAL INTENSA 2024 CAMPAÑA ESPECIAL DE ACTUALIZACIÓN PARA EL PROCESO ELECTORAL EXTRAORDINARIO (CEAPEE) 2024-2025
B9: ='PANEL DE CONTROL DISTRITAL'!B8 -> Proceso | C9: ='PANEL DE CONTROL DISTRITAL'!C8 -> Dueño de Proceso | D9: ='PANEL DE CONTROL DISTRITAL'!D8 -> Indicador | E9: ='PANEL DE CONTROL DISTRITAL'!E8 -> Cálculo | F9: ='PANEL DE CONTROL DISTRITAL'!F8 -> Periodo | G9: ='PANEL DE CONTROL DISTRITAL'!G8 -> Estimado | H9: ='PANEL DE CONTROL DISTRITAL'!H8 -> Nominativo | I9: ='150151'!I9 -> 2024-41 | J9: ='150151'!J9 -> 2024-42 | K9: ='150151'!K9 -> 2024-43 | L9: ='150151'!L9 -> 2024-44 | M9: ='150151'!M9 -> 2024-45 | N9: ='150151'!N9 -> 2024-46 | O9: ='150151'!O9 -> 2024-47 | P9: ='150151'!P9 -> 2024-48 | ... AA9: ='150151'!AA9 -> 2024-59 | AB9: 2025-01 | AC9: 2025-02 | AD9: 2025-03 | AE9: 2025-04 | AF9: 2025-05 | AG9: 2025-06 | AH9: 2025-07 | AI9: 2025-08 | AJ9: 2025-09 | AK9: 2025-10 | AL9: 2025-11 | AM9: 2025-12 | AN9: 2025-13 | AO9: 2025-14 | AP9: 2025-15 | AQ9: 2025-16 | AR9: 2025-17 | AS9: 2025-18 | AT9: 2025-19 | AU9: 2025-20 | AV9: 2025-21 | AW9: 2025-22 | AX9: 2025-23 | AY9: 2025-24 | AZ9: 2025-25 | BA9: 2025-26 | BB9: 2025-27
A10: ='PANEL DE CONTROL DISTRITAL'!A9 -> 1 | B10: ='PANEL DE CONTROL DISTRITAL'!B9 -> ENTREVISTA | C10: ='PANEL DE CONTROL DISTRITAL'!C9 -> Auxiliar de Atención Ciudadana | D10: ='PANEL DE CONTROL DISTRITAL'!D9 -> Fichas requisitadas correctamente= | E10: ='PANEL DE CONTROL DISTRITAL'!E9 -> (Fichas requisitadas correctamente / Fichas revisadas en la muestra del 10%) x 100 | F10: ='PANEL DE CONTROL DISTRITAL'!F9 -> Semanal (remesa) | G10: ='PANEL DE CONTROL DISTRITAL'!G9 -> 0.9 | H10: ='PANEL DE CONTROL DISTRITAL'!H9 -> Fichas requistadas correctamente | I10: 0 | J10: 22 | K10: 23 | L10: 19 | M10: 31 | N10: 28 | O10: 29 | P10: 24 | Q10: 25 | R10: 15 | S10: 33 | T10: 29 | U10: 26 | V10: 38 | W10: 41 | X10: 36 | Y10: 36 | Z10: 21 | AA10: 6 | BC10: =IFERROR(SUM(I10:BB10)/SUM(I11:BB11),0) -> 1
H11: ='PANEL DE CONTROL DISTRITAL'!H10 -> Fichas revisadas en la muestra del 10% | I11: 0 | J11: 22 | K11: 23 | L11: 19 | M11: 31 | N11: 28 | O11: 29 | P11: 24 | Q11: 25 | R11: 15 | S11: 33 | T11: 29 | U11: 26 | V11: 38 | W11: 41 | X11: 36 | Y11: 36 | Z11: 21 | AA11: 6
A13: ='PANEL DE CONTROL DISTRITAL'!A12 -> 2 | B13: ='PANEL DE CONTROL DISTRITAL'!B12 -> TRÁMITE | C13: ='PANEL DE CONTROL DISTRITAL'!C12 -> Operador de Equipo Tecnológico | D13: ='PANEL DE CONTROL DISTRITAL'!D12 -> Trámites exitosos efectivos= | E13: ='PANEL DE CONTROL DISTRITAL'!E12 -> (Número de trámites exitosos / Número de trámites aplicados) x 100 | F13: ='PANEL DE CONTROL DISTRITAL'!F12 -> Semanal (remesa) | G13: ='PANEL DE CONTROL DISTRITAL'!G12 -> 0.9 | H13: ='PANEL DE CONTROL DISTRITAL'!H12 -> Número de trámites exitosos | I13: 0 | J13: 225 | K13: 233 | L13: 185 | M13: 306 | N13: 284 | O13: 289 | P13: 235 | Q13: 244 | R13: 159 | S13: 325 | T13: 286 | U13: 252 | V13: 378 | W13: 403 | X13: 353 | Y13: 351 | Z13: 205 | AA13: 50 | BC13: =IFERROR(SUM(I13:BB13)/SUM(I14:BB14),0) -> 0.99457089
H14: ='PANEL DE CONTROL DISTRITAL'!H13 -> Número de trámites aplicados | I14: 0 | J14: 225 | K14: 237 | L14: 190 | M14: 307 | N14: 285 | O14: 290 | P14: 235 | Q14: 245 | R14: 159 | S14: 326 | T14: 288 | U14: 252 | V14: 379 | W14: 404 | X14: 356 | Y14: 353 | Z14: 207 | AA14: 51
A16: ='PANEL DE CONTROL DISTRITAL'!A15 -> 3 | B16: ='PANEL DE CONTROL DISTRITAL'!B15 -> TRANSFERENCIA DE LA INFORMACIÓN | C16: ='PANEL DE CONTROL DISTRITAL'!C15 -> Responsable de Módulo | D16: ='PANEL DE CONTROL DISTRITAL'!D15 -> Reenvíos exitosos = | E16: ='PANEL DE CONTROL DISTRITAL'!E15 -> (Ejecución de los scripts de reenvío de notificaciones/Solicitud de reenvíos de scripts requeridos) x100 | F16: ='PANEL DE CONTROL DISTRITAL'!F15 -> Semanal (remesa) | G16: ='PANEL DE CONTROL DISTRITAL'!G15 -> 1 | H16: ='PANEL DE CONTROL DISTRITAL'!H15 -> Ejecución de los scripts de reenvío de notificaciones | I16: 0 | J16: 0 | K16: 0 | L16: 0 | M16: 0 | N16: 0 | O16: 0 | P16: 0 | Q16: 0 | R16: 0 | S16: 0 | T16: 0 | U16: 0 | V16: 0 | W16: 0 | X16: 0 | Y16: 0 | Z16: 0 | AA16: 0 | BC16: =IFERROR(SUM(I16:BB16)/SUM(I17:BB17),1) -> 1
H17: ='PANEL DE CONTROL DISTRITAL'!H16 -> Solicitud de reevíos de scripts requeridos | I17: 0 | J17: 0 | K17: 0 | L17: 0 | M17: 0 | N17: 0 | O17: 0 | P17: 0 | Q17: 0 | R17: 0 | S17: 0 | T17: 0 | U17: 0 | V17: 0 | W17: 0 | X17: 0 | Y17: 0 | Z17: 0 | AA17: 0
A19: ='PANEL DE CONTROL DISTRITAL'!A18 -> 4 | B19: ='PANEL DE CONTROL DISTRITAL'!B18 -> CONCILIACIÓN DE CREDENCIALES PARA VOTAR | C19: ='PANEL DE CONTROL DISTRITAL'!C18 -> Responsable de Módulo | D19: ='PANEL DE CONTROL DISTRITAL'!D18 -> Credenciales disponibles para entrega = | E19: ='PANEL DE CONTROL DISTRITAL'!E18 -> [(Credenciales recibidas - credenciales inconsistentes) / Credenciales recibidas] x 100 | F19: ='PANEL DE CONTROL DISTRITAL'!F18 -> Semanal (remesa) | G19: ='PANEL DE CONTROL DISTRITAL'!G18 -> 0.9 | H19: ='PANEL DE CONTROL DISTRITAL'!H18 -> Credenciales Recibidas - Credenciales inconsistentes | I19: 0 | J19: 185 | K19: 220 | L19: 149 | M19: 345 | N19: 124 | O19: 400 | P19: 298 | Q19: 249 | R19: 222 | S19: 215 | T19: 305 | U19: 140 | V19: 382 | W19: 388 | X19: 477 | Y19: 143 | Z19: 476 | AA19: 0 | BC19: =IFERROR(SUM(I19:BB19)/SUM(I20:BB20),0) -> 1
H20: ='PANEL DE CONTROL DISTRITAL'!H19 -> Credenciales recibidas | I20: 0 | J20: 185 | K20: 220 | L20: 149 | M20: 345 | N20: 124 | O20: 400 | P20: 298 | Q20: 249 | R20: 222 | S20: 215 | T20: 305 | U20: 140 | V20: 382 | W20: 388 | X20: 477 | Y20: 143 | Z20: 476 | AA20: 0
A22: ='PANEL DE CONTROL DISTRITAL'!A21 -> 5 | B22: ='PANEL DE CONTROL DISTRITAL'!B21 -> CONCILIACIÓN DE CREDENCIALES PARA VOTAR | C22: ='PANEL DE CONTROL DISTRITAL'!C21 -> Responsable de Módulo | D22: ='PANEL DE CONTROL DISTRITAL'!D21 -> Arqueo de Credenciales = | E22: ='PANEL DE CONTROL DISTRITAL'!E21 -> (Credenciales disponibles (físicas)/ Credenciales disponibles registradas en SIIRFE) x 100 | F22: ='PANEL DE CONTROL DISTRITAL'!F21 -> Semanal (remesa) | G22: ='PANEL DE CONTROL DISTRITAL'!G21 -> 1 | H22: ='PANEL DE CONTROL DISTRITAL'!H21 -> Credenciales disponibles (físicas) | I22: 0 | J22: 369 | K22: 366 | L22: 310 | M22: 454 | N22: 298 | O22: 434 | P22: 477 | Q22: 402 | R22: 463 | S22: 418 | T22: 440 | U22: 326 | V22: 441 | W22: 533 | X22: 560 | Y22: 346 | Z22: 519 | AA22: 415 | BC22: =IFERROR(SUM(I22:BB22)/SUM(I23:BB23),0) -> 1
H23: ='PANEL DE CONTROL DISTRITAL'!H22 -> Credenciales disponibles registradas en SIIRFE | I23: 0 | J23: 369 | K23: 366 | L23: 310 | M23: 454 | N23: 298 | O23: 434 | P23: 477 | Q23: 402 | R23: 463 | S23: 418 | T23: 440 | U23: 326 | V23: 441 | W23: 533 | X23: 560 | Y23: 346 | Z23: 519 | AA23: 415
A25: ='PANEL DE CONTROL DISTRITAL'!A24 -> 6 | B25: ='PANEL DE CONTROL DISTRITAL'!B24 -> ENTREGA DE LA CREDENCIAL PARA VOTAR | C25: ='PANEL DE CONTROL DISTRITAL'!C24 -> Operador de Equipo Tecnológico | D25: ='PANEL DE CONTROL DISTRITAL'!D24 -> Efectividad de entrega de CPV en MAC = | E25: ='PANEL DE CONTROL DISTRITAL'!E24 -> (Total de credenciales entregadas / Total de ciudadanas y ciudadanos que acuden al MAC a recoger su credencial) x 100 | F25: ='PANEL DE CONTROL DISTRITAL'!F24 -> Semanal (remesa) | G25: ='PANEL DE CONTROL DISTRITAL'!G24 -> 0.9 | H25: ='PANEL DE CONTROL DISTRITAL'!H24 -> Total de credenciales entregadas | I25: 0 | J25: 228 | K25: 223 | L25: 205 | M25: 180 | N25: 280 | O25: 229 | P25: 203 | Q25: 324 | R25: 161 | S25: 260 | T25: 283 | U25: 254 | V25: 266 | W25: 296 | X25: 450 | Y25: 357 | Z25: 299 | AA25: 104 | BC25: =IFERROR(SUM(I25:BB25)/SUM(I26:BB26),0) -> 0.99934853
H26: ='PANEL DE CONTROL DISTRITAL'!H25 -> Total de ciudadanas y ciudadanos que acuden al MAC a recoger su credencial | I26: 0 | J26: 230 | K26: 223 | L26: 205 | M26: 180 | N26: 280 | O26: 230 | P26: 203 | Q26: 324 | R26: 161 | S26: 260 | T26: 283 | U26: 254 | V26: 266 | W26: 296 | X26: 450 | Y26: 357 | Z26: 299 | AA26: 104
B27: *Registre el valor nominal solicitado en la celda, el resultado proporcional esta automatizado.
I29: Semaforización
J30: Valor que requiere atención y justificación en el apartado de observaciones
J31: Valor suficiente
J32: Valor esperado
B34: CUADRO DE OBSERVACIONES
B35: Descripción | H35: No conformidad

Sheet 150953
A1: ='PANEL DE CONTROL DISTRITAL'!A1:Q1 -> INSTITUTO NACIONAL ELECTORAL SISTEMA DE GESTIÓN DE LA CALIDAD ESTADO DE MÉXICO
D2: Distrito | E2: 9 | F2: Módulo | H2: 150953
A4: TABLERO DE CONTROL DE PROCESOS SUSTANTIVOS DEL SISTEMA DE GESTIÓN DE LA CALIDAD
A6: ='PANEL DE CONTROL DISTRITAL'!A6 -> Número | B6: ='PANEL DE CONTROL DISTRITAL'!B6 -> PROCESOS SUSTANTIVOS E INDICADORES | I6: SEMANA OPERATIVA | BC6: % AVANCE REGISTRADO
B7: ='PANEL DE CONTROL DISTRITAL'!B7 -> DESCRIPCIÓN | E7: ='PANEL DE CONTROL DISTRITAL'!E7 -> MEDICIÓN | I7: ='PANEL DE CONTROL DISTRITAL'!A5 -> CAMPAÑA ANUAL INTENSA 2024 CAMPAÑA ESPECIAL DE ACTUALIZACIÓN PARA EL PROCESO ELECTORAL EXTRAORDINARIO (CEAPEE) 2024-2025
B9: ='PANEL DE CONTROL DISTRITAL'!B8 -> Proceso | C9: ='PANEL DE CONTROL DISTRITAL'!C8 -> Dueño de Proceso | D9: ='PANEL DE CONTROL DISTRITAL'!D8 -> Indicador | E9: ='PANEL DE CONTROL DISTRITAL'!E8 -> Cálculo | F9: ='PANEL DE CONTROL DISTRITAL'!F8 -> Periodo | G9: ='PANEL DE CONTROL DISTRITAL'!G8 -> Estimado | H9: ='PANEL DE CONTROL DISTRITAL'!H8 -> Nominativo | I9: ='150151'!I9 -> 2024-41 | J9: ='150151'!J9 -> 2024-42 | K9: ='150151'!K9 -> 2024-43 | L9: ='150151'!L9 -> 2024-44 | M9: ='150151'!M9 -> 2024-45 | N9: ='150151'!N9 -> 2024-46 | O9: ='150151'!O9 -> 2024-47 | P9: ='150151'!P9 -> 2024-48 | ... AA9: ='150151'!AA9 -> 2024-59 | AB9: 2025-01 | AC9: 2025-02 | AD9: 2025-03 | AE9: 2025-04 | AF9: 2025-05 | AG9: 2025-06 | AH9: 2025-07 | AI9: 2025-08 | AJ9: 2025-09 | AK9: 2025-10 | AL9: 2025-11 | AM9: 2025-12 | AN9: 2025-13 | AO9: 2025-14 | AP9: 2025-15 | AQ9: 2025-16 | AR9: 2025-17 | AS9: 2025-18 | AT9: 2025-19 | AU9: 2025-20 | AV9: 2025-21 | AW9: 2025-22 | AX9: 2025-23 | AY9: 2025-24 | AZ9: 2025-25 | BA9: 2025-26 | BB9: 2025-27
A10: ='PANEL DE CONTROL DISTRITAL'!A9 -> 1 | B10: ='PANEL DE CONTROL DISTRITAL'!B9 -> ENTREVISTA | C10: ='PANEL DE CONTROL DISTRITAL'!C9 -> Auxiliar de Atención Ciudadana | D10: ='PANEL DE CONTROL DISTRITAL'!D9 -> Fichas requisitadas correctamente= | E10: ='PANEL DE CONTROL DISTRITAL'!E9 -> (Fichas requisitadas correctamente / Fichas revisadas en la muestra del 10%) x 100 | F10: ='PANEL DE CONTROL DISTRITAL'!F9 -> Semanal (remesa) | G10: ='PANEL DE CONTROL DISTRITAL'!G9 -> 0.9 | H10: ='PANEL DE CONTROL DISTRITAL'!H9 -> Fichas requistadas correctamente | I10: 0 | J10: 28 | K10: 25 | L10: 24 | M10: 30 | N10: 33 | O10: 35 | P10: 30 | Q10: 30 | R10: 19 | S10: 30 | T10: 30 | U10: 28 | V10: 39 | W10: 40 | X10: 39 | Y10: 36 | Z10: 26 | AA10: 8 | BC10: =IFERROR(SUM(I10:BB10)/SUM(I11:BB11),0) -> 1
H11: ='PANEL DE CONTROL DISTRITAL'!H10 -> Fichas revisadas en la muestra del 10% | I11: 0 | J11: 28 | K11: 25 | L11: 24 | M11: 30 | N11: 33 | O11: 35 | P11: 30 | Q11: 30 | R11: 19 | S11: 30 | T11: 30 | U11: 28 | V11: 39 | W11: 40 | X11: 39 | Y11: 36 | Z11: 26 | AA11: 8
A13: ='PANEL DE CONTROL DISTRITAL'!A12 -> 2 | B13: ='PANEL DE CONTROL DISTRITAL'!B12 -> TRÁMITE | C13: ='PANEL DE CONTROL DISTRITAL'!C12 -> Operador de Equipo Tecnológico | D13: ='PANEL DE CONTROL DISTRITAL'!D12 -> Trámites exitosos efectivos= | E13: ='PANEL DE CONTROL DISTRITAL'!E12 -> (Número de trámites exitosos / Número de trámites aplicados) x 100 | F13: ='PANEL DE CONTROL DISTRITAL'!F12 -> Semanal (remesa) | G13: ='PANEL DE CONTROL DISTRITAL'!G12 -> 0.9 | H13: ='PANEL DE CONTROL DISTRITAL'!H12 -> Número de trámites exitosos | I13: 0 | J13: 284 | K13: 254 | L13: 243 | M13: 312 | N13: 335 | O13: 348 | P13: 301 | Q13: 312 | R13: 193 | S13: 335 | T13: 323 | U13: 294 | V13: 383 | W13: 395 | X13: 380 | Y13: 351 | Z13: 254 | AA13: 76 | BC13: =IFERROR(SUM(I13:BB13)/SUM(I14:BB14),0) -> 0.99777159
H14: ='PANEL DE CONTROL DISTRITAL'!H13 -> Número de trámites aplicados | I14: 0 | J14: 284 | K14: 254 | L14: 243 | M14: 312 | N14: 336 | O14: 348 | P14: 301 | Q14: 313 | R14: 193 | S14: 336 | T14: 324 | U14: 294 | V14: 385 | W14: 396 | X14: 381 | Y14: 352 | Z14: 257 | AA14: 76
A16: ='PANEL DE CONTROL DISTRITAL'!A15 -> 3 | B16: ='PANEL DE CONTROL DISTRITAL'!B15 -> TRANSFERENCIA DE LA INFORMACIÓN | C16: ='PANEL DE CONTROL DISTRITAL'!C15 -> Responsable de Módulo | D16: ='PANEL DE CONTROL DISTRITAL'!D15 -> Reenvíos exitosos = | E16: ='PANEL DE CONTROL DISTRITAL'!E15 -> (Ejecución de los scripts de reenvío de notificaciones/Solicitud de reenvíos de scripts requeridos) x100 | F16: ='PANEL DE CONTROL DISTRITAL'!F15 -> Semanal (remesa) | G16: ='PANEL DE CONTROL DISTRITAL'!G15 -> 1 | H16: ='PANEL DE CONTROL DISTRITAL'!H15 -> Ejecución de los scripts de reenvío de notificaciones | I16: 0 | J16: 0 | K16: 0 | L16: 0 | M16: 0 | N16: 0 | O16: 0 | P16: 0 | Q16: 0 | R16: 0 | S16: 0 | T16: 0 | U16: 0 | V16: 0 | W16: 0 | X16: 0 | Y16: 0 | Z16: 0 | AA16: 0 | BC16: =IFERROR(SUM(I16:BB16)/SUM(I17:BB17),1) -> 1
H17: ='PANEL DE CONTROL DISTRITAL'!H16 -> Solicitud de reevíos de scripts requeridos | I17: 0 | J17: 0 | K17: 0 | L17: 0 | M17: 0 | N17: 0 | O17: 0 | P17: 0 | Q17: 0 | R17: 0 | S17: 0 | T17: 0 | U17: 0 | V17: 0 | W17: 0 | X17: 0 | Y17: 0 | Z17: 0 | AA17: 0
A19: ='PANEL DE CONTROL DISTRITAL'!A18 -> 4 | B19: ='PANEL DE CONTROL DISTRITAL'!B18 -> CONCILIACIÓN DE CREDENCIALES PARA VOTAR | C19: ='PANEL DE CONTROL DISTRITAL'!C18 -> Responsable de Módulo | D19: ='PANEL DE CONTROL DISTRITAL'!D18 -> Credenciales disponibles para entrega = | E19: ='PANEL DE CONTROL DISTRITAL'!E18 -> [(Credenciales recibidas - credenciales inconsistentes) / Credenciales recibidas] x 100 | F19: ='PANEL DE CONTROL DISTRITAL'!F18 -> Semanal (remesa) | G19: ='PANEL DE CONTROL DISTRITAL'!G18 -> 0.9 | H19: ='PANEL DE CONTROL DISTRITAL'!H18 -> Credenciales Recibidas - Credenciales inconsistentes | I19: 0 | J19: 190 | K19: 424 | L19: 164 | M19: 385 | N19: 256 | O19: 404 | P19: 318 | Q19: 292 | R19: 96 | S19: 382 | T19: 317 | U19: 273 | V19: 418 | W19: 328 | X19: 475 | Y19: 373 | Z19: 212 | AA19: 0 | BC19: =IFERROR(SUM(I19:BB19)/SUM(I20:BB20),0) -> 1
H20: ='PANEL DE CONTROL DISTRITAL'!H19 -> Credenciales recibidas | I20: 0 | J20: 190 | K20: 424 | L20: 164 | M20: 385 | N20: 256 | O20: 404 | P20: 318 | Q20: 292 | R20: 96 | S20: 382 | T20: 317 | U20: 273 | V20: 418 | W20: 328 | X20: 475 | Y20: 373 | Z20: 212 | AA20: 0
A22: ='PANEL DE CONTROL DISTRITAL'!A21 -> 5 | B22: ='PANEL DE CONTROL DISTRITAL'!B21 -> CONCILIACIÓN DE CREDENCIALES PARA VOTAR | C22: ='PANEL DE CONTROL DISTRITAL'!C21 -> Responsable de Módulo | D22: ='PANEL DE CONTROL DISTRITAL'!D21 -> Arqueo de Credenciales = | E22: ='PANEL DE CONTROL DISTRITAL'!E21 -> (Credenciales disponibles (físicas)/ Credenciales disponibles registradas en SIIRFE) x 100 | F22: ='PANEL DE CONTROL DISTRITAL'!F21 -> Semanal (remesa) | G22: ='PANEL DE CONTROL DISTRITAL'!G21 -> 1 | H22: ='PANEL DE CONTROL DISTRITAL'!H21 -> Credenciales disponibles (físicas) | I22: 0 | J22: 514 | K22: 616 | L22: 522 | M22: 645 | N22: 604 | O22: 725 | P22: 687 | Q22: 650 | R22: 522 | S22: 519 | T22: 590 | U22: 589 | V22: 708 | W22: 673 | X22: 784 | Y22: 735 | Z22: 590 | AA22: 497 | BC22: =IFERROR(SUM(I22:BB22)/SUM(I23:BB23),0) -> 1
H23: ='PANEL DE CONTROL DISTRITAL'!H22 -> Credenciales disponibles registradas en SIIRFE | I23: 0 | J23: 514 | K23: 616 | L23: 522 | M23: 645 | N23: 604 | O23: 725 | P23: 687 | Q23: 650 | R23: 522 | S23: 519 | T23: 590 | U23: 589 | V23: 708 | W23: 673 | X23: 784 | Y23: 735 | Z23: 590 | AA23: 497
A25: ='PANEL DE CONTROL DISTRITAL'!A24 -> 6 | B25: ='PANEL DE CONTROL DISTRITAL'!B24 -> ENTREGA DE LA CREDENCIAL PARA VOTAR | C25: ='PANEL DE CONTROL DISTRITAL'!C24 -> Operador de Equipo Tecnológico | D25: ='PANEL DE CONTROL DISTRITAL'!D24 -> Efectividad de entrega de CPV en MAC = | E25: ='PANEL DE CONTROL DISTRITAL'!E24 -> (Total de credenciales entregadas / Total de ciudadanas y ciudadanos que acuden al MAC a recoger su credencial) x 100 | F25: ='PANEL DE CONTROL DISTRITAL'!F24 -> Semanal (remesa) | G25: ='PANEL DE CONTROL DISTRITAL'!G24 -> 0.9 | H25: ='PANEL DE CONTROL DISTRITAL'!H24 -> Total de credenciales entregadas | I25: 0 | J25: 360 | K25: 322 | L25: 258 | M25: 262 | N25: 297 | O25: 283 | P25: 346 | Q25: 329 | R25: 224 | S25: 385 | T25: 246 | U25: 274 | V25: 295 | W25: 363 | X25: 364 | Y25: 422 | Z25: 355 | AA25: 93 | BC25: =IFERROR(SUM(I25:BB25)/SUM(I26:BB26),0) -> 1
H26: ='PANEL DE CONTROL DISTRITAL'!H25 -> Total de ciudadanas y ciudadanos que acuden al MAC a recoger su credencial | I26: 0 | J26: 360 | K26: 322 | L26: 258 | M26: 262 | N26: 297 | O26: 283 | P26: 346 | Q26: 329 | R26: 224 | S26: 385 | T26: 246 | U26: 274 | V26: 295 | W26: 363 | X26: 364 | Y26: 422 | Z26: 355 | AA26: 93
B27: *Registre el valor nominal solicitado en la celda, el resultado proporcional esta automatizado.
I29: Semaforización
J30: Valor que requiere atención y justificación en el apartado de observaciones
J31: Valor suficiente
J32: Valor esperado
B34: CUADRO DE OBSERVACIONES
B35: Descripción | H35: No conformidad

Sheet 150954
A1: ='PANEL DE CONTROL DISTRITAL'!A1:Q1 -> INSTITUTO NACIONAL ELECTORAL SISTEMA DE GESTIÓN DE LA CALIDAD ESTADO DE MÉXICO
D2: Distrito | E2: 9 | F2: Módulo | H2: 150954
A4: TABLERO DE CONTROL DE PROCESOS SUSTANTIVOS DEL SISTEMA DE GESTIÓN DE LA CALIDAD
A6: ='PANEL DE CONTROL DISTRITAL'!A6 -> Número | B6: ='PANEL DE CONTROL DISTRITAL'!B6 -> PROCESOS SUSTANTIVOS E INDICADORES | I6: SEMANA OPERATIVA | BC6: % AVANCE REGISTRADO
B7: ='PANEL DE CONTROL DISTRITAL'!B7 -> DESCRIPCIÓN | E7: ='PANEL DE CONTROL DISTRITAL'!E7 -> MEDICIÓN | I7: ='PANEL DE CONTROL DISTRITAL'!A5 -> CAMPAÑA ANUAL INTENSA 2024 CAMPAÑA ESPECIAL DE ACTUALIZACIÓN PARA EL PROCESO ELECTORAL EXTRAORDINARIO (CEAPEE) 2024-2025
B9: ='PANEL DE CONTROL DISTRITAL'!B8 -> Proceso | C9: ='PANEL DE CONTROL DISTRITAL'!C8 -> Dueño de Proceso | D9: ='PANEL DE CONTROL DISTRITAL'!D8 -> Indicador | E9: ='PANEL DE CONTROL DISTRITAL'!E8 -> Cálculo | F9: ='PANEL DE CONTROL DISTRITAL'!F8 -> Periodo | G9: ='PANEL DE CONTROL DISTRITAL'!G8 -> Estimado | H9: ='PANEL DE CONTROL DISTRITAL'!H8 -> Nominativo | I9: ='150151'!I9 -> 2024-41 | J9: ='150151'!J9 -> 2024-42 | K9: ='150151'!K9 -> 2024-43 | L9: ='150151'!L9 -> 2024-44 | M9: ='150151'!M9 -> 2024-45 | N9: ='150151'!N9 -> 2024-46 | O9: ='150151'!O9 -> 2024-47 | P9: ='150151'!P9 -> 2024-48 | ... AA9: ='150151'!AA9 -> 2024-59 | AB9: 2025-01 | AC9: 2025-02 | AD9: 2025-03 | AE9: 2025-04 | AF9: 2025-05 | AG9: 2025-06 | AH9: 2025-07 | AI9: 2025-08 | AJ9: 2025-09 | AK9: 2025-10 | AL9: 2025-11 | AM9: 2025-12 | AN9: 2025-13 | AO9: 2025-14 | AP9: 2025-15 | AQ9: 2025-16 | AR9: 2025-17 | AS9: 2025-18 | AT9: 2025-19 | AU9: 2025-20 | AV9: 2025-21 | AW9: 2025-22 | AX9: 2025-23 | AY9: 2025-24 | AZ9: 2025-25 | BA9: 2025-26 | BB9: 2025-27
A10: ='PANEL DE CONTROL DISTRITAL'!A9 -> 1 | B10: ='PANEL DE CONTROL DISTRITAL'!B9 -> ENTREVISTA | C10: ='PANEL DE CONTROL DISTRITAL'!C9 -> Auxiliar de Atención Ciudadana | D10: ='PANEL DE CONTROL DISTRITAL'!D9 -> Fichas requisitadas correctamente= | E10: ='PANEL DE CONTROL DISTRITAL'!E9 -> (Fichas requisitadas correctamente / Fichas revisadas en la muestra del 10%) x 100 | F10: ='PANEL DE CONTROL DISTRITAL'!F9 -> Semanal (remesa) | G10: ='PANEL DE CONTROL DISTRITAL'!G9 -> 0.9 | H10: ='PANEL DE CONTROL DISTRITAL'!H9 -> Fichas requistadas correctamente | I10: 0 | J10: 8 | K10: 5 | L10: 8 | M10: 6 | N10: 9 | O10: 7 | P10: 9 | Q10: 8 | R10: 3 | S10: 13 | T10: 8 | U10: 9 | V10: 15 | W10: 8 | X10: 12 | Y10: 8 | Z10: 7 | AA10: 2 | BC10: =IFERROR(SUM(I10:BB10)/SUM(I11:BB11),0) -> 1
H11: ='PANEL DE CONTROL DISTRITAL'!H10 -> Fichas revisadas en la muestra del 10% | I11: 0 | J11: 8 | K11: 5 | L11: 8 | M11: 6 | N11: 9 | O11: 7 | P11: 9 | Q11: 8 | R11: 3 | S11: 13 | T11: 8 | U11: 9 | V11: 15 | W11: 8 | X11: 12 | Y11: 8 | Z11: 7 | AA11: 2
A12: 8
A13: ='PANEL DE CONTROL DISTRITAL'!A12 -> 2 | B13: ='PANEL DE CONTROL DISTRITAL'!B12 -> TRÁMITE | C13: ='PANEL DE CONTROL DISTRITAL'!C12 -> Operador de Equipo Tecnológico | D13: ='PANEL DE CONTROL DISTRITAL'!D12 -> Trámites exitosos efectivos= | E13: ='PANEL DE CONTROL DISTRITAL'!E12 -> (Número de trámites exitosos / Número de trámites aplicados) x 100 | F13: ='PANEL DE CONTROL DISTRITAL'!F12 -> Semanal (remesa) | G13: ='PANEL DE CONTROL DISTRITAL'!G12 -> 0.9 | H13: ='PANEL DE CONTROL DISTRITAL'!H12 -> Número de trámites exitosos | I13: 0 | J13: 75 | K13: 51 | L13: 80 | M13: 51 | N13: 91 | O13: 72 | P13: 96 | Q13: 75 | R13: 32 | S13: 131 | T13: 81 | U13: 87 | V13: 149 | W13: 74 | X13: 115 | Y13: 77 | Z13: 68 | AA13: 17 | BC13: =IFERROR(SUM(I13:BB13)/SUM(I14:BB14),0) -> 0.9916318
H14: ='PANEL DE CONTROL DISTRITAL'!H13 -> Número de trámites aplicados | I14: 0 | J14: 76 | K14: 51 | L14: 80 | M14: 60 | N14: 91 | O14: 72 | P14: 96 | Q14: 76 | R14: 32 | S14: 131 | T14: 81 | U14: 87 | V14: 149 | W14: 74 | X14: 115 | Y14: 77 | Z14: 69 | AA14: 17
A16: ='PANEL DE CONTROL DISTRITAL'!A15 -> 3 | B16: ='PANEL DE CONTROL DISTRITAL'!B15 -> TRANSFERENCIA DE LA INFORMACIÓN | C16: ='PANEL DE CONTROL DISTRITAL'!C15 -> Responsable de Módulo | D16: ='PANEL DE CONTROL DISTRITAL'!D15 -> Reenvíos exitosos = | E16: ='PANEL DE CONTROL DISTRITAL'!E15 -> (Ejecución de los scripts de reenvío de notificaciones/Solicitud de reenvíos de scripts requeridos) x100 | F16: ='PANEL DE CONTROL DISTRITAL'!F15 -> Semanal (remesa) | G16: ='PANEL DE CONTROL DISTRITAL'!G15 -> 1 | H16: ='PANEL DE CONTROL DISTRITAL'!H15 -> Ejecución de los scripts de reenvío de notificaciones | I16: 0 | J16: 0 | K16: 0 | L16: 0 | M16: 0 | N16: 0 | O16: 0 | P16: 0 | Q16: 0 | R16: 0 | S16: 0 | T16: 0 | U16: 0 | V16: 0 | W16: 0 | X16: 0 | Y16: 0 | Z16: 0 | AA16: 0 | BC16: =IFERROR(SUM(I16:BB16)/SUM(I17:BB17),1) -> 1
H17: ='PANEL DE CONTROL DISTRITAL'!H16 -> Solicitud de reevíos de scripts requeridos | I17: 0 | J17: 0 | K17: 0 | L17: 0 | M17: 0 | N17: 0 | O17: 0 | P17: 0 | Q17: 0 | R17: 0 | S17: 0 | T17: 0 | U17: 0 | V17: 0 | W17: 0 | X17: 0 | Y17: 0 | Z17: 0 | AA17: 0
A19: ='PANEL DE CONTROL DISTRITAL'!A18 -> 4 | B19: ='PANEL DE CONTROL DISTRITAL'!B18 -> CONCILIACIÓN DE CREDENCIALES PARA VOTAR | C19: ='PANEL DE CONTROL DISTRITAL'!C18 -> Responsable de Módulo | D19: ='PANEL DE CONTROL DISTRITAL'!D18 -> Credenciales disponibles para entrega = | E19: ='PANEL DE CONTROL DISTRITAL'!E18 -> [(Credenciales recibidas - credenciales inconsistentes) / Credenciales recibidas] x 100 | F19: ='PANEL DE CONTROL DISTRITAL'!F18 -> Semanal (remesa) | G19: ='PANEL DE CONTROL DISTRITAL'!G18 -> 0.9 | H19: ='PANEL DE CONTROL DISTRITAL'!H18 -> Credenciales Recibidas - Credenciales inconsistentes | I19: 0 | J19: 200 | K19: 66 | L19: 29 | M19: 100 | N19: 56 | O19: 102 | P19: 66 | Q19: 99 | R19: 63 | S19: 20 | T19: 145 | U19: 67 | V19: 101 | W19: 129 | X19: 81 | Y19: 17 | Z19: 0 | AA19: 0 | BC19: =IFERROR(SUM(I19:BB19)/SUM(I20:BB20),0) -> 1
H20: ='PANEL DE CONTROL DISTRITAL'!H19 -> Credenciales recibidas | I20: 0 | J20: 200 | K20: 66 | L20: 29 | M20: 100 | N20: 56 | O20: 102 | P20: 66 | Q20: 99 | R20: 63 | S20: 20 | T20: 145 | U20: 67 | V20: 101 | W20: 129 | X20: 81 | Y20: 17 | Z20: 0 | AA20: 0
A22: ='PANEL DE CONTROL DISTRITAL'!A21 -> 5 | B22: ='PANEL DE CONTROL DISTRITAL'!B21 -> CONCILIACIÓN DE CREDENCIALES PARA VOTAR | C22: ='PANEL DE CONTROL DISTRITAL'!C21 -> Responsable de Módulo | D22: ='PANEL DE CONTROL DISTRITAL'!D21 -> Arqueo de Credenciales = | E22: ='PANEL DE CONTROL DISTRITAL'!E21 -> (Credenciales disponibles (físicas)/ Credenciales disponibles registradas en SIIRFE) x 100 | F22: ='PANEL DE CONTROL DISTRITAL'!F21 -> Semanal (remesa) | G22: ='PANEL DE CONTROL DISTRITAL'!G21 -> 1 | H22: ='PANEL DE CONTROL DISTRITAL'!H21 -> Credenciales disponibles (físicas) | I22: 0 | J22: 349 | K22: 269 | L22: 190 | M22: 224 | N22: 208 | O22: 228 | P22: 223 | Q22: 206 | R22: 221 | S22: 141 | T22: 230 | U22: 248 | V22: 202 | W22: 254 | X22: 212 | Y22: 115 | Z22: 108 | AA22: 87 | BC22: =IFERROR(SUM(I22:BB22)/SUM(I23:BB23),0) -> 1
H23: ='PANEL DE CONTROL DISTRITAL'!H22 -> Credenciales disponibles registradas en SIIRFE | I23: 0 | J23: 349 | K23: 269 | L23: 190 | M23: 224 | N23: 208 | O23: 228 | P23: 223 | Q23: 206 | R23: 221 | S23: 141 | T23: 230 | U23: 248 | V23: 202 | W23: 254 | X23: 212 | Y23: 115 | Z23: 108 | AA23: 87
A25: ='PANEL DE CONTROL DISTRITAL'!A24 -> 6 | B25: ='PANEL DE CONTROL DISTRITAL'!B24 -> ENTREGA DE LA CREDENCIAL PARA VOTAR | C25: ='PANEL DE CONTROL DISTRITAL'!C24 -> Operador de Equipo Tecnológico | D25: ='PANEL DE CONTROL DISTRITAL'!D24 -> Efectividad de entrega de CPV en MAC = | E25: ='PANEL DE CONTROL DISTRITAL'!E24 -> (Total de credenciales entregadas / Total de ciudadanas y ciudadanos que acuden al MAC a recoger su credencial) x 100 | F25: ='PANEL DE CONTROL DISTRITAL'!F24 -> Semanal (remesa) | G25: ='PANEL DE CONTROL DISTRITAL'!G24 -> 0.9 | H25: ='PANEL DE CONTROL DISTRITAL'!H24 -> Total de credenciales entregadas | I25: 0 | J25: 149 | K25: 146 | L25: 108 | M25: 66 | N25: 72 | O25: 82 | P25: 68 | Q25: 116 | R25: 48 | S25: 100 | T25: 56 | U25: 49 | V25: 145 | W25: 77 | X25: 123 | Y25: 114 | Z25: 5 | AA25: 21 | BC25: =IFERROR(SUM(I25:BB25)/SUM(I26:BB26),0) -> 0.99935317
H26: ='PANEL DE CONTROL DISTRITAL'!H25 -> Total de ciudadanas y ciudadanos que acuden al MAC a recoger su credencial | I26: 0 | J26: 149 | K26: 146 | L26: 109 | M26: 66 | N26: 72 | O26: 82 | P26: 68 | Q26: 116 | R26: 48 | S26: 100 | T26: 56 | U26: 49 | V26: 145 | W26: 77 | X26: 123 | Y26: 114 | Z26: 5 | AA26: 21
B27: *Registre el valor nominal solicitado en la celda, el resultado proporcional esta automatizado.
I29: Semaforización
J30: Valor que requiere atención y justificación en el apartado de observaciones
J31: Valor suficiente
J32: Valor esperado
B34: CUADRO DE OBSERVACIONES
B35: Descripción | H35: No conformidad

Sheet 151051
A1: ='PANEL DE CONTROL DISTRITAL'!A1:Q1 -> INSTITUTO NACIONAL ELECTORAL SISTEMA DE GESTIÓN DE LA CALIDAD ESTADO DE MÉXICO
D2: Distrito | E2: 10 | F2: Módulo | H2: 151051
A4: TABLERO DE CONTROL DE PROCESOS SUSTANTIVOS DEL SISTEMA DE GESTIÓN DE LA CALIDAD
A6: ='PANEL DE CONTROL DISTRITAL'!A6 -> Número | B6: ='PANEL DE CONTROL DISTRITAL'!B6 -> PROCESOS SUSTANTIVOS E INDICADORES | I6: SEMANA OPERATIVA | BC6: % AVANCE REGISTRADO
B7: ='PANEL DE CONTROL DISTRITAL'!B7 -> DESCRIPCIÓN | E7: ='PANEL DE CONTROL DISTRITAL'!E7 -> MEDICIÓN | I7: ='PANEL DE CONTROL DISTRITAL'!A5 -> CAMPAÑA ANUAL INTENSA 2024 CAMPAÑA ESPECIAL DE ACTUALIZACIÓN PARA EL PROCESO ELECTORAL EXTRAORDINARIO (CEAPEE) 2024-2025
B9: ='PANEL DE CONTROL DISTRITAL'!B8 -> Proceso | C9: ='PANEL DE CONTROL DISTRITAL'!C8 -> Dueño de Proceso | D9: ='PANEL DE CONTROL DISTRITAL'!D8 -> Indicador | E9: ='PANEL DE CONTROL DISTRITAL'!E8 -> Cálculo | F9: ='PANEL DE CONTROL DISTRITAL'!F8 -> Periodo | G9: ='PANEL DE CONTROL DISTRITAL'!G8 -> Estimado | H9: ='PANEL DE CONTROL DISTRITAL'!H8 -> Nominativo | I9: ='150151'!I9 -> 2024-41 | J9: ='150151'!J9 -> 2024-42 | K9: ='150151'!K9 -> 2024-43 | L9: ='150151'!L9 -> 2024-44 | M9: ='150151'!M9 -> 2024-45 | N9: ='150151'!N9 -> 2024-46 | O9: ='150151'!O9 -> 2024-47 | P9: ='150151'!P9 -> 2024-48 | ... AA9: ='150151'!AA9 -> 2024-59 | AB9: 2025-01 | AC9: 2025-02 | AD9: 2025-03 | AE9: 2025-04 | AF9: 2025-05 | AG9: 2025-06 | AH9: 2025-07 | AI9: 2025-08 | AJ9: 2025-09 | AK9: 2025-10 | AL9: 2025-11 | AM9: 2025-12 | AN9: 2025-13 | AO9: 2025-14 | AP9: 2025-15 | AQ9: 2025-16 | AR9: 2025-17 | AS9: 2025-18 | AT9: 2025-19 | AU9: 2025-20 | AV9: 2025-21 | AW9: 2025-22 | AX9: 2025-23 | AY9: 2025-24 | AZ9: 2025-25 | BA9: 2025-26 | BB9: 2025-27
A10: ='PANEL DE CONTROL DISTRITAL'!A9 -> 1 | B10: ='PANEL DE CONTROL DISTRITAL'!B9 -> ENTREVISTA | C10: ='PANEL DE CONTROL DISTRITAL'!C9 -> Auxiliar de Atención Ciudadana | D10: ='PANEL DE CONTROL DISTRITAL'!D9 -> Fichas requisitadas correctamente= | E10: ='PANEL DE CONTROL DISTRITAL'!E9 -> (Fichas requisitadas correctamente / Fichas revisadas en la muestra del 10%) x 100 | F10: ='PANEL DE CONTROL DISTRITAL'!F9 -> Semanal (remesa) | G10: ='PANEL DE CONTROL DISTRITAL'!G9 -> 0.9 | H10: ='PANEL DE CONTROL DISTRITAL'!H9 -> Fichas requistadas correctamente | I10: 0 | J10: 82 | K10: 72 | L10: 51 | M10: 75 | N10: 70 | O10: 88 | P10: 89 | Q10: 79 | R10: 66 | S10: 76 | T10: 93 | U10: 72 | V10: 97 | W10: 85 | X10: 90 | Y10: 87 | Z10: 52 | AA10: 13 | BC10: =IFERROR(SUM(I10:BB10)/SUM(I11:BB11),0) -> 1
H11: ='PANEL DE CONTROL DISTRITAL'!H10 -> Fichas revisadas en la muestra del 10% | I11: 0 | J11: 82 | K11: 72 | L11: 51 | M11: 75 | N11: 70 | O11: 88 | P11: 89 | Q11: 79 | R11: 66 | S11: 76 | T11: 93 | U11: 72 | V11: 97 | W11: 85 | X11: 90 | Y11: 87 | Z11: 52 | AA11: 13
A13: ='PANEL DE CONTROL DISTRITAL'!A12 -> 2 | B13: ='PANEL DE CONTROL DISTRITAL'!B12 -> TRÁMITE | C13: ='PANEL DE CONTROL DISTRITAL'!C12 -> Operador de Equipo Tecnológico | D13: ='PANEL DE CONTROL DISTRITAL'!D12 -> Trámites exitosos efectivos= | E13: ='PANEL DE CONTROL DISTRITAL'!E12 -> (Número de trámites exitosos / Número de trámites aplicados) x 100 | F13: ='PANEL DE CONTROL DISTRITAL'!F12 -> Semanal (remesa) | G13: ='PANEL DE CONTROL DISTRITAL'!G12 -> 0.9 | H13: ='PANEL DE CONTROL DISTRITAL'!H12 -> Número de trámites exitosos | I13: 0 | J13: 812 | K13: 707 | L13: 502 | M13: 745 | N13: 700 | O13: 883 | P13: 891 | Q13: 789 | R13: 652 | S13: 753 | T13: 931 | U13: 720 | V13: 967 | W13: 848 | X13: 901 | Y13: 862 | Z13: 515 | AA13: 129 | BC13: =IFERROR(SUM(I13:BB13)/SUM(I14:BB14),0) -> 0.99543686
H14: ='PANEL DE CONTROL DISTRITAL'!H13 -> Número de trámites aplicados | I14: 0 | J14: 816 | K14: 723 | L14: 506 | M14: 747 | N14: 700 | O14: 884 | P14: 894 | Q14: 792 | R14: 655 | S14: 757 | T14: 932 | U14: 720 | V14: 969 | W14: 850 | X14: 903 | Y14: 867 | Z14: 524 | AA14: 129
A16: ='PANEL DE CONTROL DISTRITAL'!A15 -> 3 | B16: ='PANEL DE CONTROL DISTRITAL'!B15 -> TRANSFERENCIA DE LA INFORMACIÓN | C16: ='PANEL DE CONTROL DISTRITAL'!C15 -> Responsable de Módulo | D16: ='PANEL DE CONTROL DISTRITAL'!D15 -> Reenvíos exitosos = | E16: ='PANEL DE CONTROL DISTRITAL'!E15 -> (Ejecución de los scripts de reenvío de notificaciones/Solicitud de reenvíos de scripts requeridos) x100 | F16: ='PANEL DE CONTROL DISTRITAL'!F15 -> Semanal (remesa) | G16: ='PANEL DE CONTROL DISTRITAL'!G15 -> 1 | H16: ='PANEL DE CONTROL DISTRITAL'!H15 -> Ejecución de los scripts de reenvío de notificaciones | I16: 0 | J16: 1 | K16: 1 | L16: 1 | M16: 1 | N16: 0 | O16: 0 | P16: 1 | Q16: 1 | R16: 1 | S16: 1 | T16: 1 | U16: 1 | V16: 0 | W16: 0 | X16: 1 | Y16: 0 | Z16: 0 | AA16: 0 | BC16: =IFERROR(SUM(I16:BB16)/SUM(I17:BB17),1) -> 1
H17: ='PANEL DE CONTROL DISTRITAL'!H16 -> Solicitud de reevíos de scripts requeridos | I17: 0 | J17: 1 | K17: 1 | L17: 1 | M17: 1 | N17: 0 | O17: 0 | P17: 1 | Q17: 1 | R17: 1 | S17: 1 | T17: 1 | U17: 1 | V17: 0 | W17: 0 | X17: 1 | Y17: 0 | Z17: 0 | AA17: 0
A19: ='PANEL DE CONTROL DISTRITAL'!A18 -> 4 | B19: ='PANEL DE CONTROL DISTRITAL'!B18 -> CONCILIACIÓN DE CREDENCIALES PARA VOTAR | C19: ='PANEL DE CONTROL DISTRITAL'!C18 -> Responsable de Módulo | D19: ='PANEL DE CONTROL DISTRITAL'!D18 -> Credenciales disponibles para entrega = | E19: ='PANEL DE CONTROL DISTRITAL'!E18 -> [(Credenciales recibidas - credenciales inconsistentes) / Credenciales recibidas] x 100 | F19: ='PANEL DE CONTROL DISTRITAL'!F18 -> Semanal (remesa) | G19: ='PANEL DE CONTROL DISTRITAL'!G18 -> 0.9 | H19: ='PANEL DE CONTROL DISTRITAL'!H18 -> Credenciales Recibidas - Credenciales inconsistentes | I19: 0 | J19: 918 | K19: 933 | L19: 357 | M19: 852 | N19: 614 | O19: 893 | P19: 864 | Q19: 879 | R19: 756 | S19: 718 | T19: 974 | U19: 724 | V19: 774 | W19: 917 | X19: 894 | Y19: 861 | Z19: 644 | AA19: 0 | BC19: =IFERROR(SUM(I19:BB19)/SUM(I20:BB20),0) -> 1
H20: ='PANEL DE CONTROL DISTRITAL'!H19 -> Credenciales recibidas | I20: 0 | J20: 918 | K20: 933 | L20: 357 | M20: 852 | N20: 614 | O20: 893 | P20: 864 | Q20: 879 | R20: 756 | S20: 718 | T20: 974 | U20: 724 | V20: 774 | W20: 917 | X20: 894 | Y20: 861 | Z20: 644 | AA20: 0
A22: ='PANEL DE CONTROL DISTRITAL'!A21 -> 5 | B22: ='PANEL DE CONTROL DISTRITAL'!B21 -> CONCILIACIÓN DE CREDENCIALES PARA VOTAR | C22: ='PANEL DE CONTROL DISTRITAL'!C21 -> Responsable de Módulo | D22: ='PANEL DE CONTROL DISTRITAL'!D21 -> Arqueo de Credenciales = | E22: ='PANEL DE CONTROL DISTRITAL'!E21 -> (Credenciales disponibles (físicas)/ Credenciales disponibles registradas en SIIRFE) x 100 | F22: ='PANEL DE CONTROL DISTRITAL'!F21 -> Semanal (remesa) | G22: ='PANEL DE CONTROL DISTRITAL'!G21 -> 1 | H22: ='PANEL DE CONTROL DISTRITAL'!H21 -> Credenciales disponibles (físicas) | I22: 0 | J22: 1090 | K22: 1151 | L22: 884 | M22: 1074 | N22: 1034 | O22: 1259 | P22: 1140 | Q22: 1204 | R22: 1333 | S22: 1246 | T22: 1280 | U22: 1312 | V22: 1275 | W22: 1410 | X22: 1383 | Y22: 1253 | Z22: 1157 | AA22: 949 | BC22: =IFERROR(SUM(I22:BB22)/SUM(I23:BB23),0) -> 1
H23: ='PANEL DE CONTROL DISTRITAL'!H22 -> Credenciales disponibles registradas en SIIRFE | I23: 0 | J23: 1090 | K23: 1151 | L23: 884 | M23: 1074 | N23: 1034 | O23: 1259 | P23: 1140 | Q23: 1204 | R23: 1333 | S23: 1246 | T23: 1280 | U23: 1312 | V23: 1275 | W23: 1410 | X23: 1383 | Y23: 1253 | Z23: 1157 | AA23: 949
A25: ='PANEL DE CONTROL DISTRITAL'!A24 -> 6 | B25: ='PANEL DE CONTROL DISTRITAL'!B24 -> ENTREGA DE LA CREDENCIAL PARA VOTAR | C25: ='PANEL DE CONTROL DISTRITAL'!C24 -> Operador de Equipo Tecnológico | D25: ='PANEL DE CONTROL DISTRITAL'!D24 -> Efectividad de entrega de CPV en MAC = | E25: ='PANEL DE CONTROL DISTRITAL'!E24 -> (Total de credenciales entregadas / Total de ciudadanas y ciudadanos que acuden al MAC a recoger su credencial) x 100 | F25: ='PANEL DE CONTROL DISTRITAL'!F24 -> Semanal (remesa) | G25: ='PANEL DE CONTROL DISTRITAL'!G24 -> 0.9 | H25: ='PANEL DE CONTROL DISTRITAL'!H24 -> Total de credenciales entregadas | I25: 0 | J25: 930 | K25: 872 | L25: 624 | M25: 662 | N25: 654 | O25: 668 | P25: 977 | Q25: 815 | R25: 627 | S25: 805 | T25: 940 | U25: 692 | V25: 806 | W25: 782 | X25: 921 | Y25: 991 | Z25: 735 | AA25: 208 | BC25: =IFERROR(SUM(I25:BB25)/SUM(I26:BB26),0) -> 1
H26: ='PANEL DE CONTROL DISTRITAL'!H25 -> Total de ciudadanas y ciudadanos que acuden al MAC a recoger su credencial | I26: 0 | J26: 930 | K26: 872 | L26: 624 | M26: 662 | N26: 654 | O26: 668 | P26: 977 | Q26: 815 | R26: 627 | S26: 805 | T26: 940 | U26: 692 | V26: 806 | W26: 782 | X26: 921 | Y26: 991 | Z26: 735 | AA26: 208
B27: *Registre el valor nominal solicitado en la celda, el resultado proporcional esta automatizado.
I29: Semaforización
J30: Valor que requiere atención y justificación en el apartado de observaciones
J31: Valor suficiente
J32: Valor esperado
B34: CUADRO DE OBSERVACIONES
B35: Descripción | H35: No conformidad

Sheet 151151
A1: ='PANEL DE CONTROL DISTRITAL'!A1:Q1 -> INSTITUTO NACIONAL ELECTORAL SISTEMA DE GESTIÓN DE LA CALIDAD ESTADO DE MÉXICO
D2: Distrito | E2: 11 | F2: Módulo | H2: 151151
A4: TABLERO DE CONTROL DE PROCESOS SUSTANTIVOS DEL SISTEMA DE GESTIÓN DE LA CALIDAD
A6: ='PANEL DE CONTROL DISTRITAL'!A6 -> Número | B6: ='PANEL DE CONTROL DISTRITAL'!B6 -> PROCESOS SUSTANTIVOS E INDICADORES | I6: SEMANA OPERATIVA | BC6: % AVANCE REGISTRADO
B7: ='PANEL DE CONTROL DISTRITAL'!B7 -> DESCRIPCIÓN | E7: ='PANEL DE CONTROL DISTRITAL'!E7 -> MEDICIÓN | I7: ='PANEL DE CONTROL DISTRITAL'!A5 -> CAMPAÑA ANUAL INTENSA 2024 CAMPAÑA ESPECIAL DE ACTUALIZACIÓN PARA EL PROCESO ELECTORAL EXTRAORDINARIO (CEAPEE) 2024-2025
B9: ='PANEL DE CONTROL DISTRITAL'!B8 -> Proceso | C9: ='PANEL DE CONTROL DISTRITAL'!C8 -> Dueño de Proceso | D9: ='PANEL DE CONTROL DISTRITAL'!D8 -> Indicador | E9: ='PANEL DE CONTROL DISTRITAL'!E8 -> Cálculo | F9: ='PANEL DE CONTROL DISTRITAL'!F8 -> Periodo | G9: ='PANEL DE CONTROL DISTRITAL'!G8 -> Estimado | H9: ='PANEL DE CONTROL DISTRITAL'!H8 -> Nominativo | I9: ='150151'!I9 -> 2024-41 | J9: ='150151'!J9 -> 2024-42 | K9: ='150151'!K9 -> 2024-43 | L9: ='150151'!L9 -> 2024-44 | M9: ='150151'!M9 -> 2024-45 | N9: ='150151'!N9 -> 2024-46 | O9: ='150151'!O9 -> 2024-47 | P9: ='150151'!P9 -> 2024-48 | ... AA9: ='150151'!AA9 -> 2024-59 | AB9: 2025-01 | AC9: 2025-02 | AD9: 2025-03 | AE9: 2025-04 | AF9: 2025-05 | AG9: 2025-06 | AH9: 2025-07 | AI9: 2025-08 | AJ9: 2025-09 | AK9: 2025-10 | AL9: 2025-11 | AM9: 2025-12 | AN9: 2025-13 | AO9: 2025-14 | AP9: 2025-15 | AQ9: 2025-16 | AR9: 2025-17 | AS9: 2025-18 | AT9: 2025-19 | AU9: 2025-20 | AV9: 2025-21 | AW9: 2025-22 | AX9: 2025-23 | AY9: 2025-24 | AZ9: 2025-25 | BA9: 2025-26 | BB9: 2025-27
A10: ='PANEL DE CONTROL DISTRITAL'!A9 -> 1 | B10: ='PANEL DE CONTROL DISTRITAL'!B9 -> ENTREVISTA | C10: ='PANEL DE CONTROL DISTRITAL'!C9 -> Auxiliar de Atención Ciudadana | D10: ='PANEL DE CONTROL DISTRITAL'!D9 -> Fichas requisitadas correctamente= | E10: ='PANEL DE CONTROL DISTRITAL'!E9 -> (Fichas requisitadas correctamente / Fichas revisadas en la muestra del 10%) x 100 | F10: ='PANEL DE CONTROL DISTRITAL'!F9 -> Semanal (remesa) | G10: ='PANEL DE CONTROL DISTRITAL'!G9 -> 0.9 | H10: ='PANEL DE CONTROL DISTRITAL'!H9 -> Fichas requistadas correctamente | I10: 0 | J10: 107 | K10: 93 | L10: 68 | M10: 103 | N10: 87 | O10: 106 | P10: 105 | Q10: 95 | R10: 71 | S10: 89 | T10: 112 | U10: 80 | V10: 119 | W10: 121 | X10: 114 | Y10: 105 | Z10: 85 | AA10: 19 | AB10: 0 | AC10: 0 | AD10: 0 | BC10: =IFERROR(SUM(I10:BB10)/SUM(I11:BB11),0) -> 1
H11: ='PANEL DE CONTROL DISTRITAL'!H10 -> Fichas revisadas en la muestra del 10% | I11: 0 | J11: 107 | K11: 93 | L11: 68 | M11: 103 | N11: 87 | O11: 106 | P11: 105 | Q11: 95 | R11: 71 | S11: 89 | T11: 112 | U11: 80 | V11: 119 | W11: 121 | X11: 114 | Y11: 105 | Z11: 85 | AA11: 19 | AB11: 0 | AC11: 0 | AD11: 0
A13: ='PANEL DE CONTROL DISTRITAL'!A12 -> 2 | B13: ='PANEL DE CONTROL DISTRITAL'!B12 -> TRÁMITE | C13: ='PANEL DE CONTROL DISTRITAL'!C12 -> Operador de Equipo Tecnológico | D13: ='PANEL DE CONTROL DISTRITAL'!D12 -> Trámites exitosos efectivos= | E13: ='PANEL DE CONTROL DISTRITAL'!E12 -> (Número de trámites exitosos / Número de trámites aplicados) x 100 | F13: ='PANEL DE CONTROL DISTRITAL'!F12 -> Semanal (remesa) | G13: ='PANEL DE CONTROL DISTRITAL'!G12 -> 0.9 | H13: ='PANEL DE CONTROL DISTRITAL'!H12 -> Número de trámites exitosos | I13: 0 | J13: 1075 | K13: 922 | L13: 664 | M13: 1034 | N13: 859 | O13: 1057 | P13: 1044 | Q13: 949 | R13: 713 | S13: 895 | T13: 1123 | U13: 799 | V13: 1195 | W13: 1209 | X13: 1144 | Y13: 1052 | Z13: 85 | AA13: 196 | AB13: 0 | AC13: 0 | AD13: 0 | BC13: =IFERROR(SUM(I13:BB13)/SUM(I14:BB14),0) -> 0.99682559
H14: ='PANEL DE CONTROL DISTRITAL'!H13 -> Número de trámites aplicados | I14: 0 | J14: 1079 | K14: 930 | L14: 668 | M14: 1037 | N14: 859 | O14: 1062 | P14: 1046 | Q14: 954 | R14: 716 | S14: 898 | T14: 1126 | U14: 802 | V14: 1198 | W14: 1214 | X14: 1144 | Y14: 1052 | Z14: 85 | AA14: 196 | AB14: 0 | AC14: 0 | AD14: 0
A16: ='PANEL DE CONTROL DISTRITAL'!A15 -> 3 | B16: ='PANEL DE CONTROL DISTRITAL'!B15 -> TRANSFERENCIA DE LA INFORMACIÓN | C16: ='PANEL DE CONTROL DISTRITAL'!C15 -> Responsable de Módulo | D16: ='PANEL DE CONTROL DISTRITAL'!D15 -> Reenvíos exitosos = | E16: ='PANEL DE CONTROL DISTRITAL'!E15 -> (Ejecución de los scripts de reenvío de notificaciones/Solicitud de reenvíos de scripts requeridos) x100 | F16: ='PANEL DE CONTROL DISTRITAL'!F15 -> Semanal (remesa) | G16: ='PANEL DE CONTROL DISTRITAL'!G15 -> 1 | H16: ='PANEL DE CONTROL DISTRITAL'!H15 -> Ejecución de los scripts de reenvío de notificaciones | I16: 0 | J16: 1 | K16: 1 | L16: 1 | M16: 1 | N16: 0 | O16: 0 | P16: 1 | Q16: 1 | R16: 0 | S16: 1 | T16: 1 | U16: 1 | V16: 0 | W16: 0 | X16: 1 | Y16: 0 | Z16: 0 | AA16: 0 | AB16: 0 | AC16: 0 | AD16: 0 | BC16: =IFERROR(SUM(I16:BB16)/SUM(I17:BB17),1) -> 1
H17: ='PANEL DE CONTROL DISTRITAL'!H16 -> Solicitud de reevíos de scripts requeridos | I17: 0 | J17: 1 | K17: 1 | L17: 1 | M17: 1 | N17: 0 | O17: 0 | P17: 1 | Q17: 1 | R17: 0 | S17: 1 | T17: 1 | U17: 1 | V17: 0 | W17: 0 | X17: 1 | Y17: 0 | Z17: 0 | AA17: 0 | AB17: 0 | AC17: 0 | AD17: 0
A19: ='PANEL DE CONTROL DISTRITAL'!A18 -> 4 | B19: ='PANEL DE CONTROL DISTRITAL'!B18 -> CONCILIACIÓN DE CREDENCIALES PARA VOTAR | C19: ='PANEL DE CONTROL DISTRITAL'!C18 -> Responsable de Módulo | D19: ='PANEL DE CONTROL DISTRITAL'!D18 -> Credenciales disponibles para entrega = | E19: ='PANEL DE CONTROL DISTRITAL'!E18 -> [(Credenciales recibidas - credenciales inconsistentes) / Credenciales recibidas] x 100 | F19: ='PANEL DE CONTROL DISTRITAL'!F18 -> Semanal (remesa) | G19: ='PANEL DE CONTROL DISTRITAL'!G18 -> 0.9 | H19: ='PANEL DE CONTROL DISTRITAL'!H18 -> Credenciales Recibidas - Credenciales inconsistentes | I19: 0 | J19: 1077 | K19: 1256 | L19: 461 | M19: 1153 | N19: 858 | O19: 1044 | P19: 1043 | Q19: 1020 | R19: 854 | S19: 884 | T19: 714 | U19: 886 | V19: 1306 | W19: 944 | X19: 1636 | Y19: 907 | Z19: 634 | AA19: 249 | AB19: 0 | AC19: 0 | AD19: 0 | BC19: =IFERROR(SUM(I19:BB19)/SUM(I20:BB20),0) -> 1
H20: ='PANEL DE CONTROL DISTRITAL'!H19 -> Credenciales recibidas | I20: 0 | J20: 1077 | K20: 1256 | L20: 461 | M20: 1153 | N20: 858 | O20: 1044 | P20: 1043 | Q20: 1020 | R20: 854 | S20: 884 | T20: 714 | U20: 886 | V20: 1306 | W20: 944 | X20: 1636 | Y20: 907 | Z20: 634 | AA20: 249 | AB20: 0 | AC20: 0 | AD20: 0
A22: ='PANEL DE CONTROL DISTRITAL'!A21 -> 5 | B22: ='PANEL DE CONTROL DISTRITAL'!B21 -> CONCILIACIÓN DE CREDENCIALES PARA VOTAR | C22: ='PANEL DE CONTROL DISTRITAL'!C21 -> Responsable de Módulo | D22: ='PANEL DE CONTROL DISTRITAL'!D21 -> Arqueo de Credenciales = | E22: ='PANEL DE CONTROL DISTRITAL'!E21 -> (Credenciales disponibles (físicas)/ Credenciales disponibles registradas en SIIRFE) x 100 | F22: ='PANEL DE CONTROL DISTRITAL'!F21 -> Semanal (remesa) | G22: ='PANEL DE CONTROL DISTRITAL'!G21 -> 1 | H22: ='PANEL DE CONTROL DISTRITAL'!H21 -> Credenciales disponibles (físicas) | I22: 0 | J22: 1587 | K22: 1710 | L22: 1245 | M22: 1625 | N22: 1540 | O22: 1707 | P22: 1694 | Q22: 1726 | R22: 1768 | S22: 1718 | T22: 1450 | U22: 1394 | V22: 1793 | W22: 1649 | X22: 2187 | Y22: 2005 | Z22: 1624 | AA22: 1630 | AB22: 0 | AC22: 0 | AD22: 0 | BC22: =IFERROR(SUM(I22:BB22)/SUM(I23:BB23),0) -> 1
