Workbook

Sheet PANEL DE CONTROL DISTRITAL
A1: INSTITUTO NACIONAL ELECTORAL SISTEMA DE GESTIÓN DE LA CALIDAD ESTADO DE MÉXICO
M2: Fecha de corte: dd/mm/aaaa | Q2: Version: 0
A4: TABLERO DE CONTROL DISTRITAL DE PROCESOS SUSTANTIVOS DEL SISTEMA DE GESTIÓN DE LA CALIDAD
A5: CAMPAÑA ANUAL INTENSA 2024 CAMPAÑA ESPECIAL DE ACTUALIZACIÓN PARA EL PROCESO ELECTORAL EXTRAORDINARIO (CEAPEE) 2024-2025
A6: Número | B6: PROCESOS SUSTANTIVOS E INDICADORES | I6: % AVANCE REGISTRADO | K6: % AVANCE REGISTRADO | M6: % AVANCE REGISTRADO | O6: % AVANCE REGISTRADO | Q6: % AVANCE REGISTRADO | S6: % AVANCE REGISTRADO | U6: % AVANCE REGISTRADO | W6: % AVANCE REGISTRADO | Y6: % AVANCE REGISTRADO | AA6: % AVANCE REGISTRADO | AC6: % AVANCE REGISTRADO | AE6: % AVANCE REGISTRADO | AG6: % AVANCE REGISTRADO | AI6: % AVANCE REGISTRADO | AK6: % AVANCE REGISTRADO | AM6: % AVANCE REGISTRADO | AO6: % AVANCE REGISTRADO | AQ6: % AVANCE REGISTRADO | AS6: % AVANCE REGISTRADO | AU6: % AVANCE REGISTRADO | AW6: % AVANCE REGISTRADO | AY6: % AVANCE REGISTRADO | BA6: % AVANCE REGISTRADO | BC6: % AVANCE REGISTRADO | BE6: % AVANCE REGISTRADO | BG6: % AVANCE REGISTRADO | BI6: % AVANCE REGISTRADO | BK6: % AVANCE REGISTRADO | BM6: % AVANCE REGISTRADO | BO6: % AVANCE REGISTRADO | BQ6: % AVANCE REGISTRADO | BS6: % AVANCE REGISTRADO | BU6: % AVANCE REGISTRADO | BW6: % AVANCE REGISTRADO | BY6: % AVANCE REGISTRADO | CA6: % AVANCE REGISTRADO | CC6: % AVANCE REGISTRADO | CE6: % AVANCE REGISTRADO | CG6: % AVANCE REGISTRADO | CI6: % AVANCE REGISTRADO | CK6: % AVANCE REGISTRADO
B7: DESCRIPCIÓN | E7: MEDICIÓN
B8: Proceso | C8: Dueño de Proceso | D8: Indicador | E8: Cálculo | F8: Periodo | G8: Estimado | H8: Nominativo | I8: Distrito 01 | K8: Distrito 02 | M8: Distrito 03 | O8: Distrito 04 | Q8: Distrito 05 | S8: Distrito 06 | U8: Distrito 07 | W8: Distrito 08 | Y8: Distrito 09 | AA8: Distrito 10 | AC8: Distrito 11 | AE8: Distrito 12 | AG8: Distrito 13 | AI8: Distrito 14 | AK8: Distrito 15 | AM8: Distrito 16 | AO8: Distrito 17 | AQ8: Distrito 18 | AS8: Distrito 19 | AU8: Distrito 20 | AW8: Distrito 21 | AY8: Distrito 22 | BA8: Distrito 23 | BC8: Distrito 24 | BE8: Distrito 25 | BG8: Distrito 26 | BI8: Distrito 27 | BK8: Distrito 28 | BM8: Distrito 29 | BO8: Distrito 30 | BQ8: Distrito 31 | BS8: Distrito 32 | BU8: Distrito 33 | BW8: Distrito 34 | BY8: Distrito 35 | CA8: Distrito 36 | CC8: Distrito 37 | CE8: Distrito 38 | CG8: Distrito 39 | CI8: Distrito 40 | CK8: Estatal
A9: 1 | B9: ENTREVISTA | C9: Auxiliar de Atención Ciudadana | D9: Fichas requisitadas correctamente= | E9: (Fichas requisitadas correctamente / Fichas revisadas en la muestra del 10%) x 100 | F9: Semanal (remesa) | G9: 0.9 | H9: Fichas requistadas correctamente | I9: =AVERAGE('150151'!BC10:BC11,'150152'!BC10:BC11,'150153'!BC10:BC11) -> 1 | K9: =AVERAGE('150251'!BC10:BC11,'150253'!BC10:BC11) -> 0.99564797 | M9: =AVERAGE('150351'!BC10:BC11,'150352'!BC10:BC11,'150353'!BC10:BC11) -> 1 | O9: =AVERAGE('150451'!BC10:BC11) -> 0.98875074 | Q9: =AVERAGE('150551'!BC10:BC11) -> 1 | S9: =AVERAGE('150651'!BC10:BC11,'150652'!BC10:BC11) -> 0.98425736 | U9: =AVERAGE('150751'!BC10:BC11) -> 1 | W9: =AVERAGE('150851'!BC10:BC11) -> 1 | Y9: =AVERAGE('150951'!BC10:BC11,'150952'!BC10:BC11,'150953'!BC10:BC11,'150954'!BC10:BC11) -> 1 | AA9: =AVERAGE('151051'!BC10:BC11) -> 1 | AC9: =AVERAGE('151151'!BC10:BC11) -> 1 | AE9: =AVERAGE('151251'!BC10:BC11,'151252'!BC10:BC11,'151253'!BC10:BC11) -> 1 | AG9: =AVERAGE('151351'!BC10:BC11) -> 0.9917231 | AI9: =AVERAGE('151452'!BC10:BC11,'151453'!BC10:BC11) -> 1 | AK9: =AVERAGE('151551'!BC10:BC11) -> 1 | AM9: =AVERAGE('151651'!BC10:BC11,'151652'!BC10:BC11) -> 1 | AO9: =AVERAGE('151751'!BC10:BC11) -> 1 | AQ9: =AVERAGE('151851'!BC10:BC11,'151852'!BC10:BC11,'151853'!BC10:BC11) -> 0.99884759 | AS9: =AVERAGE('151951'!BC10:BC11,'151952'!BC10:BC11) -> 1 | AU9: =AVERAGE('152052'!BC10:BC11,'152053'!BC10:BC11,'152054'!BC10:BC11) -> 1 | AW9: =AVERAGE('152151'!BC10:BC11,'152152'!BB10:BB11) -> 1 | AY9: =AVERAGE('152251'!BC10:BC11,'152252'!BC10:BC11) -> 0.98247804 | BA9: =AVERAGE('152351'!BC10:BC11,'152352'!BC10:BC11,'152353'!BC10:BC11) -> 1 | BC9: =AVERAGE('152451'!BC10:BC11) -> 1 | BE9: =AVERAGE('152451'!BC10:BC11) -> 1 | BG9: =AVERAGE('152651'!BC10:BC11) -> 1 | BI9: =AVERAGE('152751'!BC10:BC11,'152752'!BC10:BC11,'152753'!BC10:BC11) -> 0.99328666 | BK9: =AVERAGE('152851'!BC10:BC11,'152853'!BC11:BC12) -> 1 | BM9: =AVERAGE('152951'!BC10:BC11) -> 1 | BO9: =AVERAGE('153051'!BC10:BC11,'153052'!BC10:BC11) -> 1 | BQ9: =AVERAGE('153151'!AI10:AI11) -> 1 | BS9: =AVERAGE('153251'!AI10:AI11) -> 1 | BU9: =AVERAGE('153351'!AI10:AI11) -> 1 | BW9: =AVERAGE('153451'!AI10:AI11) -> 1 | BY9: =AVERAGE('153551'!AI10:AI11,'153552'!AI10:AI11,'153553'!AI10:AI11) -> 1 | CA9: =AVERAGE('153651'!AI10:AI11,'153652'!AI10:AI11,'153653'!AI10:AI11,'153654'!AI10:AI11) -> 1 | CC9: =AVERAGE('153753'!AI10:AI11,'153752'!AI10:AI11) -> 0.98063047 | CE9: =AVERAGE('153851'!AI10:AI11,'153852'!AI10:AI11) -> 1 | CG9: =AVERAGE('153951'!AI10:AI11) -> 1 | CI9: =AVERAGE('154051'!AI10:AI11,'154052'!AI10:AI11,'154053'!AJ10:AJ11) -> 1 | CK9: =AVERAGE(I9,K9,M9,O9,Q9,S9,U9,W9,Y9,AA9,AC9,AE9,AG9,AI9,AK9,AM9,AO9,AQ9,AS9,AU9,AW9,AY9,BA9,BC9,BE9,BG9,BI9,BK9,BM9,BO9,BQ9,BS9,BU9,BW9,BY9,CA9,CC9,CE9,CG9,CI9) -> 0.99789055
H10: Fichas revisadas en la muestra del 10%
A12: 2 | B12: TRÁMITE | C12: Operador de Equipo Tecnológico | D12: Trámites exitosos efectivos= | E12: (Número de trámites exitosos / Número de trámites aplicados) x 100 | F12: Semanal (remesa) | G12: 0.9 | H12: Número de trámites exitosos | I12: =AVERAGE('150151'!BC13:BC14,'150152'!BC13:BC14,'150153'!BC13:BC14) -> 0.99819838 | K12: =AVERAGE('150251'!BC13:BC14,'150253'!BC13:BC14) -> 0.99740189 | M12: =AVERAGE('150351'!BC13:BC14,'150352'!BC13:BC14,'150353'!BC13:BC14) -> 0.99817886 | O12: =AVERAGE('150451'!BC13:BC14) -> 0.99833302 | Q12: =AVERAGE('150551'!BC13:BC14) -> 0.99450738 | S12: =AVERAGE('150651'!BC13:BC14,'150652'!BC13:BC14) -> 1.0022714 | U12: =AVERAGE('150751'!BC13:BC14) -> 0.97113131 | W12: =AVERAGE('150851'!BC13:BC14) -> 0.99765258 | Y12: =AVERAGE('150951'!BC13:BC14,'150952'!BC13:BC14,'150953'!BC13:BC14,'150954'!BC13:BC14) -> 0.99534168 | AA12: =AVERAGE('151051'!BC13:BC14) -> 0.99543686 | AC12: =AVERAGE('151151'!BC13:BC14) -> 0.99682559 | AE12: =AVERAGE('151251'!BC13:BC14,'151252'!BC13:BC14) -> 0.99626708 | AG12: =AVERAGE('151351'!BC13:BC14) -> 0.99389463 | AI12: =AVERAGE('151452'!BC13:BC14,'151453'!BC13:BC14) -> 0.99756996 | AK12: =AVERAGE('151551'!BC13:BC14) -> 0.99686671 | AM12: =AVERAGE('151651'!BC13:BC14,'151652'!BC13:BC14) -> 0.99764028 | AO12: =AVERAGE('151751'!BC13:BC14) -> 0.99539922 | AQ12: =AVERAGE('151851'!BC13:BC14,'151852'!BC13:BC14,'151853'!BC13:BC14) -> 0.99639461 | AS12: =AVERAGE('151951'!BC13:BC14,'151952'!BC13:BC14) -> 0.99306995 | AU12: =AVERAGE('152052'!BC13:BC14,'152053'!BC13:BC14,'152054'!BC13:BC14) -> 0.99325213 | AW12: =AVERAGE('152151'!BC13:BC14,'152152'!BB13:BB14) -> 0.99647343 | AY12: =AVERAGE('152251'!BC13:BC14,'152252'!BC13:BC14) -> 0.99636868 | BA12: =AVERAGE('152351'!BC13:BC14,'152352'!BC13:BC14,'152353'!BC13:BC14) -> 0.99324121 | BC12: =AVERAGE('152451'!BC13:BC14) -> 1 | BE12: =AVERAGE('152451'!BC13:BC14) -> 1 | BG12: =AVERAGE('152651'!BC13:BC14) -> 0.99854824 | BI12: =AVERAGE('152751'!BC13:BC14,'152752'!BC13:BC14,'152753'!BC13:BC14) -> 0.99814271 | BK12: =AVERAGE('152851'!BC13:BC14,'152853'!BC14:BC15) -> 0.99770392 | BM12: =AVERAGE('152951'!BC13:BC14) -> 0.99040607 | BO12: =AVERAGE('153051'!BC13:BC14,'153052'!BC13:BC14) -> 0.99179516 | BQ12: =AVERAGE('153151'!AI13:AI14) -> 0.99582696 | BS12: =AVERAGE('153251'!AI13:AI14) -> 0.99578432 | BU12: =AVERAGE('153351'!AI13:AI14) -> 0.99705717 | BW12: =AVERAGE('153451'!AI13:AI14) -> 0.99769132 | BY12: =AVERAGE('153551'!AI13:AI14,'153552'!AI13:AI14,'153553'!AI13:AI14) -> 0.99589857 | CA12: =AVERAGE('153651'!AI13:AI14,'153652'!AI13:AI14,'153653'!AI13:AI14,'153654'!AI13:AI14) -> 0.99297914 | CC12: =AVERAGE('153753'!AI13:AI14,'153752'!AI13:AI14) -> 0.98407089 | CE12: =AVERAGE('153851'!AI13:AI14,'153852'!AI13:AI14) -> 0.9958394 | CG12: =AVERAGE('153951'!AI13:AI14) -> 0.9967744 | CI12: =AVERAGE('154051'!AI13:AI14,'154052'!AI13:AI14,'154053'!AJ13:AJ14) -> 0.99822216 | CK12: =AVERAGE(I12,K12,M12,O12,Q12,S12,U12,W12,Y12,AA12,AC12,AE12,AG12,AI12,AK12,AM12,AO12,AQ12,AS12,AU12,AW12,AY12,BA12,BC12,BE12,BG12,BI12,BK12,BM12,BO12,BQ12,BS12,BU12,BW12,BY12,CA12,CC12,CE12,CG12,CI12) -> 0.99546143
H13: Número de trámites aplicados
A15: 3 | B15: TRANSFERENCIA DE LA INFORMACIÓN | C15: Responsable de Módulo | D15: Reenvíos exitosos = | E15: (Ejecución de los scripts de reenvío de notificaciones/Solicitud de reenvíos de scripts requeridos) x100 | F15: Semanal (remesa) | G15: 1 | H15: Ejecución de los scripts de reenvío de notificaciones | I15: =AVERAGE('150151'!BC16:BC17,'150152'!BC16:BC17,'150153'!BC16:BC17) -> 1 | K15: =AVERAGE('150251'!BC16:BC17,'150253'!BC16:BC17) -> 1 | M15: =AVERAGE('150351'!BC16:BC17,'150352'!BC16:BC17,'150353'!BC16:BC17) -> 1 | O15: =AVERAGE('150451'!BC16:BC17) -> 1 | Q15: =AVERAGE('150551'!BC16:BC17) -> 1 | S15: =AVERAGE('150651'!BC16:BC17,'150652'!BC16:BC17) -> 1 | U15: =AVERAGE('150751'!BC16:BC17) -> 1 | W15: =AVERAGE('150851'!BC16:BC17) -> 1 | Y15: =AVERAGE('150951'!BC16:BC17,'150952'!BC16:BC17,'150953'!BC16:BC17,'150954'!BC16:BC17) -> 1 | AA15: =AVERAGE('151051'!BC16:BC17) -> 1 | AC15: =AVERAGE('151151'!BC16:BC17) -> 1 | AE15: =AVERAGE('151251'!BC16:BC17,'151252'!BC16:BC17) -> 1 | AG15: =AVERAGE('151351'!BC16:BC17) -> 1 | AI15: =AVERAGE('151452'!BC16:BC17,'151453'!BC16:BC17) -> 1 | AK15: =AVERAGE('151551'!BC16:BC17) -> 1 | AM15: =AVERAGE('151651'!BC16:BC17,'151652'!BC16:BC17) -> 1 | AO15: =AVERAGE('151751'!BC16:BC17) -> 1 | AQ15: =AVERAGE('151851'!BC16:BC17,'151852'!BC16:BC17,'151853'!BC16:BC17) -> 1 | AS15: =AVERAGE('151951'!BC16:BC17,'151952'!BC16:BC17) -> 1 | AU15: =AVERAGE('152052'!BC16:BC17,'152053'!BC16:BC17,'152054'!BC16:BC17) -> 1 | AW15: =AVERAGE('152151'!BC16:BC17,'152152'!BB16:BB17) -> 1 | AY15: =AVERAGE('152251'!BC16:BC17,'152252'!BC16:BC17) -> 1 | BA15: =AVERAGE('152351'!BC16:BC17,'152352'!BC16:BC17,'152353'!BC16:BC17) -> 1 | BC15: =AVERAGE('152451'!BC16:BC17) -> 1 | BE15: =AVERAGE('152451'!BC16:BC17) -> 1 | BG15: =AVERAGE('152651'!BC16:BC17) -> 1 | BI15: =AVERAGE('152751'!BC16:BC17,'152752'!BC16:BC17,'152753'!BC16:BC17) -> 1 | BK15: =AVERAGE('152851'!BC16:BC17,'152853'!BC17:BC18) -> 1 | BM15: =AVERAGE('152951'!BC16:BC17) -> 1 | BO15: =AVERAGE('153051'!BC16:BC17,'153052'!BC16:BC17) -> 1 | BQ15: =AVERAGE('153151'!AI16:AI17) -> 1 | BS15: =AVERAGE('153251'!AI16:AI17) -> 1 | BU15: =AVERAGE('153351'!AI16:AI17) -> 1 | BW15: =AVERAGE('153451'!AI16:AI17) -> 1 | BY15: =AVERAGE('153551'!AI16:AI17,'153552'!AI16:AI17,'153553'!AI16:AI17) -> 1 | CA15: =AVERAGE('153651'!AI16:AI17,'153652'!AI16:AI17,'153653'!AI16:AI17,'153654'!AI16:AI17) -> 1 | CC15: =AVERAGE('153753'!AI16:AI17,'153752'!AI16:AI17) -> 1 | CE15: =AVERAGE('153851'!AI16:AI17,'153852'!AI16:AI17) -> 1 | CG15: =AVERAGE('153951'!AI16:AI17) -> 1 | CI15: =AVERAGE('154051'!AI16:AI17,'154052'!AI16:AI17,'154053'!AJ16:AJ17) -> 1 | CK15: =AVERAGE(I15,K15,M15,O15,Q15,S15,U15,W15,Y15,AA15,AC15,AE15,AG15,AI15,AK15,AM15,AO15,AQ15,AS15,AU15,AW15,AY15,BA15,BC15,BE15,BG15,BI15,BK15,BM15,BO15,BQ15,BS15,BU15,BW15,BY15,CA15,CC15,CE15,CG15,CI15) -> 1
H16: Solicitud de reevíos de scripts requeridos
A18: 4 | B18: CONCILIACIÓN DE CREDENCIALES PARA VOTAR | C18: Responsable de Módulo | D18: Credenciales disponibles para entrega = | E18: [(Credenciales recibidas - credenciales inconsistentes) / Credenciales recibidas] x 100 | F18: Semanal (remesa) | G18: 0.9 | H18: Credenciales Recibidas - Credenciales inconsistentes | I18: =AVERAGE('150151'!BC19:BC20,'150152'!BC19:BC20,'150153'!BC19:BC20) -> 1 | K18: =AVERAGE('150251'!BC19:BC20,'150253'!BC19:BC20) -> 1 | M18: =AVERAGE('150351'!BC19:BC20,'150352'!BC19:BC20,'150353'!BC19:BC20) -> 1 | O18: =AVERAGE('150451'!BC19:BC20) -> 1 | Q18: =AVERAGE('150551'!BC19:BC20) -> 1 | S18: =AVERAGE('150651'!BC19:BC20,'150652'!BC19:BC20) -> 1 | U18: =AVERAGE('150751'!BC19:BC20) -> 1 | W18: =AVERAGE('150851'!BC19:BC20) -> 1 | Y18: =AVERAGE('150951'!BC19:BC20,'150952'!BC19:BC20,'150953'!BC19:BC20,'150954'!BC19:BC20) -> 1 | AA18: =AVERAGE('151051'!BC19:BC20) -> 1 | AC18: =AVERAGE('151151'!BC19:BC20) -> 1 | AE18: =AVERAGE('151251'!BC19:BC20,'151252'!BC19:BC20) -> 1.0001157 | AG18: =AVERAGE('151351'!BC19:BC20) -> 1 | AI18: =AVERAGE('151452'!BC19:BC20,'151453'!BC19:BC20) -> 1 | AK18: =AVERAGE('151551'!BC19:BC20) -> 1 | AM18: =AVERAGE('151651'!BC19:BC20,'151652'!BC19:BC20) -> 1 | AO18: =AVERAGE('151751'!BC19:BC20) -> 1 | AQ18: =AVERAGE('151851'!BC19:BC20,'151852'!BC19:BC20,'151853'!BC19:BC20) -> 1 | AS18: =AVERAGE('151951'!BC19:BC20,'151952'!BC19:BC20) -> 1 | AU18: =AVERAGE('152052'!BC19:BC20,'152053'!BC19:BC20,'152054'!BC19:BC20) -> 1 | AW18: =AVERAGE('152151'!BC19:BC20,'152152'!BB19:BB20) -> 1 | AY18: =AVERAGE('152251'!BC19:BC20,'152252'!BC19:BC20) -> 1 | BA18: =AVERAGE('152351'!BC19:BC20,'152352'!BC19:BC20,'152353'!BC19:BC20) -> 1 | BC18: =AVERAGE('152451'!BC19:BC20) -> 1 | BE18: =AVERAGE('152451'!BC19:BC20) -> 1 | BG18: =AVERAGE('152651'!BC19:BC20) -> 1 | BI18: =AVERAGE('152751'!BC19:BC20,'152752'!BC19:BC20,'152753'!BC19:BC20) -> 1 | BK18: =AVERAGE('152851'!BC19:BC20,'152853'!BC20:BC21) -> 1 | BM18: =AVERAGE('152951'!BC19:BC20) -> 1 | BO18: =AVERAGE('153051'!BC19:BC20,'153052'!BC19:BC20) -> 1 | BQ18: =AVERAGE('153151'!AI19:AI20) -> 1 | BS18: =AVERAGE('153251'!AI19:AI20) -> 1 | BU18: =AVERAGE('153351'!AI19:AI20) -> 1 | BW18: =AVERAGE('153451'!AI19:AI20) -> 1 | BY18: =AVERAGE('153551'!AI19:AI20,'153552'!AI19:AI20,'153553'!AI19:AI20) -> 1 | CA18: =AVERAGE('153651'!AI19:AI20,'153652'!AI19:AI20,'153653'!AI19:AI20,'153654'!AI19:AI20) -> 1 | CC18: =AVERAGE('153753'!AI19:AI20,'153752'!AI19:AI20) -> 1 | CE18: =AVERAGE('153851'!AI19:AI20,'153852'!AI19:AI20) -> 1 | CG18: =AVERAGE('153951'!AI19:AI20) -> 1 | CI18: =AVERAGE('154051'!AI19:AI20,'154052'!AI19:AI20,'154053'!AJ19:AJ20) -> 1 | CK18: =AVERAGE(I18,K18,M18,O18,Q18,S18,U18,W18,Y18,AA18,AC18,AE18,AG18,AI18,AK18,AM18,AO18,AQ18,AS18,AU18,AW18,AY18,BA18,BC18,BE18,BG18,BI18,BK18,BM18,BO18,BQ18,BS18,BU18,BW18,BY18,CA18,CC18,CE18,CG18,CI18) -> 1.0000029
H19: Credenciales recibidas
A21: 5 | B21: CONCILIACIÓN DE CREDENCIALES PARA VOTAR | C21: Responsable de Módulo | D21: Arqueo de Credenciales = | E21: (Credenciales disponibles (físicas)/ Credenciales disponibles registradas en SIIRFE) x 100 | F21: Semanal (remesa) | G21: 1 | H21: Credenciales disponibles (físicas) | I21: =AVERAGE('150151'!BC22:BC23,'150152'!BC22:BC23,'150153'!BC22:BC23) -> 1 | K21: =AVERAGE('150251'!BC22:BC23,'150253'!BC22:BC23) -> 1 | M21: =AVERAGE('150351'!BC22:BC23,'150352'!BC22:BC23,'150353'!BC22:BC23) -> 1 | O21: =AVERAGE('150451'!BC22:BC23) -> 1 | Q21: =AVERAGE('150551'!BC22:BC23) -> 1 | S21: =AVERAGE('150651'!BC22:BC23,'150652'!BC22:BC23) -> 1 | U21: =AVERAGE('150751'!BC22:BC23) -> 1 | W21: =AVERAGE('150851'!BC22:BC23) -> 1 | Y21: =AVERAGE('150951'!BC22:BC23,'150952'!BC22:BC23,'150953'!BC22:BC23,'150954'!BC22:BC23) -> 1 | AA21: =AVERAGE('151051'!BC22:BC23) -> 1 | AC21: =AVERAGE('151151'!BC22:BC23) -> 1 | AE21: =AVERAGE('151251'!BC22:BC23,'151252'!BC22:BC23) -> 1 | AG21: =AVERAGE('151351'!BC22:BC23) -> 1 | AI21: =AVERAGE('151452'!BC22:BC23,'151453'!BC22:BC23) -> 1 | AK21: =AVERAGE('151551'!BC22:BC23) -> 1 | AM21: =AVERAGE('151651'!BC22:BC23,'151652'!BC22:BC23) -> 1 | AO21: =AVERAGE('151751'!BC22:BC23) -> 1 | AQ21: =AVERAGE('151851'!BC22:BC23,'151852'!BC22:BC23,'151853'!BC22:BC23) -> 1 | AS21: =AVERAGE('151951'!BC22:BC23,'151952'!BC22:BC23) -> 1 | AU21: =AVERAGE('152052'!BC22:BC23,'152053'!BC22:BC23,'152054'!BC22:BC23) -> 1 | AW21: =AVERAGE('152151'!BC22:BC23,'152152'!BB22:BB23) -> 1 | AY21: =AVERAGE('152251'!BC22:BC23,'152252'!BC22:BC23) -> 1 | BA21: =AVERAGE('152351'!BC22:BC23,'152352'!BC22:BC23,'152353'!BC22:BC23) -> 1 | BC21: =AVERAGE('152451'!BC22:BC23) -> 1 | BE21: =AVERAGE('152451'!BC22:BC23) -> 1 | BG21: =AVERAGE('152651'!BC22:BC23) -> 1 | BI21: =AVERAGE('152751'!BC22:BC23,'152752'!BC22:BC23,'152753'!BC22:BC23) -> 1 | BK21: =AVERAGE('152851'!BC22:BC23,'152853'!BC23:BC24) -> 1 | BM21: =AVERAGE('152951'!BC22:BC23) -> 1 | BO21: =AVERAGE('153051'!BC22:BC23,'153052'!BC22:BC23) -> 1 | BQ21: =AVERAGE('153151'!AI22:AI23) -> 1 | BS21: =AVERAGE('153251'!AI22:AI23) -> 1 | BU21: =AVERAGE('153351'!AI22:AI23) -> 1 | BW21: =AVERAGE('153451'!AI22:AI23) -> 1 | BY21: =AVERAGE('153551'!AI22:AI23,'153552'!AI22:AI23,'153553'!AI22:AI23) -> 1 | CA21: =AVERAGE('153651'!AI22:AI23,'153652'!AI22:AI23,'153653'!AI22:AI23,'153654'!AI22:AI23) -> 1 | CC21: =AVERAGE('153753'!AI22:AI23,'153752'!AI22:AI23) -> 1 | CE21: =AVERAGE('153851'!AI22:AI23,'153852'!AI22:AI23) -> 1 | CG21: =AVERAGE('153951'!AI22:AI23) -> 1 | CI21: =AVERAGE('154051'!AI22:AI23,'154052'!AI22:AI23,'154053'!AJ22:AJ23) -> 1 | CK21: =AVERAGE(I21,K21,M21,O21,Q21,S21,U21,W21,Y21,AA21,AC21,AE21,AG21,AI21,AK21,AM21,AO21,AQ21,AS21,AU21,AW21,AY21,BA21,BC21,BE21,BG21,BI21,BK21,BM21,BO21,BQ21,BS21,BU21,BW21,BY21,CA21,CC21,CE21,CG21,CI21) -> 1
H22: Credenciales disponibles registradas en SIIRFE
A24: 6 | B24: ENTREGA DE LA CREDENCIAL PARA VOTAR | C24: Operador de Equipo Tecnológico | D24: Efectividad de entrega de CPV en MAC = | E24: (Total de credenciales entregadas / Total de ciudadanas y ciudadanos que acuden al MAC a recoger su credencial) x 100 | F24: Semanal (remesa) | G24: 0.9 | H24: Total de credenciales entregadas | I24: =AVERAGE('150151'!BC25:BC26,'150152'!BC25:BC26,'150153'!BC25:BC26) -> 1 | K24: =AVERAGE('150251'!BC25:BC26,'150253'!BC25:BC26) -> 0.99894449 | M24: =AVERAGE('150351'!BC25:BC26,'150352'!BC25:BC26,'150353'!BC25:BC26) -> 0.99960788 | O24: =AVERAGE('150451'!BC25:BC26) -> 0.99987854 | Q24: =AVERAGE('150551'!BC25:BC26) -> 0.99942994 | S24: =AVERAGE('150651'!BC25:BC26,'150652'!BC25:BC26) -> 0.99979391 | U24: =AVERAGE('150751'!BC25:BC26) -> 0.99987938 | W24: =AVERAGE('150851'!BC25:BC26) -> 0.99881983 | Y24: =AVERAGE('150951'!BC25:BC26,'150952'!BC25:BC26,'150953'!BC25:BC26,'150954'!BC25:BC26) -> 0.99967543 | AA24: =AVERAGE('151051'!BC25:BC26) -> 1 | AC24: =AVERAGE('151151'!BC25:BC26) -> 0.99988171 | AE24: =AVERAGE('151251'!BC25:BC26,'151252'!BC25:BC26) -> 1 | AG24: =AVERAGE('151351'!BC25:BC26) -> 0.99909632 | AI24: =AVERAGE('151452'!BC25:BC26,'151453'!BC25:BC26) -> 1 | AK24: =AVERAGE('151551'!BC25:BC26) -> 1 | AM24: =AVERAGE('151651'!BC25:BC26,'151652'!BC25:BC26) -> 1.0000893 | AO24: =AVERAGE('151751'!BC25:BC26) -> 1 | AQ24: =AVERAGE('151851'!BC25:BC26,'151852'!BC25:BC26,'151853'!BC25:BC26) -> 0.99976317 | AS24: =AVERAGE('151951'!BC25:BC26,'151952'!BC25:BC26) -> 1 | AU24: =AVERAGE('152052'!BC25:BC26,'152053'!BC25:BC26,'152054'!BC25:BC26) -> 1.0000159 | AW24: =AVERAGE('152151'!BC25:BC26,'152152'!BB25:BB26) -> 0.9997747 | AY24: =AVERAGE('152251'!BC25:BC26,'152252'!BC25:BC26) -> 0.99830208 | BA24: =AVERAGE('152351'!BC25:BC26,'152352'!BC25:BC26,'152353'!BC25:BC26) -> 0.99756162 | BC24: =AVERAGE('152451'!BC25:BC26) -> 1 | BE24: =AVERAGE('152451'!BC25:BC26) -> 1 | BG24: =AVERAGE('152651'!BC25:BC26) -> 1 | BI24: =AVERAGE('152751'!BC25:BC26,'152752'!BC25:BC26,'152753'!BC25:BC26) -> 0.99909648 | BK24: =AVERAGE('152851'!BC25:BC26,'152853'!BC26:BC27) -> 0.99977548 | BM24: =AVERAGE('152951'!BC25:BC26) -> 0.99991065 | BO24: =AVERAGE('153051'!BC25:BC26,'153052'!BC25:BC26) -> 0.99948183 | BQ24: =AVERAGE('153151'!AI25:AI26) -> 1 | BS24: =AVERAGE('153251'!AI25:AI26) -> 1 | BU24: =AVERAGE('153351'!AI25:AI26) -> 1 | BW24: =AVERAGE('153451'!AI25:AI26) -> 0.99912675 | BY24: =AVERAGE('153551'!AI25:AI26,'153552'!AI25:AI26,'153553'!AI25:AI26) -> 1 | CA24: =AVERAGE('153651'!AI25:AI26,'153652'!AI25:AI26,'153653'!AI25:AI26,'153654'!AI25:AI26) -> 1 | CC24: =AVERAGE('153753'!AI25:AI26,'153752'!AI25:AI26) -> 0.99919354 | CE24: =AVERAGE('153851'!AI25:AI26,'153852'!AI25:AI26) -> 1 | CG24: =AVERAGE('153951'!AI25:AI26) -> 1 | CI24: =AVERAGE('154051'!AI25:AI26,'154052'!AI25:AI26,'154053'!AJ25:AJ26) -> 0.99955589 | CK24: =AVERAGE(I24,K24,M24,O24,Q24,S24,U24,W24,Y24,AA24,AC24,AE24,AG24,AI24,AK24,AM24,AO24,AQ24,AS24,AU24,AW24,AY24,BA24,BC24,BE24,BG24,BI24,BK24,BM24,BO24,BQ24,BS24,BU24,BW24,BY24,CA24,CC24,CE24,CG24,CI24) -> 0.99966637
H25: Total de ciudadanas y ciudadanos que acuden al MAC a recoger su credencial

Sheet 150151
A1: ='PANEL DE CONTROL DISTRITAL'!A1:Q1 -> INSTITUTO NACIONAL ELECTORAL SISTEMA DE GESTIÓN DE LA CALIDAD ESTADO DE MÉXICO
D2: Distrito | E2: 1 | F2: Módulo | H2: 150151
A4: TABLERO DE CONTROL DE PROCESOS SUSTANTIVOS DEL SISTEMA DE GESTIÓN DE LA CALIDAD
A6: ='PANEL DE CONTROL DISTRITAL'!A6 -> Número | B6: ='PANEL DE CONTROL DISTRITAL'!B6 -> PROCESOS SUSTANTIVOS E INDICADORES | I6: SEMANA OPERATIVA | BC6: % AVANCE REGISTRADO
B7: ='PANEL DE CONTROL DISTRITAL'!B7 -> DESCRIPCIÓN | E7: ='PANEL DE CONTROL DISTRITAL'!E7 -> MEDICIÓN | I7: ='PANEL DE CONTROL DISTRITAL'!A5 -> CAMPAÑA ANUAL INTENSA 2024 CAMPAÑA ESPECIAL DE ACTUALIZACIÓN PARA EL PROCESO ELECTORAL EXTRAORDINARIO (CEAPEE) 2024-2025
B9: ='PANEL DE CONTROL DISTRITAL'!B8 -> Proceso | C9: ='PANEL DE CONTROL DISTRITAL'!C8 -> Dueño de Proceso | D9: ='PANEL DE CONTROL DISTRITAL'!D8 -> Indicador | E9: ='PANEL DE CONTROL DISTRITAL'!E8 -> Cálculo | F9: ='PANEL DE CONTROL DISTRITAL'!F8 -> Periodo | G9: ='PANEL DE CONTROL DISTRITAL'!G8 -> Estimado | H9: ='PANEL DE CONTROL DISTRITAL'!H8 -> Nominativo | I9: 2024-41 | J9: 2024-42 | K9: 2024-43 | L9: 2024-44 | M9: 2024-45 | N9: 2024-46 | O9: 2024-47 | P9: 2024-48 | Q9: 2024-49 | R9: 2024-50 | S9: 2024-51 | T9: 2024-52 | U9: 2024-53 | V9: 2024-54 | W9: 2024-55 | X9: 2024-56 | Y9: 2024-57 | Z9: 2024-58 | AA9: 2024-59 | AB9: 2025-01 | AC9: 2025-02 | AD9: 2025-03 | AE9: 2025-04 | AF9: 2025-05 | AG9: 2025-06 | AH9: 2025-07 | AI9: 2025-08 | AJ9: 2025-09 | AK9: 2025-10 | AL9: 2025-11 | AM9: 2025-12 | AN9: 2025-13 | AO9: 2025-14 | AP9: 2025-15 | AQ9: 2025-16 | AR9: 2025-17 | AS9: 2025-18 | AT9: 2025-19 | AU9: 2025-20 | AV9: 2025-21 | AW9: 2025-22 | AX9: 2025-23 | AY9: 2025-24 | AZ9: 2025-25 | BA9: 2025-26 | BB9: 2025-27
A10: ='PANEL DE CONTROL DISTRITAL'!A9 -> 1 | B10: ='PANEL DE CONTROL DISTRITAL'!B9 -> ENTREVISTA | C10: ='PANEL DE CONTROL DISTRITAL'!C9 -> Auxiliar de Atención Ciudadana | D10: ='PANEL DE CONTROL DISTRITAL'!D9 -> Fichas requisitadas correctamente= | E10: ='PANEL DE CONTROL DISTRITAL'!E9 -> (Fichas requisitadas correctamente / Fichas revisadas en la muestra del 10%) x 100 | F10: ='PANEL DE CONTROL DISTRITAL'!F9 -> Semanal (remesa) | G10: ='PANEL DE CONTROL DISTRITAL'!G9 -> 0.9 | H10: ='PANEL DE CONTROL DISTRITAL'!H9 -> Fichas requistadas correctamente | I10: 0 | J10: 40 | K10: 40 | L10: 31 | M10: 45 | N10: 35 | O10: 47 | P10: 48 | Q10: 49 | R10: 34 | S10: 48 | T10: 49 | U10: 43 | V10: 55 | W10: 53 | X10: 55 | Y10: 53 | Z10: 39 | AA10: 14 | AB10: 0 | AC10: 0 | AD10: 0 | BC10: =IFERROR(SUM(I10:BB10)/SUM(I11:BB11),0) -> 1
H11: ='PANEL DE CONTROL DISTRITAL'!H10 -> Fichas revisadas en la muestra del 10% | I11: 0 | J11: 40 | K11: 40 | L11: 31 | M11: 45 | N11: 35 | O11: 47 | P11: 48 | Q11: 49 | R11: 34 | S11: 48 | T11: 49 | U11: 43 | V11: 55 | W11: 53 | X11: 55 | Y11: 53 | Z11: 39 | AA11: 14 | AB11: 0 | AC11: 0 | AD11: 0
A13: ='PANEL DE CONTROL DISTRITAL'!A12 -> 2 | B13: ='PANEL DE CONTROL DISTRITAL'!B12 -> TRÁMITE | C13: ='PANEL DE CONTROL DISTRITAL'!C12 -> Operador de Equipo Tecnológico | D13: ='PANEL DE CONTROL DISTRITAL'!D12 -> Trámites exitosos efectivos= | E13: ='PANEL DE CONTROL DISTRITAL'!E12 -> (Número de trámites exitosos / Número de trámites aplicados) x 100 | F13: ='PANEL DE CONTROL DISTRITAL'!F12 -> Semanal (remesa) | G13: ='PANEL DE CONTROL DISTRITAL'!G12 -> 0.9 | H13: ='PANEL DE CONTROL DISTRITAL'!H12 -> Número de trámites exitosos | I13: 0 | J13: 398 | K13: 393 | L13: 302 | M13: 442 | N13: 347 | O13: 463 | P13: 479 | Q13: 482 | R13: 337 | S13: 478 | T13: 483 | U13: 426 | V13: 541 | W13: 524 | X13: 549 | Y13: 522 | Z13: 385 | AA13: 139 | AB13: 0 | AC13: 0 | AD13: 0 | BC13: =IFERROR(SUM(I13:BB13)/SUM(I14:BB14),0) -> 0.99818276
H14: ='PANEL DE CONTROL DISTRITAL'!H13 -> Número de trámites aplicados | I14: 0 | J14: 399 | K14: 393 | L14: 302 | M14: 442 | N14: 347 | O14: 463 | P14: 479 | Q14: 483 | R14: 339 | S14: 479 | T14: 483 | U14: 427 | V14: 542 | W14: 526 | X14: 549 | Y14: 523 | Z14: 389 | AA14: 139 | AB14: 0 | AC14: 0 | AD14: 0
A16: ='PANEL DE CONTROL DISTRITAL'!A15 -> 3 | B16: ='PANEL DE CONTROL DISTRITAL'!B15 -> TRANSFERENCIA DE LA INFORMACIÓN | C16: ='PANEL DE CONTROL DISTRITAL'!C15 -> Responsable de Módulo | D16: ='PANEL DE CONTROL DISTRITAL'!D15 -> Reenvíos exitosos = | E16: ='PANEL DE CONTROL DISTRITAL'!E15 -> (Ejecución de los scripts de reenvío de notificaciones/Solicitud de reenvíos de scripts requeridos) x100 | F16: ='PANEL DE CONTROL DISTRITAL'!F15 -> Semanal (remesa) | G16: ='PANEL DE CONTROL DISTRITAL'!G15 -> 1 | H16: ='PANEL DE CONTROL DISTRITAL'!H15 -> Ejecución de los scripts de reenvío de notificaciones | I16: 0 | J16: 0 | K16: 0 | L16: 0 | M16: 0 | N16: 0 | O16: 0 | P16: 0 | Q16: 0 | R16: 0 | S16: 0 | T16: 0 | U16: 0 | V16: 0 | W16: 0 | X16: 0 | Y16: 0 | Z16: 0 | AA16: 0 | AB16: 0 | AC16: 0 | AD16: 0 | BC16: =IFERROR(SUM(I16:BB16)/SUM(I17:BB17),1) -> 1
H17: ='PANEL DE CONTROL DISTRITAL'!H16 -> Solicitud de reevíos de scripts requeridos | I17: 0 | J17: 0 | K17: 0 | L17: 0 | M17: 0 | N17: 0 | O17: 0 | P17: 0 | Q17: 0 | R17: 0 | S17: 0 | T17: 0 | U17: 0 | V17: 0 | W17: 0 | X17: 0 | Y17: 0 | Z17: 0 | AA17: 0 | AB17: 0 | AC17: 0 | AD17: 0
A19: ='PANEL DE CONTROL DISTRITAL'!A18 -> 4 | B19: ='PANEL DE CONTROL DISTRITAL'!B18 -> CONCILIACIÓN DE CREDENCIALES PARA VOTAR | C19: ='PANEL DE CONTROL DISTRITAL'!C18 -> Responsable de Módulo | D19: ='PANEL DE CONTROL DISTRITAL'!D18 -> Credenciales disponibles para entrega = | E19: ='PANEL DE CONTROL DISTRITAL'!E18 -> [(Credenciales recibidas - credenciales inconsistentes) / Credenciales recibidas] x 100 | F19: ='PANEL DE CONTROL DISTRITAL'!F18 -> Semanal (remesa) | G19: ='PANEL DE CONTROL DISTRITAL'!G18 -> 0.9 | H19: ='PANEL DE CONTROL DISTRITAL'!H18 -> Credenciales Recibidas - Credenciales inconsistentes | I19: 0 | J19: 478 | K19: 389 | L19: 201 | M19: 543 | N19: 348 | O19: 439 | P19: 398 | Q19: 531 | R19: 483 | S19: 358 | T19: 448 | U19: 432 | V19: 525 | W19: 432 | X19: 644 | Y19: 443 | Z19: 253 | AA19: 269 | AB19: 0 | AC19: 0 | AD19: 0 | BC19: =IFERROR(SUM(I19:BB19)/SUM(I20:BB20),0) -> 1
H20: ='PANEL DE CONTROL DISTRITAL'!H19 -> Credenciales recibidas | I20: 0 | J20: 478 | K20: 389 | L20: 201 | M20: 543 | N20: 348 | O20: 439 | P20: 398 | Q20: 531 | R20: 483 | S20: 358 | T20: 448 | U20: 432 | V20: 525 | W20: 432 | X20: 644 | Y20: 443 | Z20: 253 | AA20: 269 | AB20: 0 | AC20: 0 | AD20: 0
A22: ='PANEL DE CONTROL DISTRITAL'!A21 -> 5 | B22: ='PANEL DE CONTROL DISTRITAL'!B21 -> CONCILIACIÓN DE CREDENCIALES PARA VOTAR | C22: ='PANEL DE CONTROL DISTRITAL'!C21 -> Responsable de Módulo | D22: ='PANEL DE CONTROL DISTRITAL'!D21 -> Arqueo de Credenciales = | E22: ='PANEL DE CONTROL DISTRITAL'!E21 -> (Credenciales disponibles (físicas)/ Credenciales disponibles registradas en SIIRFE) x 100 | F22: ='PANEL DE CONTROL DISTRITAL'!F21 -> Semanal (remesa) | G22: ='PANEL DE CONTROL DISTRITAL'!G21 -> 1 | H22: ='PANEL DE CONTROL DISTRITAL'!H21 -> Credenciales disponibles (físicas) | I22: 0 | J22: 670 | K22: 603 | L22: 424 | M22: 640 | N22: 585 | O22: 633 | P22: 595 | Q22: 662 | R22: 763 | S22: 572 | T22: 633 | U22: 624 | V22: 718 | W22: 638 | X22: 758 | Y22: 636 | Z22: 428 | AA22: 511 | AB22: 0 | AC22: 0 | AD22: 0 | BC22: =IFERROR(SUM(I22:BB22)/SUM(I23:BB23),0) -> 1
H23: ='PANEL DE CONTROL DISTRITAL'!H22 -> Credenciales disponibles registradas en SIIRFE | I23: 0 | J23: 670 | K23: 603 | L23: 424 | M23: 640 | N23: 585 | O23: 633 | P23: 595 | Q23: 662 | R23: 763 | S23: 572 | T23: 633 | U23: 624 | V23: 718 | W23: 638 | X23: 758 | Y23: 636 | Z23: 428 | AA23: 511 | AB23: 0 | AC23: 0 | AD23: 0
A25: ='PANEL DE CONTROL DISTRITAL'!A24 -> 6 | B25: ='PANEL DE CONTROL DISTRITAL'!B24 -> ENTREGA DE LA CREDENCIAL PARA VOTAR | C25: ='PANEL DE CONTROL DISTRITAL'!C24 -> Operador de Equipo Tecnológico | D25: ='PANEL DE CONTROL DISTRITAL'!D24 -> Efectividad de entrega de CPV en MAC = | E25: ='PANEL DE CONTROL DISTRITAL'!E24 -> (Total de credenciales entregadas / Total de ciudadanas y ciudadanos que acuden al MAC a recoger su credencial) x 100 | F25: ='PANEL DE CONTROL DISTRITAL'!F24 -> Semanal (remesa) | G25: ='PANEL DE CONTROL DISTRITAL'!G24 -> 0.9 | H25: ='PANEL DE CONTROL DISTRITAL'!H24 -> Total de credenciales entregadas | I25: 0 | J25: 478 | K25: 455 | L25: 380 | M25: 327 | N25: 393 | O25: 391 | P25: 434 | Q25: 464 | R25: 382 | S25: 549 | T25: 387 | U25: 441 | V25: 426 | W25: 512 | X25: 524 | Y25: 565 | Z25: 461 | AA25: 184 | AB25: 0 | AC25: 0 | AD25: 0 | BC25: =IFERROR(SUM(I25:BB25)/SUM(I26:BB26),0) -> 1
H26: ='PANEL DE CONTROL DISTRITAL'!H25 -> Total de ciudadanas y ciudadanos que acuden al MAC a recoger su credencial | I26: 0 | J26: 478 | K26: 455 | L26: 380 | M26: 327 | N26: 393 | O26: 391 | P26: 434 | Q26: 464 | R26: 382 | S26: 549 | T26: 387 | U26: 441 | V26: 426 | W26: 512 | X26: 524 | Y26: 565 | Z26: 461 | AA26: 184 | AB26: 0 | AC26: 0 | AD26: 0
B27: *Registre el valor nominal solicitado en la celda, el resultado proporcional esta automatizado.
I29: Semaforización
J30: Valor que requiere atención y justificación en el apartado de observaciones
J31: Valor suficiente
J32: Valor esperado
B34: CUADRO DE OBSERVACIONES
B35: Descripción | H35: No conformidad

Sheet 150152
A1: ='PANEL DE CONTROL DISTRITAL'!A1:Q1 -> INSTITUTO NACIONAL ELECTORAL SISTEMA DE GESTIÓN DE LA CALIDAD ESTADO DE MÉXICO
D2: Distrito | E2: 1 | F2: Módulo | H2: 150152
A4: TABLERO DE CONTROL DE PROCESOS SUSTANTIVOS DEL SISTEMA DE GESTIÓN DE LA CALIDAD
A6: ='PANEL DE CONTROL DISTRITAL'!A6 -> Número | B6: ='PANEL DE CONTROL DISTRITAL'!B6 -> PROCESOS SUSTANTIVOS E INDICADORES | I6: SEMANA OPERATIVA | BC6: % AVANCE REGISTRADO
B7: ='PANEL DE CONTROL DISTRITAL'!B7 -> DESCRIPCIÓN | E7: ='PANEL DE CONTROL DISTRITAL'!E7 -> MEDICIÓN | I7: ='PANEL DE CONTROL DISTRITAL'!A5 -> CAMPAÑA ANUAL INTENSA 2024 CAMPAÑA ESPECIAL DE ACTUALIZACIÓN PARA EL PROCESO ELECTORAL EXTRAORDINARIO (CEAPEE) 2024-2025
B9: ='PANEL DE CONTROL DISTRITAL'!B8 -> Proceso | C9: ='PANEL DE CONTROL DISTRITAL'!C8 -> Dueño de Proceso | D9: ='PANEL DE CONTROL DISTRITAL'!D8 -> Indicador | E9: ='PANEL DE CONTROL DISTRITAL'!E8 -> Cálculo | F9: ='PANEL DE CONTROL DISTRITAL'!F8 -> Periodo | G9: ='PANEL DE CONTROL DISTRITAL'!G8 -> Estimado | H9: ='PANEL DE CONTROL DISTRITAL'!H8 -> Nominativo | I9: ='150151'!I9 -> 2024-41 | J9: ='150151'!J9 -> 2024-42 | K9: ='150151'!K9 -> 2024-43 | L9: ='150151'!L9 -> 2024-44 | M9: ='150151'!M9 -> 2024-45 | N9: ='150151'!N9 -> 2024-46 | O9: ='150151'!O9 -> 2024-47 | P9: ='150151'!P9 -> 2024-48 | ... X9: ='150151'!X9 -> 2024-56 | Y9: 2024-57 | Z9: 2024-58 | AA9: 2024-59 | AB9: 2025-01 | AC9: 2025-02 | AD9: 2025-03 | AE9: 2025-04 | AF9: 2025-05 | AG9: 2025-06 | AH9: 2025-07 | AI9: 2025-08 | AJ9: 2025-09 | AK9: 2025-10 | AL9: 2025-11 | AM9: 2025-12 | AN9: 2025-13 | AO9: 2025-14 | AP9: 2025-15 | AQ9: 2025-16 | AR9: 2025-17 | AS9: 2025-18 | AT9: 2025-19 | AU9: 2025-20 | AV9: 2025-21 | AW9: 2025-22 | AX9: 2025-23 | AY9: 2025-24 | AZ9: 2025-25 | BA9: 2025-26 | BB9: 2025-27
A10: ='PANEL DE CONTROL DISTRITAL'!A9 -> 1 | B10: ='PANEL DE CONTROL DISTRITAL'!B9 -> ENTREVISTA | C10: ='PANEL DE CONTROL DISTRITAL'!C9 -> Auxiliar de Atención Ciudadana | D10: ='PANEL DE CONTROL DISTRITAL'!D9 -> Fichas requisitadas correctamente= | E10: ='PANEL DE CONTROL DISTRITAL'!E9 -> (Fichas requisitadas correctamente / Fichas revisadas en la muestra del 10%) x 100 | F10: ='PANEL DE CONTROL DISTRITAL'!F9 -> Semanal (remesa) | G10: ='PANEL DE CONTROL DISTRITAL'!G9 -> 0.9 | H10: ='PANEL DE CONTROL DISTRITAL'!H9 -> Fichas requistadas correctamente | I10: 0 | J10: 32 | K10: 22 | L10: 11 | M10: 24 | N10: 13 | O10: 22 | P10: 29 | Q10: 21 | R10: 32 | S10: 17 | T10: 39 | U10: 25 | V10: 29 | W10: 27 | X10: 19 | Y10: 17 | Z10: 7 | AA10: 3 | AB10: 0 | AC10: 0 | AD10: 0 | BC10: =IFERROR(SUM(I10:BB10)/SUM(I11:BB11),0) -> 1
H11: ='PANEL DE CONTROL DISTRITAL'!H10 -> Fichas revisadas en la muestra del 10% | I11: 0 | J11: 32 | K11: 22 | L11: 11 | M11: 24 | N11: 13 | O11: 22 | P11: 29 | Q11: 21 | R11: 32 | S11: 17 | T11: 39 | U11: 25 | V11: 29 | W11: 27 | X11: 19 | Y11: 17 | Z11: 7 | AA11: 3 | AB11: 0 | AC11: 0 | AD11: 0
A13: ='PANEL DE CONTROL DISTRITAL'!A12 -> 2 | B13: ='PANEL DE CONTROL DISTRITAL'!B12 -> TRÁMITE | C13: ='PANEL DE CONTROL DISTRITAL'!C12 -> Operador de Equipo Tecnológico | D13: ='PANEL DE CONTROL DISTRITAL'!D12 -> Trámites exitosos efectivos= | E13: ='PANEL DE CONTROL DISTRITAL'!E12 -> (Número de trámites exitosos / Número de trámites aplicados) x 100 | F13: ='PANEL DE CONTROL DISTRITAL'!F12 -> Semanal (remesa) | G13: ='PANEL DE CONTROL DISTRITAL'!G12 -> 0.9 | H13: ='PANEL DE CONTROL DISTRITAL'!H12 -> Número de trámites exitosos | I13: 0 | J13: 318 | K13: 211 | L13: 107 | M13: 236 | N13: 130 | O13: 216 | P13: 286 | Q13: 201 | R13: 314 | S13: 164 | T13: 387 | U13: 248 | V13: 289 | W13: 261 | X13: 188 | Y13: 164 | Z13: 61 | AA13: 23 | AB13: 0 | AC13: 0 | AD13: 0 | BC13: =IFERROR(SUM(I13:BB13)/SUM(I14:BB14),0) -> 0.99868732
H14: ='PANEL DE CONTROL DISTRITAL'!H13 -> Número de trámites aplicados | I14: 0 | J14: 319 | K14: 212 | L14: 107 | M14: 236 | N14: 130 | O14: 216 | P14: 286 | Q14: 201 | R14: 314 | S14: 165 | T14: 388 | U14: 248 | V14: 289 | W14: 262 | X14: 188 | Y14: 164 | Z14: 61 | AA14: 23 | AB14: 0 | AC14: 0 | AD14: 0
A16: ='PANEL DE CONTROL DISTRITAL'!A15 -> 3 | B16: ='PANEL DE CONTROL DISTRITAL'!B15 -> TRANSFERENCIA DE LA INFORMACIÓN | C16: ='PANEL DE CONTROL DISTRITAL'!C15 -> Responsable de Módulo | D16: ='PANEL DE CONTROL DISTRITAL'!D15 -> Reenvíos exitosos = | E16: ='PANEL DE CONTROL DISTRITAL'!E15 -> (Ejecución de los scripts de reenvío de notificaciones/Solicitud de reenvíos de scripts requeridos) x100 | F16: ='PANEL DE CONTROL DISTRITAL'!F15 -> Semanal (remesa) | G16: ='PANEL DE CONTROL DISTRITAL'!G15 -> 1 | H16: ='PANEL DE CONTROL DISTRITAL'!H15 -> Ejecución de los scripts de reenvío de notificaciones | I16: 0 | J16: 0 | K16: 0 | L16: 0 | M16: 0 | N16: 0 | O16: 0 | P16: 0 | Q16: 0 | R16: 0 | S16: 0 | T16: 0 | U16: 0 | V16: 0 | W16: 0 | X16: 0 | Y16: 0 | Z16: 0 | AA16: 0 | AB16: 0 | AC16: 0 | AD16: 0 | BC16: =IFERROR(SUM(I16:BB16)/SUM(J17:BB17),1) -> 1
H17: ='PANEL DE CONTROL DISTRITAL'!H16 -> Solicitud de reevíos de scripts requeridos | I17: 0 | J17: 0 | K17: 0 | L17: 0 | M17: 0 | N17: 0 | O17: 0 | P17: 0 | Q17: 0 | R17: 0 | S17: 0 | T17: 0 | U17: 0 | V17: 0 | W17: 0 | X17: 0 | Y17: 0 | Z17: 0 | AA17: 0 | AB17: 0 | AC17: 0 | AD17: 0
A19: ='PANEL DE CONTROL DISTRITAL'!A18 -> 4 | B19: ='PANEL DE CONTROL DISTRITAL'!B18 -> CONCILIACIÓN DE CREDENCIALES PARA VOTAR | C19: ='PANEL DE CONTROL DISTRITAL'!C18 -> Responsable de Módulo | D19: ='PANEL DE CONTROL DISTRITAL'!D18 -> Credenciales disponibles para entrega = | E19: ='PANEL DE CONTROL DISTRITAL'!E18 -> [(Credenciales recibidas - credenciales inconsistentes) / Credenciales recibidas] x 100 | F19: ='PANEL DE CONTROL DISTRITAL'!F18 -> Semanal (remesa) | G19: ='PANEL DE CONTROL DISTRITAL'!G18 -> 0.9 | H19: ='PANEL DE CONTROL DISTRITAL'!H18 -> Credenciales Recibidas - Credenciales inconsistentes | I19: 0 | J19: 217 | K19: 308 | L19: 84 | M19: 221 | N19: 190 | O19: 136 | P19: 194 | Q19: 294 | R19: 267 | S19: 256 | T19: 246 | U19: 308 | V19: 267 | W19: 273 | X19: 280 | Y19: 118 | Z19: 102 | AA19: 61 | AB19: 0 | AC19: 0 | AD19: 0 | BC19: =IFERROR(SUM(I19:BB19)/SUM(I20:BB20),0) -> 1
H20: ='PANEL DE CONTROL DISTRITAL'!H19 -> Credenciales recibidas | I20: 0 | J20: 217 | K20: 308 | L20: 84 | M20: 221 | N20: 190 | O20: 136 | P20: 194 | Q20: 294 | R20: 267 | S20: 256 | T20: 246 | U20: 308 | V20: 267 | W20: 273 | X20: 280 | Y20: 118 | Z20: 102 | AA20: 61 | AB20: 0 | AC20: 0 | AD20: 0
A22: ='PANEL DE CONTROL DISTRITAL'!A21 -> 5 | B22: ='PANEL DE CONTROL DISTRITAL'!B21 -> CONCILIACIÓN DE CREDENCIALES PARA VOTAR | C22: ='PANEL DE CONTROL DISTRITAL'!C21 -> Responsable de Módulo | D22: ='PANEL DE CONTROL DISTRITAL'!D21 -> Arqueo de Credenciales = | E22: ='PANEL DE CONTROL DISTRITAL'!E21 -> (Credenciales disponibles (físicas)/ Credenciales disponibles registradas en SIIRFE) x 100 | F22: ='PANEL DE CONTROL DISTRITAL'!F21 -> Semanal (remesa) | G22: ='PANEL DE CONTROL DISTRITAL'!G21 -> 1 | H22: ='PANEL DE CONTROL DISTRITAL'!H21 -> Credenciales disponibles (físicas) | I22: 0 | J22: 491 | K22: 544 | L22: 408 | M22: 381 | N22: 477 | O22: 410 | P22: 402 | Q22: 503 | R22: 523 | S22: 607 | T22: 518 | U22: 626 | V22: 551 | W22: 602 | X22: 645 | Y22: 386 | Z22: 320 | AA22: 287 | AB22: 0 | AC22: 0 | AD22: 0 | BC22: =IFERROR(SUM(I22:BB22)/SUM(I23:BB23),0) -> 1
H23: ='PANEL DE CONTROL DISTRITAL'!H22 -> Credenciales disponibles registradas en SIIRFE | I23: 0 | J23: 491 | K23: 544 | L23: 408 | M23: 381 | N23: 477 | O23: 410 | P23: 402 | Q23: 503 | R23: 523 | S23: 607 | T23: 518 | U23: 626 | V23: 551 | W23: 602 | X23: 645 | Y23: 386 | Z23: 320 | AA23: 287 | AB23: 0 | AC23: 0 | AD23: 0
A25: ='PANEL DE CONTROL DISTRITAL'!A24 -> 6 | B25: ='PANEL DE CONTROL DISTRITAL'!B24 -> ENTREGA DE LA CREDENCIAL PARA VOTAR | C25: ='PANEL DE CONTROL DISTRITAL'!C24 -> Operador de Equipo Tecnológico | D25: ='PANEL DE CONTROL DISTRITAL'!D24 -> Efectividad de entrega de CPV en MAC = | E25: ='PANEL DE CONTROL DISTRITAL'!E24 -> (Total de credenciales entregadas / Total de ciudadanas y ciudadanos que acuden al MAC a recoger su credencial) x 100 | F25: ='PANEL DE CONTROL DISTRITAL'!F24 -> Semanal (remesa) | G25: ='PANEL DE CONTROL DISTRITAL'!G24 -> 0.9 | H25: ='PANEL DE CONTROL DISTRITAL'!H24 -> Total de credenciales entregadas | I25: 0 | J25: 263 | K25: 255 | L25: 220 | M25: 248 | N25: 94 | O25: 203 | P25: 200 | Q25: 193 | R25: 247 | S25: 172 | T25: 335 | U25: 200 | V25: 340 | W25: 222 | X25: 237 | Y25: 377 | Z25: 168 | AA25: 94 | AB25: 0 | AC25: 0 | AD25: 0 | BC25: =IFERROR(SUM(I25:BB25)/SUM(I26:BB26),0) -> 1
H26: ='PANEL DE CONTROL DISTRITAL'!H25 -> Total de ciudadanas y ciudadanos que acuden al MAC a recoger su credencial | I26: 0 | J26: 263 | K26: 255 | L26: 220 | M26: 248 | N26: 94 | O26: 203 | P26: 200 | Q26: 193 | R26: 247 | S26: 172 | T26: 335 | U26: 200 | V26: 340 | W26: 222 | X26: 237 | Y26: 377 | Z26: 168 | AA26: 94 | AB26: 0 | AC26: 0 | AD26: 0
B27: *Registre el valor nominal solicitado en la celda, el resultado proporcional esta automatizado.
I29: Semaforización
J30: Valor que requiere atención y justificación en el apartado de observaciones
J31: Valor suficiente
J32: Valor esperado
B34: CUADRO DE OBSERVACIONES
B35: Descripción | H35: No conformidad

Sheet 150153
A1: ='PANEL DE CONTROL DISTRITAL'!A1:Q1 -> INSTITUTO NACIONAL ELECTORAL SISTEMA DE GESTIÓN DE LA CALIDAD ESTADO DE MÉXICO
D2: Distrito | E2: 1 | F2: Módulo | H2: 150153
A4: TABLERO DE CONTROL DE PROCESOS SUSTANTIVOS DEL SISTEMA DE GESTIÓN DE LA CALIDAD
A6: ='PANEL DE CONTROL DISTRITAL'!A6 -> Número | B6: ='PANEL DE CONTROL DISTRITAL'!B6 -> PROCESOS SUSTANTIVOS E INDICADORES | I6: SEMANA OPERATIVA | BC6: % AVANCE REGISTRADO
B7: ='PANEL DE CONTROL DISTRITAL'!B7 -> DESCRIPCIÓN | E7: ='PANEL DE CONTROL DISTRITAL'!E7 -> MEDICIÓN | I7: ='PANEL DE CONTROL DISTRITAL'!A5 -> CAMPAÑA ANUAL INTENSA 2024 CAMPAÑA ESPECIAL DE ACTUALIZACIÓN PARA EL PROCESO ELECTORAL EXTRAORDINARIO (CEAPEE) 2024-2025
B9: ='PANEL DE CONTROL DISTRITAL'!B8 -> Proceso | C9: ='PANEL DE CONTROL DISTRITAL'!C8 -> Dueño de Proceso | D9: ='PANEL DE CONTROL DISTRITAL'!D8 -> Indicador | E9: ='PANEL DE CONTROL DISTRITAL'!E8 -> Cálculo | F9: ='PANEL DE CONTROL DISTRITAL'!F8 -> Periodo | G9: ='PANEL DE CONTROL DISTRITAL'!G8 -> Estimado | H9: ='PANEL DE CONTROL DISTRITAL'!H8 -> Nominativo | I9: ='150151'!I9 -> 2024-41 | J9: ='150151'!J9 -> 2024-42 | K9: ='150151'!K9 -> 2024-43 | L9: ='150151'!L9 -> 2024-44 | M9: ='150151'!M9 -> 2024-45 | N9: ='150151'!N9 -> 2024-46 | O9: ='150151'!O9 -> 2024-47 | P9: ='150151'!P9 -> 2024-48 | ... X9: ='150151'!X9 -> 2024-56 | Y9: 2024-57 | Z9: 2024-58 | AA9: 2024-59 | AB9: 2025-01 | AC9: 2025-02 | AD9: 2025-03 | AE9: 2025-04 | AF9: 2025-05 | AG9: 2025-06 | AH9: 2025-07 | AI9: 2025-08 | AJ9: 2025-09 | AK9: 2025-10 | AL9: 2025-11 | AM9: 2025-12 | AN9: 2025-13 | AO9: 2025-14 | AP9: 2025-15 | AQ9: 2025-16 | AR9: 2025-17 | AS9: 2025-18 | AT9: 2025-19 | AU9: 2025-20 | AV9: 2025-21 | AW9: 2025-22 | AX9: 2025-23 | AY9: 2025-24 | AZ9: 2025-25 | BA9: 2025-26 | BB9: 2025-27
A10: ='PANEL DE CONTROL DISTRITAL'!A9 -> 1 | B10: ='PANEL DE CONTROL DISTRITAL'!B9 -> ENTREVISTA | C10: ='PANEL DE CONTROL DISTRITAL'!C9 -> Auxiliar de Atención Ciudadana | D10: ='PANEL DE CONTROL DISTRITAL'!D9 -> Fichas requisitadas correctamente= | E10: ='PANEL DE CONTROL DISTRITAL'!E9 -> (Fichas requisitadas correctamente / Fichas revisadas en la muestra del 10%) x 100 | F10: ='PANEL DE CONTROL DISTRITAL'!F9 -> Semanal (remesa) | G10: ='PANEL DE CONTROL DISTRITAL'!G9 -> 0.9 | H10: ='PANEL DE CONTROL DISTRITAL'!H9 -> Fichas requistadas correctamente | I10: 0 | J10: 21 | K10: 13 | L10: 13 | M10: 17 | N10: 15 | O10: 15 | P10: 19 | Q10: 14 | R10: 17 | S10: 17 | T10: 21 | U10: 23 | V10: 27 | W10: 29 | X10: 29 | Y10: 19 | Z10: 3 | AA10: 4 | AB10: 0 | AC10: 0 | AD10: 0 | BC10: =IFERROR(SUM(I10:BB10)/SUM(I11:BB11),0) -> 1
H11: ='PANEL DE CONTROL DISTRITAL'!H10 -> Fichas revisadas en la muestra del 10% | I11: 0 | J11: 21 | K11: 13 | L11: 13 | M11: 17 | N11: 15 | O11: 15 | P11: 19 | Q11: 14 | R11: 17 | S11: 17 | T11: 21 | U11: 23 | V11: 27 | W11: 29 | X11: 29 | Y11: 19 | Z11: 3 | AA11: 4 | AB11: 0 | AC11: 0 | AD11: 0
A13: ='PANEL DE CONTROL DISTRITAL'!A12 -> 2 | B13: ='PANEL DE CONTROL DISTRITAL'!B12 -> TRÁMITE | C13: ='PANEL DE CONTROL DISTRITAL'!C12 -> Operador de Equipo Tecnológico | D13: ='PANEL DE CONTROL DISTRITAL'!D12 -> Trámites exitosos efectivos= | E13: ='PANEL DE CONTROL DISTRITAL'!E12 -> (Número de trámites exitosos / Número de trámites aplicados) x 100 | F13: ='PANEL DE CONTROL DISTRITAL'!F12 -> Semanal (remesa) | G13: ='PANEL DE CONTROL DISTRITAL'!G12 -> 0.9 | H13: ='PANEL DE CONTROL DISTRITAL'!H12 -> Número de trámites exitosos | I13: 0 | J13: 201 | K13: 126 | L13: 126 | M13: 162 | N13: 143 | O13: 146 | P13: 187 | Q13: 139 | R13: 163 | S13: 165 | T13: 200 | U13: 222 | V13: 267 | W13: 289 | X13: 285 | Y13: 186 | Z13: 30 | AA13: 33 | AB13: 0 | AC13: 0 | AD13: 0 | BC13: =IFERROR(SUM(I13:BB13)/SUM(I14:BB14),0) -> 0.99772506
H14: ='PANEL DE CONTROL DISTRITAL'!H13 -> Número de trámites aplicados | I14: 0 | J14: 201 | K14: 126 | L14: 126 | M14: 162 | N14: 143 | O14: 146 | P14: 188 | Q14: 140 | R14: 163 | S14: 166 | T14: 201 | U14: 222 | V14: 267 | W14: 289 | X14: 287 | Y14: 187 | Z14: 30 | AA14: 33 | AB14: 0 | AC14: 0 | AD14: 0
A16: ='PANEL DE CONTROL DISTRITAL'!A15 -> 3 | B16: ='PANEL DE CONTROL DISTRITAL'!B15 -> TRANSFERENCIA DE LA INFORMACIÓN | C16: ='PANEL DE CONTROL DISTRITAL'!C15 -> Responsable de Módulo | D16: ='PANEL DE CONTROL DISTRITAL'!D15 -> Reenvíos exitosos = | E16: ='PANEL DE CONTROL DISTRITAL'!E15 -> (Ejecución de los scripts de reenvío de notificaciones/Solicitud de reenvíos de scripts requeridos) x100 | F16: ='PANEL DE CONTROL DISTRITAL'!F15 -> Semanal (remesa) | G16: ='PANEL DE CONTROL DISTRITAL'!G15 -> 1 | H16: ='PANEL DE CONTROL DISTRITAL'!H15 -> Ejecución de los scripts de reenvío de notificaciones | I16: 0 | J16: 0 | K16: 0 | L16: 0 | M16: 0 | N16: 0 | O16: 0 | P16: 0 | Q16: 0 | R16: 0 | S16: 1 | T16: 1 | U16: 0 | V16: 0 | W16: 0 | X16: 0 | Y16: 0 | Z16: 0 | AA16: 0 | AB16: 0 | AC16: 0 | BC16: =IFERROR(SUM(I16:BB16)/SUM(I17:BB17),1) -> 1
H17: ='PANEL DE CONTROL DISTRITAL'!H16 -> Solicitud de reevíos de scripts requeridos | I17: 0 | J17: 0 | K17: 0 | L17: 0 | M17: 0 | N17: 0 | O17: 0 | P17: 0 | Q17: 0 | R17: 0 | S17: 1 | T17: 1 | U17: 0 | V17: 0 | W17: 0 | X17: 0 | Y17: 0 | Z17: 0 | AA17: 0 | AB17: 0 | AC17: 0
A19: ='PANEL DE CONTROL DISTRITAL'!A18 -> 4 | B19: ='PANEL DE CONTROL DISTRITAL'!B18 -> CONCILIACIÓN DE CREDENCIALES PARA VOTAR | C19: ='PANEL DE CONTROL DISTRITAL'!C18 -> Responsable de Módulo | D19: ='PANEL DE CONTROL DISTRITAL'!D18 -> Credenciales disponibles para entrega = | E19: ='PANEL DE CONTROL DISTRITAL'!E18 -> [(Credenciales recibidas - credenciales inconsistentes) / Credenciales recibidas] x 100 | F19: ='PANEL DE CONTROL DISTRITAL'!F18 -> Semanal (remesa) | G19: ='PANEL DE CONTROL DISTRITAL'!G18 -> 0.9 | H19: ='PANEL DE CONTROL DISTRITAL'!H18 -> Credenciales Recibidas - Credenciales inconsistentes | I19: 0 | J19: 187 | K19: 160 | L19: 67 | M19: 208 | N19: 108 | O19: 170 | P19: 146 | Q19: 170 | R19: 188 | S19: 111 | T19: 222 | U19: 146 | V19: 298 | W19: 169 | X19: 424 | Y19: 176 | Z19: 116 | AA19: 34 | AB19: 0 | AC19: 0 | AD19: 0 | BC19: =IFERROR(SUM(I19:BB19)/SUM(I20:BB20),0) -> 1
H20: ='PANEL DE CONTROL DISTRITAL'!H19 -> Credenciales recibidas | I20: 0 | J20: 187 | K20: 160 | L20: 67 | M20: 208 | N20: 108 | O20: 170 | P20: 146 | Q20: 170 | R20: 188 | S20: 111 | T20: 222 | U20: 146 | V20: 298 | W20: 169 | X20: 424 | Y20: 176 | Z20: 116 | AA20: 34 | AB20: 0 | AC20: 0 | AD20: 0
A22: ='PANEL DE CONTROL DISTRITAL'!A21 -> 5 | B22: ='PANEL DE CONTROL DISTRITAL'!B21 -> CONCILIACIÓN DE CREDENCIALES PARA VOTAR | C22: ='PANEL DE CONTROL DISTRITAL'!C21 -> Responsable de Módulo | D22: ='PANEL DE CONTROL DISTRITAL'!D21 -> Arqueo de Credenciales = | E22: ='PANEL DE CONTROL DISTRITAL'!E21 -> (Credenciales disponibles (físicas)/ Credenciales disponibles registradas en SIIRFE) x 100 | F22: ='PANEL DE CONTROL DISTRITAL'!F21 -> Semanal (remesa) | G22: ='PANEL DE CONTROL DISTRITAL'!G21 -> 1 | H22: ='PANEL DE CONTROL DISTRITAL'!H21 -> Credenciales disponibles (físicas) | I22: 0 | J22: 325 | K22: 245 | L22: 207 | M22: 249 | N22: 226 | O22: 240 | P22: 231 | Q22: 242 | R22: 263 | S22: 229 | T22: 310 | U22: 302 | V22: 401 | W22: 302 | X22: 493 | Y22: 239 | Z22: 248 | AA22: 211 | AB22: 0 | AC22: 0 | AD22: 0 | BC22: =IFERROR(SUM(I22:BB22)/SUM(I23:BB23),0) -> 1
H23: ='PANEL DE CONTROL DISTRITAL'!H22 -> Credenciales disponibles registradas en SIIRFE | I23: 0 | J23: 325 | K23: 245 | L23: 207 | M23: 249 | N23: 226 | O23: 240 | P23: 231 | Q23: 242 | R23: 263 | S23: 229 | T23: 310 | U23: 302 | V23: 401 | W23: 302 | X23: 493 | Y23: 239 | Z23: 248 | AA23: 211 | AB23: 0 | AC23: 0 | AD23: 0
A25: ='PANEL DE CONTROL DISTRITAL'!A24 -> 6 | B25: ='PANEL DE CONTROL DISTRITAL'!B24 -> ENTREGA DE LA CREDENCIAL PARA VOTAR | C25: ='PANEL DE CONTROL DISTRITAL'!C24 -> Operador de Equipo Tecnológico | D25: ='PANEL DE CONTROL DISTRITAL'!D24 -> Efectividad de entrega de CPV en MAC = | E25: ='PANEL DE CONTROL DISTRITAL'!E24 -> (Total de credenciales entregadas / Total de ciudadanas y ciudadanos que acuden al MAC a recoger su credencial) x 100 | F25: ='PANEL DE CONTROL DISTRITAL'!F24 -> Semanal (remesa) | G25: ='PANEL DE CONTROL DISTRITAL'!G24 -> 0.9 | H25: ='PANEL DE CONTROL DISTRITAL'!H24 -> Total de credenciales entregadas | I25: 0 | J25: 312 | K25: 240 | L25: 105 | M25: 166 | N25: 131 | O25: 156 | P25: 153 | Q25: 159 | R25: 167 | S25: 145 | T25: 141 | U25: 154 | V25: 197 | W25: 268 | X25: 233 | Y25: 430 | Z25: 107 | AA25: 69 | AB25: 0 | AC25: 0 | AD25: 0 | BC25: =IFERROR(SUM(I25:BB25)/SUM(I26:BB26),0) -> 1
H26: ='PANEL DE CONTROL DISTRITAL'!H25 -> Total de ciudadanas y ciudadanos que acuden al MAC a recoger su credencial | I26: 0 | J26: 312 | K26: 240 | L26: 105 | M26: 166 | N26: 131 | O26: 156 | P26: 153 | Q26: 159 | R26: 167 | S26: 145 | T26: 141 | U26: 154 | V26: 197 | W26: 268 | X26: 233 | Y26: 430 | Z26: 107 | AA26: 69 | AB26: 0 | AC26: 0 | AD26: 0
B27: *Registre el valor nominal solicitado en la celda, el resultado proporcional esta automatizado.
I29: Semaforización
J30: Valor que requiere atención y justificación en el apartado de observaciones
J31: Valor suficiente
J32: Valor esperado
B34: CUADRO DE OBSERVACIONES
B35: Descripción | H35: No conformidad

Sheet 150251
A1: ='PANEL DE CONTROL DISTRITAL'!A1:Q1 -> INSTITUTO NACIONAL ELECTORAL SISTEMA DE GESTIÓN DE LA CALIDAD ESTADO DE MÉXICO
D2: Distrito | E2: 2 | F2: Módulo | H2: 150251
A4: TABLERO DE CONTROL DE PROCESOS SUSTANTIVOS DEL SISTEMA DE GESTIÓN DE LA CALIDAD
A6: ='PANEL DE CONTROL DISTRITAL'!A6 -> Número | B6: ='PANEL DE CONTROL DISTRITAL'!B6 -> PROCESOS SUSTANTIVOS E INDICADORES | I6: SEMANA OPERATIVA | BC6: % AVANCE REGISTRADO
B7: ='PANEL DE CONTROL DISTRITAL'!B7 -> DESCRIPCIÓN | E7: ='PANEL DE CONTROL DISTRITAL'!E7 -> MEDICIÓN | I7: ='PANEL DE CONTROL DISTRITAL'!A5 -> CAMPAÑA ANUAL INTENSA 2024 CAMPAÑA ESPECIAL DE ACTUALIZACIÓN PARA EL PROCESO ELECTORAL EXTRAORDINARIO (CEAPEE) 2024-2025
B9: ='PANEL DE CONTROL DISTRITAL'!B8 -> Proceso | C9: ='PANEL DE CONTROL DISTRITAL'!C8 -> Dueño de Proceso | D9: ='PANEL DE CONTROL DISTRITAL'!D8 -> Indicador | E9: ='PANEL DE CONTROL DISTRITAL'!E8 -> Cálculo | F9: ='PANEL DE CONTROL DISTRITAL'!F8 -> Periodo | G9: ='PANEL DE CONTROL DISTRITAL'!G8 -> Estimado | H9: ='PANEL DE CONTROL DISTRITAL'!H8 -> Nominativo | I9: ='150151'!I9 -> 2024-41 | J9: ='150151'!J9 -> 2024-42 | K9: ='150151'!K9 -> 2024-43 | L9: ='150151'!L9 -> 2024-44 | M9: ='150151'!M9 -> 2024-45 | N9: ='150151'!N9 -> 2024-46 | O9: ='150151'!O9 -> 2024-47 | P9: ='150151'!P9 -> 2024-48 | ... X9: ='150151'!X9 -> 2024-56 | Y9: 2024-57 | Z9: 2024-58 | AA9: 2024-59 | AB9: 2025-01 | AC9: 2025-02 | AD9: 2025-03 | AE9: 2025-04 | AF9: 2025-05 | AG9: 2025-06 | AH9: 2025-07 | AI9: 2025-08 | AJ9: 2025-09 | AK9: 2025-10 | AL9: 2025-11 | AM9: 2025-12 | AN9: 2025-13 | AO9: 2025-14 | AP9: 2025-15 | AQ9: 2025-16 | AR9: 2025-17 | AS9: 2025-18 | AT9: 2025-19 | AU9: 2025-20 | AV9: 2025-21 | AW9: 2025-22 | AX9: 2025-23 | AY9: 2025-24 | AZ9: 2025-25 | BA9: 2025-26 | BB9: 2025-27
A10: ='PANEL DE CONTROL DISTRITAL'!A9 -> 1 | B10: ='PANEL DE CONTROL DISTRITAL'!B9 -> ENTREVISTA | C10: ='PANEL DE CONTROL DISTRITAL'!C9 -> Auxiliar de Atención Ciudadana | D10: ='PANEL DE CONTROL DISTRITAL'!D9 -> Fichas requisitadas correctamente= | E10: ='PANEL DE CONTROL DISTRITAL'!E9 -> (Fichas requisitadas correctamente / Fichas revisadas en la muestra del 10%) x 100 | F10: ='PANEL DE CONTROL DISTRITAL'!F9 -> Semanal (remesa) | G10: ='PANEL DE CONTROL DISTRITAL'!G9 -> 0.9 | H10: ='PANEL DE CONTROL DISTRITAL'!H9 -> Fichas requistadas correctamente | I10: 0 | J10: 56 | K10: 51 | L10: 42 | M10: 59 | N10: 45 | O10: 64 | P10: 70 | Q10: 71 | R10: 54 | S10: 67 | T10: 72 | U10: 57 | V10: 71 | W10: 63 | X10: 58 | Y10: 67 | Z10: 44 | AA10: 14 | BC10: =IFERROR(SUM(I10:BB10)/SUM(I11:BB11),0) -> 0.99129594
H11: ='PANEL DE CONTROL DISTRITAL'!H10 -> Fichas revisadas en la muestra del 10% | I11: 0 | J11: 58 | K11: 55 | L11: 44 | M11: 61 | N11: 45 | O11: 64 | P11: 71 | Q11: 71 | R11: 54 | S11: 67 | T11: 72 | U11: 57 | V11: 71 | W11: 63 | X11: 58 | Y11: 65 | Z11: 44 | AA11: 14
A13: ='PANEL DE CONTROL DISTRITAL'!A12 -> 2 | B13: ='PANEL DE CONTROL DISTRITAL'!B12 -> TRÁMITE | C13: ='PANEL DE CONTROL DISTRITAL'!C12 -> Operador de Equipo Tecnológico | D13: ='PANEL DE CONTROL DISTRITAL'!D12 -> Trámites exitosos efectivos= | E13: ='PANEL DE CONTROL DISTRITAL'!E12 -> (Número de trámites exitosos / Número de trámites aplicados) x 100 | F13: ='PANEL DE CONTROL DISTRITAL'!F12 -> Semanal (remesa) | G13: ='PANEL DE CONTROL DISTRITAL'!G12 -> 0.9 | H13: ='PANEL DE CONTROL DISTRITAL'!H12 -> Número de trámites exitosos | I13: 0 | J13: 586 | K13: 552 | L13: 443 | M13: 614 | N13: 451 | O13: 648 | P13: 716 | Q13: 709 | R13: 543 | S13: 678 | T13: 723 | U13: 572 | V13: 716 | W13: 633 | X13: 582 | Y13: 676 | Z13: 433 | AA13: 144 | BC13: =IFERROR(SUM(I13:BB13)/SUM(I14:BB14),0) -> 0.9986581
H14: ='PANEL DE CONTROL DISTRITAL'!H13 -> Número de trámites aplicados | I14: 0 | J14: 586 | K14: 553 | L14: 443 | M14: 616 | N14: 451 | O14: 649 | P14: 717 | Q14: 712 | R14: 544 | S14: 678 | T14: 725 | U14: 572 | V14: 717 | W14: 634 | X14: 583 | Y14: 676 | Z14: 433 | AA14: 144
A15: 2
A16: ='PANEL DE CONTROL DISTRITAL'!A15 -> 3 | B16: ='PANEL DE CONTROL DISTRITAL'!B15 -> TRANSFERENCIA DE LA INFORMACIÓN | C16: ='PANEL DE CONTROL DISTRITAL'!C15 -> Responsable de Módulo | D16: ='PANEL DE CONTROL DISTRITAL'!D15 -> Reenvíos exitosos = | E16: ='PANEL DE CONTROL DISTRITAL'!E15 -> (Ejecución de los scripts de reenvío de notificaciones/Solicitud de reenvíos de scripts requeridos) x100 | F16: ='PANEL DE CONTROL DISTRITAL'!F15 -> Semanal (remesa) | G16: ='PANEL DE CONTROL DISTRITAL'!G15 -> 1 | H16: ='PANEL DE CONTROL DISTRITAL'!H15 -> Ejecución de los scripts de reenvío de notificaciones | I16: 0 | J16: 0 | K16: 2 | L16: 3 | M16: 0 | N16: 0 | O16: 0 | P16: 2 | Q16: 1 | R16: 0 | S16: 0 | T16: 2 | U16: 1 | V16: 7 | W16: 1 | X16: 2 | Y16: 2 | Z16: 2 | AA16: 1 | BC16: =IFERROR(SUM(I16:BB16)/SUM(I17:BB17),1) -> 1
H17: ='PANEL DE CONTROL DISTRITAL'!H16 -> Solicitud de reevíos de scripts requeridos | I17: 0 | J17: 0 | K17: 2 | L17: 3 | M17: 0 | N17: 0 | O17: 0 | P17: 2 | Q17: 1 | R17: 0 | S17: 0 | T17: 2 | U17: 1 | V17: 7 | W17: 1 | X17: 2 | Y17: 2 | Z17: 2 | AA17: 1
A18: 2
A19: ='PANEL DE CONTROL DISTRITAL'!A18 -> 4 | B19: ='PANEL DE CONTROL DISTRITAL'!B18 -> CONCILIACIÓN DE CREDENCIALES PARA VOTAR | C19: ='PANEL DE CONTROL DISTRITAL'!C18 -> Responsable de Módulo | D19: ='PANEL DE CONTROL DISTRITAL'!D18 -> Credenciales disponibles para entrega = | E19: ='PANEL DE CONTROL DISTRITAL'!E18 -> [(Credenciales recibidas - credenciales inconsistentes) / Credenciales recibidas] x 100 | F19: ='PANEL DE CONTROL DISTRITAL'!F18 -> Semanal (remesa) | G19: ='PANEL DE CONTROL DISTRITAL'!G18 -> 0.9 | H19: ='PANEL DE CONTROL DISTRITAL'!H18 -> Credenciales Recibidas - Credenciales inconsistentes | I19: 0 | J19: 646 | K19: 671 | L19: 333 | M19: 712 | N19: 490 | O19: 561 | P19: 686 | Q19: 725 | R19: 665 | S19: 531 | T19: 606 | U19: 726 | V19: 726 | W19: 673 | X19: 567 | Y19: 388 | Z19: 814 | AA19: 135 | BC19: =IFERROR(SUM(I19:BB19)/SUM(I20:BB20),0) -> 1
H20: ='PANEL DE CONTROL DISTRITAL'!H19 -> Credenciales recibidas | I20: 0 | J20: 646 | K20: 671 | L20: 333 | M20: 712 | N20: 490 | O20: 561 | P20: 686 | Q20: 725 | R20: 665 | S20: 531 | T20: 606 | U20: 726 | V20: 726 | W20: 673 | X20: 567 | Y20: 388 | Z20: 814 | AA20: 135
A22: ='PANEL DE CONTROL DISTRITAL'!A21 -> 5 | B22: ='PANEL DE CONTROL DISTRITAL'!B21 -> CONCILIACIÓN DE CREDENCIALES PARA VOTAR | C22: ='PANEL DE CONTROL DISTRITAL'!C21 -> Responsable de Módulo | D22: ='PANEL DE CONTROL DISTRITAL'!D21 -> Arqueo de Credenciales = | E22: ='PANEL DE CONTROL DISTRITAL'!E21 -> (Credenciales disponibles (físicas)/ Credenciales disponibles registradas en SIIRFE) x 100 | F22: ='PANEL DE CONTROL DISTRITAL'!F21 -> Semanal (remesa) | G22: ='PANEL DE CONTROL DISTRITAL'!G21 -> 1 | H22: ='PANEL DE CONTROL DISTRITAL'!H21 -> Credenciales disponibles (físicas) | I22: 0 | J22: 880 | K22: 935 | L22: 736 | M22: 978 | N22: 856 | O22: 923 | P22: 1075 | Q22: 1127 | R22: 1217 | S22: 984 | T22: 990 | U22: 1059 | V22: 1149 | W22: 1150 | X22: 1041 | Y22: 814 | Z22: 880 | AA22: 858 | BC22: =IFERROR(SUM(I22:BB22)/SUM(I23:BB23),0) -> 1
H23: ='PANEL DE CONTROL DISTRITAL'!H22 -> Credenciales disponibles registradas en SIIRFE | I23: 0 | J23: 880 | K23: 935 | L23: 736 | M23: 978 | N23: 856 | O23: 923 | P23: 1075 | Q23: 1127 | R23: 1217 | S23: 984 | T23: 990 | U23: 1059 | V23: 1149 | W23: 1150 | X23: 1041 | Y23: 814 | Z23: 880 | AA23: 858
A25: ='PANEL DE CONTROL DISTRITAL'!A24 -> 6 | B25: ='PANEL DE CONTROL DISTRITAL'!B24 -> ENTREGA DE LA CREDENCIAL PARA VOTAR | C25: ='PANEL DE CONTROL DISTRITAL'!C24 -> Operador de Equipo Tecnológico | D25: ='PANEL DE CONTROL DISTRITAL'!D24 -> Efectividad de entrega de CPV en MAC = | E25: ='PANEL DE CONTROL DISTRITAL'!E24 -> (Total de credenciales entregadas / Total de ciudadanas y ciudadanos que acuden al MAC a recoger su credencial) x 100 | F25: ='PANEL DE CONTROL DISTRITAL'!F24 -> Semanal (remesa) | G25: ='PANEL DE CONTROL DISTRITAL'!G24 -> 0.9 | H25: ='PANEL DE CONTROL DISTRITAL'!H24 -> Total de credenciales entregadas | I25: 0 | J25: 628 | K25: 616 | L25: 532 | M25: 470 | N25: 612 | O25: 494 | P25: 528 | Q25: 673 | R25: 575 | S25: 764 | T25: 600 | U25: 657 | V25: 631 | W25: 672 | X25: 676 | Y25: 615 | Z25: 584 | AA25: 157 | BC25: =IFERROR(SUM(I25:BB25)/SUM(I26:BB26),0) -> 0.99914229
H26: ='PANEL DE CONTROL DISTRITAL'!H25 -> Total de ciudadanas y ciudadanos que acuden al MAC a recoger su credencial | I26: 0 | J26: 628 | K26: 616 | L26: 533 | M26: 470 | N26: 612 | O26: 495 | P26: 529 | Q26: 673 | R26: 575 | S26: 765 | T26: 602 | U26: 658 | V26: 631 | W26: 672 | X26: 676 | Y26: 617 | Z26: 584 | AA26: 157
B27: *Registre el valor nominal solicitado en la celda, el resultado proporcional esta automatizado.
I29: Semaforización
J30: Valor que requiere atención y justificación en el apartado de observaciones
J31: Valor suficiente
J32: Valor esperado
B34: CUADRO DE OBSERVACIONES
B35: Descripción | H35: No conformidad

Sheet 150253
A1: ='PANEL DE CONTROL DISTRITAL'!A1:Q1 -> INSTITUTO NACIONAL ELECTORAL SISTEMA DE GESTIÓN DE LA CALIDAD ESTADO DE MÉXICO
D2: Distrito | E2: 2 | F2: Módulo | H2: 150253
A4: TABLERO DE CONTROL DE PROCESOS SUSTANTIVOS DEL SISTEMA DE GESTIÓN DE LA CALIDAD
A6: ='PANEL DE CONTROL DISTRITAL'!A6 -> Número | B6: ='PANEL DE CONTROL DISTRITAL'!B6 -> PROCESOS SUSTANTIVOS E INDICADORES | I6: SEMANA OPERATIVA | BC6: % AVANCE REGISTRADO
B7: ='PANEL DE CONTROL DISTRITAL'!B7 -> DESCRIPCIÓN | E7: ='PANEL DE CONTROL DISTRITAL'!E7 -> MEDICIÓN | I7: ='PANEL DE CONTROL DISTRITAL'!A5 -> CAMPAÑA ANUAL INTENSA 2024 CAMPAÑA ESPECIAL DE ACTUALIZACIÓN PARA EL PROCESO ELECTORAL EXTRAORDINARIO (CEAPEE) 2024-2025
B9: ='PANEL DE CONTROL DISTRITAL'!B8 -> Proceso | C9: ='PANEL DE CONTROL DISTRITAL'!C8 -> Dueño de Proceso | D9: ='PANEL DE CONTROL DISTRITAL'!D8 -> Indicador | E9: ='PANEL DE CONTROL DISTRITAL'!E8 -> Cálculo | F9: ='PANEL DE CONTROL DISTRITAL'!F8 -> Periodo | G9: ='PANEL DE CONTROL DISTRITAL'!G8 -> Estimado | H9: ='PANEL DE CONTROL DISTRITAL'!H8 -> Nominativo | I9: ='150151'!I9 -> 2024-41 | J9: ='150151'!J9 -> 2024-42 | K9: ='150151'!K9 -> 2024-43 | L9: ='150151'!L9 -> 2024-44 | M9: ='150151'!M9 -> 2024-45 | N9: ='150151'!N9 -> 2024-46 | O9: ='150151'!O9 -> 2024-47 | P9: ='150151'!P9 -> 2024-48 | ... X9: ='150151'!X9 -> 2024-56 | Y9: 2024-57 | Z9: 2024-58 | AA9: 2024-59 | AB9: 2025-01 | AC9: 2025-02 | AD9: 2025-03 | AE9: 2025-04 | AF9: 2025-05 | AG9: 2025-06 | AH9: 2025-07 | AI9: 2025-08 | AJ9: 2025-09 | AK9: 2025-10 | AL9: 2025-11 | AM9: 2025-12 | AN9: 2025-13 | AO9: 2025-14 | AP9: 2025-15 | AQ9: 2025-16 | AR9: 2025-17 | AS9: 2025-18 | AT9: 2025-19 | AU9: 2025-20 | AV9: 2025-21 | AW9: 2025-22 | AX9: 2025-23 | AY9: 2025-24 | AZ9: 2025-25 | BA9: 2025-26 | BB9: 2025-27
A10: ='PANEL DE CONTROL DISTRITAL'!A9 -> 1 | B10: ='PANEL DE CONTROL DISTRITAL'!B9 -> ENTREVISTA | C10: ='PANEL DE CONTROL DISTRITAL'!C9 -> Auxiliar de Atención Ciudadana | D10: ='PANEL DE CONTROL DISTRITAL'!D9 -> Fichas requisitadas correctamente= | E10: ='PANEL DE CONTROL DISTRITAL'!E9 -> (Fichas requisitadas correctamente / Fichas revisadas en la muestra del 10%) x 100 | F10: ='PANEL DE CONTROL DISTRITAL'!F9 -> Semanal (remesa) | G10: ='PANEL DE CONTROL DISTRITAL'!G9 -> 0.9 | H10: ='PANEL DE CONTROL DISTRITAL'!H9 -> Fichas requistadas correctamente | I10: 0 | J10: 115 | K10: 88 | L10: 59 | M10: 90 | N10: 86 | O10: 98 | P10: 98 | Q10: 100 | R10: 85 | S10: 99 | T10: 89 | U10: 72 | V10: 104 | W10: 98 | X10: 94 | Y10: 101 | Z10: 66 | AA10: 20 | BC10: =IFERROR(SUM(I10:BB10)/SUM(I11:BB11),0) -> 1
H11: ='PANEL DE CONTROL DISTRITAL'!H10 -> Fichas revisadas en la muestra del 10% | I11: 0 | J11: 115 | K11: 88 | L11: 59 | M11: 90 | N11: 86 | O11: 98 | P11: 98 | Q11: 100 | R11: 85 | S11: 99 | T11: 89 | U11: 72 | V11: 104 | W11: 98 | X11: 94 | Y11: 101 | Z11: 66 | AA11: 20
